Index of /checkResults/release/bioc-LATEST/esATAC/raw-results/kjohnson1

[ICO]NameLast modifiedSizeDescription

[DIR]Parent Directory  -  
[TXT]buildbin-out.txt17-Jul-2024 06:42 7.5K 
[   ]buildbin-summary.dcf17-Jul-2024 06:42 525  
[TXT]buildsrc-out.txt17-Jul-2024 06:42 882  
[   ]buildsrc-summary.dcf17-Jul-2024 06:42 425  
[TXT]checksrc-out.txt17-Jul-2024 06:42 5.5K 
[   ]checksrc-summary.dcf17-Jul-2024 06:42 440  
[TXT]install-out.txt17-Jul-2024 06:42 5.5K 
[   ]install-summary.dcf17-Jul-2024 06:42 268