Back to Multiple platform build/check report for BioC 3.13
ABCD[E]FGHIJKLMNOPQRSTUVWXYZ

This page was generated on 2021-09-20 15:05:12 -0400 (Mon, 20 Sep 2021).

INSTALL results for erma on tokay2

To the developers/maintainers of the erma package:
- Please allow up to 24 hours (and sometimes 48 hours) for your latest push to git@git.bioconductor.org:packages/erma.git to
reflect on this report. See How and When does the builder pull? When will my changes propagate? here for more information.
- Make sure to use the following settings in order to reproduce any error or warning you see on this page.

raw results

Package 593/2041HostnameOS / ArchINSTALLBUILDCHECKBUILD BIN
erma 1.8.0  (landing page)
VJ Carey
Snapshot Date: 2021-09-19 04:50:10 -0400 (Sun, 19 Sep 2021)
git_url: https://git.bioconductor.org/packages/erma
git_branch: RELEASE_3_13
git_last_commit: 6958ee9
git_last_commit_date: 2021-05-19 12:14:10 -0400 (Wed, 19 May 2021)
nebbiolo1Linux (Ubuntu 20.04.2 LTS) / x86_64  OK    OK    OK  UNNEEDED, same version is already published
tokay2Windows Server 2012 R2 Standard / x64  OK    OK    OK    OK  UNNEEDED, same version is already published
machv2macOS 10.14.6 Mojave / x86_64  OK    OK    OK    OK  UNNEEDED, same version is already published

Summary

Package: erma
Version: 1.8.0
Command: C:\cygwin\bin\curl.exe -O http://155.52.207.165/BBS/3.13/bioc/src/contrib/erma_1.8.0.tar.gz && rm -rf erma.buildbin-libdir && mkdir erma.buildbin-libdir && C:\Users\biocbuild\bbs-3.13-bioc\R\bin\R.exe CMD INSTALL --merge-multiarch --build --library=erma.buildbin-libdir erma_1.8.0.tar.gz && C:\Users\biocbuild\bbs-3.13-bioc\R\bin\R.exe CMD INSTALL erma_1.8.0.zip && rm erma_1.8.0.tar.gz erma_1.8.0.zip
StartedAt: 2021-09-19 10:16:03 -0400 (Sun, 19 Sep 2021)
EndedAt: 2021-09-19 10:19:40 -0400 (Sun, 19 Sep 2021)
EllapsedTime: 217.5 seconds
RetCode: 0
Status:   OK  

Command output

##############################################################################
##############################################################################
###
### Running command:
###
###   C:\cygwin\bin\curl.exe -O http://155.52.207.165/BBS/3.13/bioc/src/contrib/erma_1.8.0.tar.gz && rm -rf erma.buildbin-libdir && mkdir erma.buildbin-libdir && C:\Users\biocbuild\bbs-3.13-bioc\R\bin\R.exe CMD INSTALL --merge-multiarch --build --library=erma.buildbin-libdir erma_1.8.0.tar.gz && C:\Users\biocbuild\bbs-3.13-bioc\R\bin\R.exe CMD INSTALL erma_1.8.0.zip && rm erma_1.8.0.tar.gz erma_1.8.0.zip
###
##############################################################################
##############################################################################


  % Total    % Received % Xferd  Average Speed   Time    Time     Time  Current
                                 Dload  Upload   Total   Spent    Left  Speed

  0     0    0     0    0     0      0      0 --:--:-- --:--:-- --:--:--     0
  0  197M    0 1865k    0     0  2247k      0  0:01:29 --:--:--  0:01:29 2247k
  2  197M    2 5732k    0     0  3146k      0  0:01:04  0:00:01  0:01:03 3146k
  5  197M    5 10.3M    0     0  3765k      0  0:00:53  0:00:02  0:00:51 3764k
  8  197M    8 16.0M    0     0  4303k      0  0:00:46  0:00:03  0:00:43 4303k
 11  197M   11 22.1M    0     0  4703k      0  0:00:42  0:00:04  0:00:38 4703k
 14  197M   14 29.2M    0     0  5126k      0  0:00:39  0:00:05  0:00:34 5603k
 18  197M   18 35.8M    0     0  5383k      0  0:00:37  0:00:06  0:00:31 6198k
 22  197M   22 43.4M    0     0  5669k      0  0:00:35  0:00:07  0:00:28 6738k
 25  197M   25 50.5M    0     0  5861k      0  0:00:34  0:00:08  0:00:26 7050k
 29  197M   29 58.5M    0     0  6103k      0  0:00:33  0:00:09  0:00:24 7455k
 34  197M   34 68.2M    0     0  6456k      0  0:00:31  0:00:10  0:00:21 8018k
 40  197M   40 79.5M    0     0  6895k      0  0:00:29  0:00:11  0:00:18 8955k
 46  197M   46 92.3M    0     0  7373k      0  0:00:27  0:00:12  0:00:15  9.8M
 53  197M   53  105M    0     0  7821k      0  0:00:25  0:00:13  0:00:12 11.0M
 60  197M   60  119M    0     0  8285k      0  0:00:24  0:00:14  0:00:10 12.2M
 68  197M   68  134M    0     0  8695k      0  0:00:23  0:00:15  0:00:08 13.2M
 76  197M   76  150M    0     0  9166k      0  0:00:22  0:00:16  0:00:06 14.1M
 84  197M   84  167M    0     0  9630k      0  0:00:20  0:00:17  0:00:03 15.0M
 94  197M   94  185M    0     0   9.8M      0  0:00:20  0:00:18  0:00:02 16.0M
100  197M  100  197M    0     0  10.0M      0  0:00:19  0:00:19 --:--:-- 16.3M

install for i386

* installing *source* package 'erma' ...
** using staged installation
** R
** data
** inst
** byte-compile and prepare package for lazy loading
** help
*** installing help indices
  converting help for package 'erma'
    finding HTML links ... done
    ErmaSet-class                           html  
    finding level-2 HTML links ... done

    erma-package                            html  
    genemodel                               html  
    mapmeta                                 html  
    stateProfile                            html  
    states_25                               html  
** building package indices
** installing vignettes
** testing if installed package can be loaded from temporary location
** testing if installed package can be loaded from final location
** testing if installed package keeps a record of temporary installation path

install for x64

* installing *source* package 'erma' ...
** testing if installed package can be loaded
* MD5 sums
packaged installation of 'erma' as erma_1.8.0.zip
* DONE (erma)
* installing to library 'C:/Users/biocbuild/bbs-3.13-bioc/R/library'
package 'erma' successfully unpacked and MD5 sums checked