Back to Multiple platform build/check report for BioC 3.14
ABCD[E]FGHIJKLMNOPQRSTUVWXYZ

This page was generated on 2021-12-03 13:05:14 -0500 (Fri, 03 Dec 2021).

BUILD BIN results for epivizrStandalone on tokay2

To the developers/maintainers of the epivizrStandalone package:
- Please allow up to 24 hours (and sometimes 48 hours) for your latest push to git@git.bioconductor.org:packages/epivizrStandalone.git to
reflect on this report. See How and When does the builder pull? When will my changes propagate? here for more information.
- Make sure to use the following settings in order to reproduce any error or warning you see on this page.

raw results

Package 600/2083HostnameOS / ArchINSTALLBUILDCHECKBUILD BIN
epivizrStandalone 1.22.0  (landing page)
Hector Corrada Bravo
Snapshot Date: 2021-12-02 01:55:06 -0500 (Thu, 02 Dec 2021)
git_url: https://git.bioconductor.org/packages/epivizrStandalone
git_branch: RELEASE_3_14
git_last_commit: f6cc682
git_last_commit_date: 2021-10-26 12:27:54 -0500 (Tue, 26 Oct 2021)
nebbiolo2Linux (Ubuntu 20.04.3 LTS) / x86_64  OK    OK    OK  UNNEEDED, same version is already published
tokay2Windows Server 2012 R2 Standard / x64  OK    OK    OK    OK  UNNEEDED, same version is already published
machv2macOS 10.14.6 Mojave / x86_64  OK    OK    OK    OK  UNNEEDED, same version is already published

Summary

Package: epivizrStandalone
Version: 1.22.0
Command: rm -rf epivizrStandalone.buildbin-libdir && mkdir epivizrStandalone.buildbin-libdir && C:\Users\biocbuild\bbs-3.14-bioc\R\bin\R.exe CMD INSTALL --merge-multiarch --build --library=epivizrStandalone.buildbin-libdir epivizrStandalone_1.22.0.tar.gz
StartedAt: 2021-12-03 07:29:57 -0500 (Fri, 03 Dec 2021)
EndedAt: 2021-12-03 07:30:56 -0500 (Fri, 03 Dec 2021)
EllapsedTime: 58.9 seconds
RetCode: 0
Status:   OK  
PackageFile: epivizrStandalone_1.22.0.zip
PackageFileSize: 259.3 KiB

Command output

##############################################################################
##############################################################################
###
### Running command:
###
###   rm -rf epivizrStandalone.buildbin-libdir && mkdir epivizrStandalone.buildbin-libdir && C:\Users\biocbuild\bbs-3.14-bioc\R\bin\R.exe CMD INSTALL --merge-multiarch --build --library=epivizrStandalone.buildbin-libdir epivizrStandalone_1.22.0.tar.gz
###
##############################################################################
##############################################################################



install for i386

* installing *source* package 'epivizrStandalone' ...
** using staged installation
** R
** inst
** byte-compile and prepare package for lazy loading
** help
*** installing help indices
  converting help for package 'epivizrStandalone'
    finding HTML links ... done
    setStandalone                           html  
    startStandalone                         html  
    startStandaloneApp                      html  
** building package indices
** installing vignettes
** testing if installed package can be loaded from temporary location
** testing if installed package can be loaded from final location
** testing if installed package keeps a record of temporary installation path

install for x64

* installing *source* package 'epivizrStandalone' ...
** testing if installed package can be loaded
* MD5 sums
packaged installation of 'epivizrStandalone' as epivizrStandalone_1.22.0.zip
* DONE (epivizrStandalone)