Back to Multiple platform build/check report for BioC 3.13
ABCD[E]FGHIJKLMNOPQRSTUVWXYZ

This page was generated on 2021-09-20 15:04:48 -0400 (Mon, 20 Sep 2021).

INSTALL results for epivizrStandalone on nebbiolo1

To the developers/maintainers of the epivizrStandalone package:
- Please allow up to 24 hours (and sometimes 48 hours) for your latest push to git@git.bioconductor.org:packages/epivizrStandalone.git to
reflect on this report. See How and When does the builder pull? When will my changes propagate? here for more information.
- Make sure to use the following settings in order to reproduce any error or warning you see on this page.

raw results

Package 591/2041HostnameOS / ArchINSTALLBUILDCHECKBUILD BIN
epivizrStandalone 1.20.0  (landing page)
Hector Corrada Bravo
Snapshot Date: 2021-09-19 04:50:10 -0400 (Sun, 19 Sep 2021)
git_url: https://git.bioconductor.org/packages/epivizrStandalone
git_branch: RELEASE_3_13
git_last_commit: fd34eef
git_last_commit_date: 2021-05-19 12:20:32 -0400 (Wed, 19 May 2021)
nebbiolo1Linux (Ubuntu 20.04.2 LTS) / x86_64  OK    OK    OK  UNNEEDED, same version is already published
tokay2Windows Server 2012 R2 Standard / x64  OK    OK    OK    OK  UNNEEDED, same version is already published
machv2macOS 10.14.6 Mojave / x86_64  OK    OK    OK    OK  UNNEEDED, same version is already published

Summary

Package: epivizrStandalone
Version: 1.20.0
Command: /home/biocbuild/bbs-3.13-bioc/R/bin/R CMD INSTALL epivizrStandalone
StartedAt: 2021-09-19 06:30:49 -0400 (Sun, 19 Sep 2021)
EndedAt: 2021-09-19 06:31:26 -0400 (Sun, 19 Sep 2021)
EllapsedTime: 37.1 seconds
RetCode: 0
Status:   OK  

Command output

##############################################################################
##############################################################################
###
### Running command:
###
###   /home/biocbuild/bbs-3.13-bioc/R/bin/R CMD INSTALL epivizrStandalone
###
##############################################################################
##############################################################################


* installing to library ‘/home/biocbuild/bbs-3.13-bioc/R/library’
* installing *source* package ‘epivizrStandalone’ ...
** using staged installation
** R
** byte-compile and prepare package for lazy loading
** help
*** installing help indices
** building package indices
** installing vignettes
** testing if installed package can be loaded from temporary location
** testing if installed package can be loaded from final location
** testing if installed package keeps a record of temporary installation path
* DONE (epivizrStandalone)