Back to Multiple platform build/check report for BioC 3.13
ABCD[E]FGHIJKLMNOPQRSTUVWXYZ

This page was generated on 2021-09-24 15:05:18 -0400 (Fri, 24 Sep 2021).

All results for package epivizrStandalone

To the developers/maintainers of the epivizrStandalone package:
- Please allow up to 24 hours (and sometimes 48 hours) for your latest push to git@git.bioconductor.org:packages/epivizrStandalone.git to
reflect on this report. See How and When does the builder pull? When will my changes propagate? here for more information.
- Make sure to use the following settings in order to reproduce any error or warning you see on this page.

raw results

Package 591/2041HostnameOS / ArchINSTALLBUILDCHECKBUILD BIN
epivizrStandalone 1.20.0  (landing page)
Hector Corrada Bravo
Snapshot Date: 2021-09-23 04:50:12 -0400 (Thu, 23 Sep 2021)
git_url: https://git.bioconductor.org/packages/epivizrStandalone
git_branch: RELEASE_3_13
git_last_commit: fd34eef
git_last_commit_date: 2021-05-19 12:20:32 -0400 (Wed, 19 May 2021)
nebbiolo1Linux (Ubuntu 20.04.2 LTS) / x86_64  OK    OK    OK  UNNEEDED, same version is already published
tokay2Windows Server 2012 R2 Standard / x64  OK    OK    OK    OK  UNNEEDED, same version is already published
machv2macOS 10.14.6 Mojave / x86_64  OK    OK    OK    OK  UNNEEDED, same version is already published

Results for Bioconductor software packages that depend directly on package epivizrStandalone

QUICK STATSOS / ArchINSTALLBUILDCHECKBUILD BIN
nebbiolo1Linux (Ubuntu 20.04.2 LTS) / x86_64
001
010
0000
tokay2Windows Server 2012 R2 Standard / x64
001
010
0000
000
machv2macOS 10.14.6 Mojave / x86_64
001
010
0000
000
Package 1/1HostnameOS / ArchINSTALLBUILDCHECKBUILD BIN
metavizr 1.16.0  (landing page)
Hector Corrada Bravo
git_last_commit: 1817a55
git_last_commit_date: 2021-05-19 12:27:30 -0400
nebbiolo1Linux (Ubuntu 20.04.2 LTS) / x86_64  OK    ERROR  skipped
tokay2Windows Server 2012 R2 Standard / x64  OK    ERROR  skippedskipped
machv2macOS 10.14.6 Mojave / x86_64  OK    ERROR  skippedskipped