Back to Multiple platform build/check report for BioC 3.13
ABCD[E]FGHIJKLMNOPQRSTUVWXYZ

This page was generated on 2021-09-13 15:06:56 -0400 (Mon, 13 Sep 2021).

BUILD results for epivizrData on machv2

To the developers/maintainers of the epivizrData package:
- Please allow up to 24 hours (and sometimes 48 hours) for your latest push to git@git.bioconductor.org:packages/epivizrData.git to
reflect on this report. See How and When does the builder pull? When will my changes propagate? here for more information.
- Make sure to use the following settings in order to reproduce any error or warning you see on this page.

raw results

Package 589/2041HostnameOS / ArchINSTALLBUILDCHECKBUILD BIN
epivizrData 1.20.0  (landing page)
Hector Corrada Bravo
Snapshot Date: 2021-09-12 04:50:10 -0400 (Sun, 12 Sep 2021)
git_url: https://git.bioconductor.org/packages/epivizrData
git_branch: RELEASE_3_13
git_last_commit: ac055c8
git_last_commit_date: 2021-05-19 12:20:14 -0400 (Wed, 19 May 2021)
nebbiolo1Linux (Ubuntu 20.04.2 LTS) / x86_64  OK    OK    OK  UNNEEDED, same version is already published
tokay2Windows Server 2012 R2 Standard / x64  OK    OK    OK    OK  UNNEEDED, same version is already published
machv2macOS 10.14.6 Mojave / x86_64  OK    OK    OK    OK  UNNEEDED, same version is already published

Summary

Package: epivizrData
Version: 1.20.0
Command: /Library/Frameworks/R.framework/Versions/Current/Resources/bin/R CMD build --keep-empty-dirs --no-resave-data epivizrData
StartedAt: 2021-09-12 11:53:43 -0400 (Sun, 12 Sep 2021)
EndedAt: 2021-09-12 11:54:42 -0400 (Sun, 12 Sep 2021)
EllapsedTime: 58.7 seconds
RetCode: 0
Status:   OK  
PackageFile: epivizrData_1.20.0.tar.gz
PackageFileSize: 245.2 KiB

Command output

##############################################################################
##############################################################################
###
### Running command:
###
###   /Library/Frameworks/R.framework/Versions/Current/Resources/bin/R CMD build --keep-empty-dirs --no-resave-data epivizrData
###
##############################################################################
##############################################################################


* checking for file ‘epivizrData/DESCRIPTION’ ... OK
* preparing ‘epivizrData’:
* checking DESCRIPTION meta-information ... OK
* installing the package to build vignettes
* creating vignettes ... OK
* checking for LF line-endings in source and make files and shell scripts
* checking for empty or unneeded directories
Omitted ‘LazyData’ from DESCRIPTION
* building ‘epivizrData_1.20.0.tar.gz’