Back to Multiple platform build/check report for BioC 3.13
ABCD[E]FGHIJKLMNOPQRSTUVWXYZ

This page was generated on 2021-09-13 15:05:33 -0400 (Mon, 13 Sep 2021).

All results for package epivizrData

To the developers/maintainers of the epivizrData package:
- Please allow up to 24 hours (and sometimes 48 hours) for your latest push to git@git.bioconductor.org:packages/epivizrData.git to
reflect on this report. See How and When does the builder pull? When will my changes propagate? here for more information.
- Make sure to use the following settings in order to reproduce any error or warning you see on this page.

raw results

Package 589/2041HostnameOS / ArchINSTALLBUILDCHECKBUILD BIN
epivizrData 1.20.0  (landing page)
Hector Corrada Bravo
Snapshot Date: 2021-09-12 04:50:10 -0400 (Sun, 12 Sep 2021)
git_url: https://git.bioconductor.org/packages/epivizrData
git_branch: RELEASE_3_13
git_last_commit: ac055c8
git_last_commit_date: 2021-05-19 12:20:14 -0400 (Wed, 19 May 2021)
nebbiolo1Linux (Ubuntu 20.04.2 LTS) / x86_64  OK    OK    OK  UNNEEDED, same version is already published
tokay2Windows Server 2012 R2 Standard / x64  OK    OK    OK    OK  UNNEEDED, same version is already published
machv2macOS 10.14.6 Mojave / x86_64  OK    OK    OK    OK  UNNEEDED, same version is already published

Results for Bioconductor software packages that depend directly on package epivizrData

QUICK STATSOS / ArchINSTALLBUILDCHECKBUILD BIN
nebbiolo1Linux (Ubuntu 20.04.2 LTS) / x86_64
003
012
0002
tokay2Windows Server 2012 R2 Standard / x64
003
012
0002
002
machv2macOS 10.14.6 Mojave / x86_64
003
012
0002
002
Package 1/3HostnameOS / ArchINSTALLBUILDCHECKBUILD BIN
epivizr 2.22.0  (landing page)
Hector Corrada Bravo
git_last_commit: f93816c
git_last_commit_date: 2021-05-19 12:01:10 -0400
nebbiolo1Linux (Ubuntu 20.04.2 LTS) / x86_64  OK    OK    OK  UNNEEDED, same version is already published
tokay2Windows Server 2012 R2 Standard / x64  OK    OK    OK    OK  UNNEEDED, same version is already published
machv2macOS 10.14.6 Mojave / x86_64  OK    OK    OK    OK  UNNEEDED, same version is already published
Package 2/3HostnameOS / ArchINSTALLBUILDCHECKBUILD BIN
epivizrChart 1.14.0  (landing page)
Hector Corrada Bravo
git_last_commit: 5b50f3c
git_last_commit_date: 2021-05-19 12:29:01 -0400
nebbiolo1Linux (Ubuntu 20.04.2 LTS) / x86_64  OK    OK    OK  UNNEEDED, same version is already published
tokay2Windows Server 2012 R2 Standard / x64  OK    OK    OK    OK  UNNEEDED, same version is already published
machv2macOS 10.14.6 Mojave / x86_64  OK    OK    OK    OK  UNNEEDED, same version is already published
Package 3/3HostnameOS / ArchINSTALLBUILDCHECKBUILD BIN
metavizr 1.16.0  (landing page)
Hector Corrada Bravo
git_last_commit: 1817a55
git_last_commit_date: 2021-05-19 12:27:30 -0400
nebbiolo1Linux (Ubuntu 20.04.2 LTS) / x86_64  OK    ERROR  skipped
tokay2Windows Server 2012 R2 Standard / x64  OK    ERROR  skippedskipped
machv2macOS 10.14.6 Mojave / x86_64  OK    ERROR  skippedskipped