Back to Multiple platform build/check report for BioC 3.13
ABCD[E]FGHIJKLMNOPQRSTUVWXYZ

This page was generated on 2021-09-22 15:05:14 -0400 (Wed, 22 Sep 2021).

BUILD BIN results for epivizr on tokay2

To the developers/maintainers of the epivizr package:
- Please allow up to 24 hours (and sometimes 48 hours) for your latest push to git@git.bioconductor.org:packages/epivizr.git to
reflect on this report. See How and When does the builder pull? When will my changes propagate? here for more information.
- Make sure to use the following settings in order to reproduce any error or warning you see on this page.

raw results

Package 587/2041HostnameOS / ArchINSTALLBUILDCHECKBUILD BIN
epivizr 2.22.0  (landing page)
Hector Corrada Bravo
Snapshot Date: 2021-09-21 04:50:12 -0400 (Tue, 21 Sep 2021)
git_url: https://git.bioconductor.org/packages/epivizr
git_branch: RELEASE_3_13
git_last_commit: f93816c
git_last_commit_date: 2021-05-19 12:01:10 -0400 (Wed, 19 May 2021)
nebbiolo1Linux (Ubuntu 20.04.2 LTS) / x86_64  OK    OK    OK  UNNEEDED, same version is already published
tokay2Windows Server 2012 R2 Standard / x64  OK    OK    OK    OK  UNNEEDED, same version is already published
machv2macOS 10.14.6 Mojave / x86_64  OK    OK    OK    OK  UNNEEDED, same version is already published

Summary

Package: epivizr
Version: 2.22.0
Command: rm -rf epivizr.buildbin-libdir && mkdir epivizr.buildbin-libdir && C:\Users\biocbuild\bbs-3.13-bioc\R\bin\R.exe CMD INSTALL --merge-multiarch --build --library=epivizr.buildbin-libdir epivizr_2.22.0.tar.gz
StartedAt: 2021-09-22 08:52:23 -0400 (Wed, 22 Sep 2021)
EndedAt: 2021-09-22 08:53:51 -0400 (Wed, 22 Sep 2021)
EllapsedTime: 87.9 seconds
RetCode: 0
Status:   OK  
PackageFile: epivizr_2.22.0.zip
PackageFileSize: 1.977 MiB

Command output

##############################################################################
##############################################################################
###
### Running command:
###
###   rm -rf epivizr.buildbin-libdir && mkdir epivizr.buildbin-libdir && C:\Users\biocbuild\bbs-3.13-bioc\R\bin\R.exe CMD INSTALL --merge-multiarch --build --library=epivizr.buildbin-libdir epivizr_2.22.0.tar.gz
###
##############################################################################
##############################################################################



install for i386

* installing *source* package 'epivizr' ...
** using staged installation
** R
** data
** inst
** byte-compile and prepare package for lazy loading
** help
*** installing help indices
  converting help for package 'epivizr'
    finding HTML links ... done
    EpivizApp-class                         html  
    finding level-2 HTML links ... done

    EpivizChart-class                       html  
    EpivizChartMgr-class                    html  
    restartEpiviz                           html  
    show-EpivizChart-method                 html  
    startEpiviz                             html  
    tcga_colon_blocks                       html  
    tcga_colon_curves                       html  
    tcga_colon_expression                   html  
** building package indices
** installing vignettes
** testing if installed package can be loaded from temporary location
** testing if installed package can be loaded from final location
** testing if installed package keeps a record of temporary installation path

install for x64

* installing *source* package 'epivizr' ...
** testing if installed package can be loaded
* MD5 sums
packaged installation of 'epivizr' as epivizr_2.22.0.zip
* DONE (epivizr)