Back to Multiple platform build/check report for BioC 3.19:   simplified   long
ABCD[E]FGHIJKLMNOPQRSTUVWXYZ

This page was generated on 2024-07-16 17:42 -0400 (Tue, 16 Jul 2024).

HostnameOSArch (*)R versionInstalled pkgs
nebbiolo1Linux (Ubuntu 22.04.3 LTS)x86_644.4.1 (2024-06-14) -- "Race for Your Life" 4742
palomino7Windows Server 2022 Datacenterx644.4.1 (2024-06-14 ucrt) -- "Race for Your Life" 4484
merida1macOS 12.7.4 Montereyx86_644.4.1 (2024-06-14) -- "Race for Your Life" 4513
kjohnson1macOS 13.6.6 Venturaarm644.4.1 (2024-06-14) -- "Race for Your Life" 4462
Click on any hostname to see more info about the system (e.g. compilers)      (*) as reported by 'uname -p', except on Windows and Mac OS X

Package 671/2300HostnameOS / ArchINSTALLBUILDCHECKBUILD BIN
epivizr 2.34.0  (landing page)
Hector Corrada Bravo
Snapshot Date: 2024-07-14 14:00 -0400 (Sun, 14 Jul 2024)
git_url: https://git.bioconductor.org/packages/epivizr
git_branch: RELEASE_3_19
git_last_commit: 8f9dcbf
git_last_commit_date: 2024-04-30 10:33:50 -0400 (Tue, 30 Apr 2024)
nebbiolo1Linux (Ubuntu 22.04.3 LTS) / x86_64  OK    OK    OK  UNNEEDED, same version is already published
palomino7Windows Server 2022 Datacenter / x64  OK    OK    OK    OK  
merida1macOS 12.7.4 Monterey / x86_64  OK    OK    OK    OK  UNNEEDED, same version is already published
kjohnson1macOS 13.6.6 Ventura / arm64  OK    OK    OK    OK  UNNEEDED, same version is already published


BUILD BIN results for epivizr on kjohnson1

To the developers/maintainers of the epivizr package:
- Allow up to 24 hours (and sometimes 48 hours) for your latest push to git@git.bioconductor.org:packages/epivizr.git to reflect on this report. See Troubleshooting Build Report for more information.
- Use the following Renviron settings to reproduce errors and warnings.
- If 'R CMD check' started to fail recently on the Linux builder(s) over a missing dependency, add the missing dependency to 'Suggests:' in your DESCRIPTION file. See Renviron.bioc for more information.

raw results


Summary

Package: epivizr
Version: 2.34.0
Command: rm -rf epivizr.buildbin-libdir && mkdir epivizr.buildbin-libdir && /Users/biocbuild/BBS/utils/build-universal.sh epivizr_2.34.0.tar.gz /Library/Frameworks/R.framework/Resources/bin/R epivizr.buildbin-libdir
StartedAt: 2024-07-16 14:17:15 -0400 (Tue, 16 Jul 2024)
EndedAt: 2024-07-16 14:18:12 -0400 (Tue, 16 Jul 2024)
EllapsedTime: 56.7 seconds
RetCode: 0
Status:   OK  
PackageFile: epivizr_2.34.0.tgz
PackageFileSize: 2.032 MiB

Command output

##############################################################################
##############################################################################
###
### Running command:
###
###   rm -rf epivizr.buildbin-libdir && mkdir epivizr.buildbin-libdir && /Users/biocbuild/BBS/utils/build-universal.sh epivizr_2.34.0.tar.gz /Library/Frameworks/R.framework/Resources/bin/R epivizr.buildbin-libdir
###
##############################################################################
##############################################################################


>>>>>>> 
>>>>>>> INSTALLATION WITH 'R CMD INSTALL --preclean --no-multiarch --library=epivizr.buildbin-libdir epivizr_2.34.0.tar.gz'
>>>>>>> 

* installing *source* package ‘epivizr’ ...
** using staged installation
** R
** data
** inst
** byte-compile and prepare package for lazy loading
** help
*** installing help indices
** building package indices
** installing vignettes
** testing if installed package can be loaded from temporary location
** testing if installed package can be loaded from final location
** testing if installed package keeps a record of temporary installation path
* DONE (epivizr)