Back to Multiple platform build/check report for BioC 3.13
ABCD[E]FGHIJKLMNOPQRSTUVWXYZ

This page was generated on 2021-09-24 15:06:09 -0400 (Fri, 24 Sep 2021).

INSTALL results for epihet on tokay2

To the developers/maintainers of the epihet package:
- Please allow up to 24 hours (and sometimes 48 hours) for your latest push to git@git.bioconductor.org:packages/epihet.git to
reflect on this report. See How and When does the builder pull? When will my changes propagate? here for more information.
- Make sure to use the following settings in order to reproduce any error or warning you see on this page.

raw results

Package 584/2041HostnameOS / ArchINSTALLBUILDCHECKBUILD BIN
epihet 1.8.0  (landing page)
Xiaowen Chen
Snapshot Date: 2021-09-23 04:50:12 -0400 (Thu, 23 Sep 2021)
git_url: https://git.bioconductor.org/packages/epihet
git_branch: RELEASE_3_13
git_last_commit: cffe2bb
git_last_commit_date: 2021-05-19 12:39:58 -0400 (Wed, 19 May 2021)
nebbiolo1Linux (Ubuntu 20.04.2 LTS) / x86_64  OK    OK    OK  UNNEEDED, same version is already published
tokay2Windows Server 2012 R2 Standard / x64  OK    OK    OK    OK  UNNEEDED, same version is already published
machv2macOS 10.14.6 Mojave / x86_64  OK    OK    OK    OK  UNNEEDED, same version is already published

Summary

Package: epihet
Version: 1.8.0
Command: C:\cygwin\bin\curl.exe -O http://155.52.207.165/BBS/3.13/bioc/src/contrib/epihet_1.8.0.tar.gz && rm -rf epihet.buildbin-libdir && mkdir epihet.buildbin-libdir && C:\Users\biocbuild\bbs-3.13-bioc\R\bin\R.exe CMD INSTALL --merge-multiarch --build --library=epihet.buildbin-libdir epihet_1.8.0.tar.gz && C:\Users\biocbuild\bbs-3.13-bioc\R\bin\R.exe CMD INSTALL epihet_1.8.0.zip && rm epihet_1.8.0.tar.gz epihet_1.8.0.zip
StartedAt: 2021-09-23 09:44:31 -0400 (Thu, 23 Sep 2021)
EndedAt: 2021-09-23 09:45:29 -0400 (Thu, 23 Sep 2021)
EllapsedTime: 58.1 seconds
RetCode: 0
Status:   OK  

Command output

##############################################################################
##############################################################################
###
### Running command:
###
###   C:\cygwin\bin\curl.exe -O http://155.52.207.165/BBS/3.13/bioc/src/contrib/epihet_1.8.0.tar.gz && rm -rf epihet.buildbin-libdir && mkdir epihet.buildbin-libdir && C:\Users\biocbuild\bbs-3.13-bioc\R\bin\R.exe CMD INSTALL --merge-multiarch --build --library=epihet.buildbin-libdir epihet_1.8.0.tar.gz && C:\Users\biocbuild\bbs-3.13-bioc\R\bin\R.exe CMD INSTALL epihet_1.8.0.zip && rm epihet_1.8.0.tar.gz epihet_1.8.0.zip
###
##############################################################################
##############################################################################


  % Total    % Received % Xferd  Average Speed   Time    Time     Time  Current
                                 Dload  Upload   Total   Spent    Left  Speed

  0     0    0     0    0     0      0      0 --:--:-- --:--:-- --:--:--     0
  0  462k    0  2487    0     0  26186      0  0:00:18 --:--:--  0:00:18 26178
100  462k  100  462k    0     0   981k      0 --:--:-- --:--:-- --:--:--  980k

install for i386

* installing *source* package 'epihet' ...
** using staged installation
** R
** data
** inst
** byte-compile and prepare package for lazy loading
** help
*** installing help indices
  converting help for package 'epihet'
    finding HTML links ... done
    compMatrix                              html  
    data                                    html  
    diffHet                                 html  
    epiBox                                  html  
    epiMA                                   html  
    epiMap                                  html  
    epiNetwork                              html  
    epiPCA                                  html  
    epiPathway                              html  
    epiTSNE                                 html  
    jaccard                                 html  
    makeGR                                  html  
    moduleAnno                              html  
    moduleSim                               html  
    moduleVisual                            html  
    readGR                                  html  
    shannon                                 html  
    splitn                                  html  
    summarize                               html  
    userobj                                 html  
** building package indices
** installing vignettes
** testing if installed package can be loaded from temporary location
** testing if installed package can be loaded from final location
** testing if installed package keeps a record of temporary installation path

install for x64

* installing *source* package 'epihet' ...
** testing if installed package can be loaded
* MD5 sums
packaged installation of 'epihet' as epihet_1.8.0.zip
* DONE (epihet)
* installing to library 'C:/Users/biocbuild/bbs-3.13-bioc/R/library'
package 'epihet' successfully unpacked and MD5 sums checked