Back to Multiple platform build/check report for BioC 3.13
ABCD[E]FGHIJKLMNOPQRSTUVWXYZ

This page was generated on 2021-09-20 15:05:12 -0400 (Mon, 20 Sep 2021).

BUILD results for epigraHMM on tokay2

To the developers/maintainers of the epigraHMM package:
- Please allow up to 24 hours (and sometimes 48 hours) for your latest push to git@git.bioconductor.org:packages/epigraHMM.git to
reflect on this report. See How and When does the builder pull? When will my changes propagate? here for more information.
- Make sure to use the following settings in order to reproduce any error or warning you see on this page.

raw results

Package 583/2041HostnameOS / ArchINSTALLBUILDCHECKBUILD BIN
epigraHMM 1.0.3  (landing page)
Pedro Baldoni
Snapshot Date: 2021-09-19 04:50:10 -0400 (Sun, 19 Sep 2021)
git_url: https://git.bioconductor.org/packages/epigraHMM
git_branch: RELEASE_3_13
git_last_commit: 04cb67e
git_last_commit_date: 2021-08-26 02:32:01 -0400 (Thu, 26 Aug 2021)
nebbiolo1Linux (Ubuntu 20.04.2 LTS) / x86_64  OK    OK    OK  UNNEEDED, same version is already published
tokay2Windows Server 2012 R2 Standard / x64  OK    OK    OK    OK  UNNEEDED, same version is already published
machv2macOS 10.14.6 Mojave / x86_64  OK    OK    OK    OK  UNNEEDED, same version is already published

Summary

Package: epigraHMM
Version: 1.0.3
Command: chmod a+r epigraHMM -R && C:\Users\biocbuild\bbs-3.13-bioc\R\bin\R.exe CMD build --keep-empty-dirs --no-resave-data epigraHMM
StartedAt: 2021-09-19 13:19:30 -0400 (Sun, 19 Sep 2021)
EndedAt: 2021-09-19 13:39:29 -0400 (Sun, 19 Sep 2021)
EllapsedTime: 1199.3 seconds
RetCode: 0
Status:   OK  
PackageFile: epigraHMM_1.0.3.tar.gz
PackageFileSize: 399.7 KiB

Command output

##############################################################################
##############################################################################
###
### Running command:
###
###   chmod a+r epigraHMM -R && C:\Users\biocbuild\bbs-3.13-bioc\R\bin\R.exe CMD build --keep-empty-dirs --no-resave-data epigraHMM
###
##############################################################################
##############################################################################


* checking for file 'epigraHMM/DESCRIPTION' ... OK
* preparing 'epigraHMM':
* checking DESCRIPTION meta-information ... OK
* cleaning src
* installing the package to build vignettes
* creating vignettes ... OK
* cleaning src
* checking for LF line-endings in source and make files and shell scripts
* checking for empty or unneeded directories
* building 'epigraHMM_1.0.3.tar.gz'