Back to Multiple platform build/check report for BioC 3.13
ABCD[E]FGHIJKLMNOPQRSTUVWXYZ

This page was generated on 2021-09-20 15:05:12 -0400 (Mon, 20 Sep 2021).

INSTALL results for epigenomix on tokay2

To the developers/maintainers of the epigenomix package:
- Please allow up to 24 hours (and sometimes 48 hours) for your latest push to git@git.bioconductor.org:packages/epigenomix.git to
reflect on this report. See How and When does the builder pull? When will my changes propagate? here for more information.
- Make sure to use the following settings in order to reproduce any error or warning you see on this page.

raw results

Package 582/2041HostnameOS / ArchINSTALLBUILDCHECKBUILD BIN
epigenomix 1.32.0  (landing page)
Hans-Ulrich Klein
Snapshot Date: 2021-09-19 04:50:10 -0400 (Sun, 19 Sep 2021)
git_url: https://git.bioconductor.org/packages/epigenomix
git_branch: RELEASE_3_13
git_last_commit: dc1b2d5
git_last_commit_date: 2021-05-19 11:57:59 -0400 (Wed, 19 May 2021)
nebbiolo1Linux (Ubuntu 20.04.2 LTS) / x86_64  OK    OK    OK  UNNEEDED, same version is already published
tokay2Windows Server 2012 R2 Standard / x64  OK    OK    OK    OK  UNNEEDED, same version is already published
machv2macOS 10.14.6 Mojave / x86_64  OK    OK    OK    OK  UNNEEDED, same version is already published

Summary

Package: epigenomix
Version: 1.32.0
Command: C:\cygwin\bin\curl.exe -O http://155.52.207.165/BBS/3.13/bioc/src/contrib/epigenomix_1.32.0.tar.gz && rm -rf epigenomix.buildbin-libdir && mkdir epigenomix.buildbin-libdir && C:\Users\biocbuild\bbs-3.13-bioc\R\bin\R.exe CMD INSTALL --merge-multiarch --build --library=epigenomix.buildbin-libdir epigenomix_1.32.0.tar.gz && C:\Users\biocbuild\bbs-3.13-bioc\R\bin\R.exe CMD INSTALL epigenomix_1.32.0.zip && rm epigenomix_1.32.0.tar.gz epigenomix_1.32.0.zip
StartedAt: 2021-09-19 08:45:53 -0400 (Sun, 19 Sep 2021)
EndedAt: 2021-09-19 08:47:28 -0400 (Sun, 19 Sep 2021)
EllapsedTime: 94.4 seconds
RetCode: 0
Status:   OK  

Command output

##############################################################################
##############################################################################
###
### Running command:
###
###   C:\cygwin\bin\curl.exe -O http://155.52.207.165/BBS/3.13/bioc/src/contrib/epigenomix_1.32.0.tar.gz && rm -rf epigenomix.buildbin-libdir && mkdir epigenomix.buildbin-libdir && C:\Users\biocbuild\bbs-3.13-bioc\R\bin\R.exe CMD INSTALL --merge-multiarch --build --library=epigenomix.buildbin-libdir epigenomix_1.32.0.tar.gz && C:\Users\biocbuild\bbs-3.13-bioc\R\bin\R.exe CMD INSTALL epigenomix_1.32.0.zip && rm epigenomix_1.32.0.tar.gz epigenomix_1.32.0.zip
###
##############################################################################
##############################################################################


  % Total    % Received % Xferd  Average Speed   Time    Time     Time  Current
                                 Dload  Upload   Total   Spent    Left  Speed

  0     0    0     0    0     0      0      0 --:--:-- --:--:-- --:--:--     0
100  213k  100  213k    0     0   421k      0 --:--:-- --:--:-- --:--:--  421k
100  213k  100  213k    0     0   421k      0 --:--:-- --:--:-- --:--:--  420k

install for i386

* installing *source* package 'epigenomix' ...
** using staged installation
** R
** data
** inst
** byte-compile and prepare package for lazy loading
** help
*** installing help indices
  converting help for package 'epigenomix'
    finding HTML links ... done
    ChIPseqSet-class                        html  
    finding level-2 HTML links ... done

    MixModel-class                          html  
    MixModelBayes-class                     html  
    MixModelML-class                        html  
    MixtureComponent-class                  html  
    bayesMixModel                           html  
    calculateCrossCorrelation               html  
    eSet                                    html  
    fpkm                                    html  
    getAlignmentQuality                     html  
    integrateData                           html  
    mappedReads                             html  
    matchProbeToPromoter                    html  
    mlMixModel                              html  
    normalize                               html  
    normalizeChIP                           html  
    plotChains                              html  
    plotClassification                      html  
    plotComponents                          html  
    summarizeReads                          html  
    transToTSS                              html  
** building package indices
** installing vignettes
** testing if installed package can be loaded from temporary location
** testing if installed package can be loaded from final location
** testing if installed package keeps a record of temporary installation path

install for x64

* installing *source* package 'epigenomix' ...
** testing if installed package can be loaded
* MD5 sums
packaged installation of 'epigenomix' as epigenomix_1.32.0.zip
* DONE (epigenomix)
* installing to library 'C:/Users/biocbuild/bbs-3.13-bioc/R/library'
package 'epigenomix' successfully unpacked and MD5 sums checked