Back to Multiple platform build/check report for BioC 3.13
ABCD[E]FGHIJKLMNOPQRSTUVWXYZ

This page was generated on 2021-07-30 15:05:52 -0400 (Fri, 30 Jul 2021).

INSTALL results for epiNEM on tokay2

To the developers/maintainers of the epiNEM package:
- Please allow up to 24 hours (and sometimes 48 hours) for your latest push to git@git.bioconductor.org:packages/epiNEM.git to
reflect on this report. See How and When does the builder pull? When will my changes propagate? here for more information.
- Make sure to use the following settings in order to reproduce any error or warning you see on this page.

raw results

Package 585/2041HostnameOS / ArchINSTALLBUILDCHECKBUILD BIN
epiNEM 1.16.0  (landing page)
Martin Pirkl
Snapshot Date: 2021-07-29 04:50:02 -0400 (Thu, 29 Jul 2021)
URL: https://git.bioconductor.org/packages/epiNEM
Branch: RELEASE_3_13
Last Commit: 2383f66
Last Changed Date: 2021-05-19 12:26:21 -0400 (Wed, 19 May 2021)
nebbiolo1Linux (Ubuntu 20.04.2 LTS) / x86_64  OK    OK    OK  UNNEEDED, same version is already published
tokay2Windows Server 2012 R2 Standard / x64  OK    OK    OK    OK  UNNEEDED, same version is already published
machv2macOS 10.14.6 Mojave / x86_64  OK    OK    OK    OK  UNNEEDED, same version is already published

Summary

Package: epiNEM
Version: 1.16.0
Command: C:\cygwin\bin\curl.exe -O http://155.52.207.165/BBS/3.13/bioc/src/contrib/epiNEM_1.16.0.tar.gz && rm -rf epiNEM.buildbin-libdir && mkdir epiNEM.buildbin-libdir && C:\Users\biocbuild\bbs-3.13-bioc\R\bin\R.exe CMD INSTALL --merge-multiarch --build --library=epiNEM.buildbin-libdir epiNEM_1.16.0.tar.gz && C:\Users\biocbuild\bbs-3.13-bioc\R\bin\R.exe CMD INSTALL epiNEM_1.16.0.zip && rm epiNEM_1.16.0.tar.gz epiNEM_1.16.0.zip
StartedAt: 2021-07-29 11:39:42 -0400 (Thu, 29 Jul 2021)
EndedAt: 2021-07-29 11:43:03 -0400 (Thu, 29 Jul 2021)
EllapsedTime: 201.1 seconds
RetCode: 0
Status:   OK  

Command output

##############################################################################
##############################################################################
###
### Running command:
###
###   C:\cygwin\bin\curl.exe -O http://155.52.207.165/BBS/3.13/bioc/src/contrib/epiNEM_1.16.0.tar.gz && rm -rf epiNEM.buildbin-libdir && mkdir epiNEM.buildbin-libdir && C:\Users\biocbuild\bbs-3.13-bioc\R\bin\R.exe CMD INSTALL --merge-multiarch --build --library=epiNEM.buildbin-libdir epiNEM_1.16.0.tar.gz && C:\Users\biocbuild\bbs-3.13-bioc\R\bin\R.exe CMD INSTALL epiNEM_1.16.0.zip && rm epiNEM_1.16.0.tar.gz epiNEM_1.16.0.zip
###
##############################################################################
##############################################################################


  % Total    % Received % Xferd  Average Speed   Time    Time     Time  Current
                                 Dload  Upload   Total   Spent    Left  Speed

  0     0    0     0    0     0      0      0 --:--:-- --:--:-- --:--:--     0
100  196k  100  196k    0     0  1318k      0 --:--:-- --:--:-- --:--:-- 1328k

install for i386

* installing *source* package 'epiNEM' ...
** using staged installation
** R
** data
*** moving datasets to lazyload DB
** inst
** byte-compile and prepare package for lazy loading
** help
*** installing help indices
  converting help for package 'epiNEM'
    finding HTML links ... done
    AddLogicGates                           html  
    CreateExtendedAdjacency                 html  
    CreateRandomGraph                       html  
    CreateTopology                          html  
    ExtendTopology                          html  
    GenerateData                            html  
    HeatmapOP                               html  
    Mll                                     html  
    SimEpiNEM                               html  
    epiAnno                                 html  
    epiNEM                                  html  
    epiScreen                               html  
    perm.rank.test                          html  
    plot.epiNEM                             html  
    plot.epiScreen                          html  
    plot.epiSim                             html  
    rank.enrichment                         html  
    sameith_GO                              html  
    sameith_string                          html  
    samscreen                               html  
    sim                                     html  
    wageningen_GO                           html  
    wageningen_string                       html  
    wagscreen                               html  
** building package indices
** installing vignettes
** testing if installed package can be loaded from temporary location
** testing if installed package can be loaded from final location
** testing if installed package keeps a record of temporary installation path

install for x64

* installing *source* package 'epiNEM' ...
** testing if installed package can be loaded
* MD5 sums
packaged installation of 'epiNEM' as epiNEM_1.16.0.zip
* DONE (epiNEM)
* installing to library 'C:/Users/biocbuild/bbs-3.13-bioc/R/library'
package 'epiNEM' successfully unpacked and MD5 sums checked