Back to Multiple platform build/check report for BioC 3.13
ABCD[E]FGHIJKLMNOPQRSTUVWXYZ

This page was generated on 2021-09-20 15:05:12 -0400 (Mon, 20 Sep 2021).

BUILD BIN results for ensembldb on tokay2

To the developers/maintainers of the ensembldb package:
- Please allow up to 24 hours (and sometimes 48 hours) for your latest push to git@git.bioconductor.org:packages/ensembldb.git to
reflect on this report. See How and When does the builder pull? When will my changes propagate? here for more information.
- Make sure to use the following settings in order to reproduce any error or warning you see on this page.

raw results

Package 576/2041HostnameOS / ArchINSTALLBUILDCHECKBUILD BIN
ensembldb 2.16.4  (landing page)
Johannes Rainer
Snapshot Date: 2021-09-19 04:50:10 -0400 (Sun, 19 Sep 2021)
git_url: https://git.bioconductor.org/packages/ensembldb
git_branch: RELEASE_3_13
git_last_commit: 130dbcc
git_last_commit_date: 2021-08-04 10:18:05 -0400 (Wed, 04 Aug 2021)
nebbiolo1Linux (Ubuntu 20.04.2 LTS) / x86_64  OK    OK    OK  UNNEEDED, same version is already published
tokay2Windows Server 2012 R2 Standard / x64  OK    OK    OK    OK  UNNEEDED, same version is already published
machv2macOS 10.14.6 Mojave / x86_64  OK    OK    OK    OK  UNNEEDED, same version is already published

Summary

Package: ensembldb
Version: 2.16.4
Command: rm -rf ensembldb.buildbin-libdir && mkdir ensembldb.buildbin-libdir && C:\Users\biocbuild\bbs-3.13-bioc\R\bin\R.exe CMD INSTALL --merge-multiarch --build --library=ensembldb.buildbin-libdir ensembldb_2.16.4.tar.gz
StartedAt: 2021-09-20 08:36:22 -0400 (Mon, 20 Sep 2021)
EndedAt: 2021-09-20 08:37:45 -0400 (Mon, 20 Sep 2021)
EllapsedTime: 83.4 seconds
RetCode: 0
Status:   OK  
PackageFile: ensembldb_2.16.4.zip
PackageFileSize: 3.4 MiB

Command output

##############################################################################
##############################################################################
###
### Running command:
###
###   rm -rf ensembldb.buildbin-libdir && mkdir ensembldb.buildbin-libdir && C:\Users\biocbuild\bbs-3.13-bioc\R\bin\R.exe CMD INSTALL --merge-multiarch --build --library=ensembldb.buildbin-libdir ensembldb_2.16.4.tar.gz
###
##############################################################################
##############################################################################



install for i386

* installing *source* package 'ensembldb' ...
** using staged installation
** R
** inst
** byte-compile and prepare package for lazy loading
** help
*** installing help indices
  converting help for package 'ensembldb'
    finding HTML links ... done
    Deprecated                              html  
    EnsDb-AnnotationDbi                     html  
    EnsDb-class                             html  
    EnsDb-exonsBy                           html  
    finding level-2 HTML links ... done

    EnsDb-lengths                           html  
    EnsDb-seqlevels                         html  
    EnsDb-sequences                         html  
    EnsDb-utils                             html  
    EnsDb                                   html  
    Filter-classes                          html  
    ProteinFunctionality                    html  
    cdsToTranscript                         html  
    convertFilter                           html  
    genomeToProtein                         html  
    genomeToTranscript                      html  
    global-filters                          html  
    hasProteinData-EnsDb-method             html  
    listEnsDbs                              html  
    makeEnsemblDbPackage                    html  
    proteinToGenome                         html  
    proteinToTranscript                     html  
    runEnsDbApp                             html  
    transcriptToCds                         html  
    transcriptToGenome                      html  
    transcriptToProtein                     html  
    useMySQL-EnsDb-method                   html  
** building package indices
** installing vignettes
** testing if installed package can be loaded from temporary location
** testing if installed package can be loaded from final location
** testing if installed package keeps a record of temporary installation path

install for x64

* installing *source* package 'ensembldb' ...
** testing if installed package can be loaded
* MD5 sums
packaged installation of 'ensembldb' as ensembldb_2.16.4.zip
* DONE (ensembldb)