Back to Multiple platform build/check report for BioC 3.13
ABCD[E]FGHIJKLMNOPQRSTUVWXYZ

This page was generated on 2021-09-22 15:05:43 -0400 (Wed, 22 Sep 2021).

BUILD results for ensemblVEP on machv2

To the developers/maintainers of the ensemblVEP package:
- Please allow up to 24 hours (and sometimes 48 hours) for your latest push to git@git.bioconductor.org:packages/ensemblVEP.git to
reflect on this report. See How and When does the builder pull? When will my changes propagate? here for more information.
- Make sure to use the following settings in order to reproduce any error or warning you see on this page.

raw results

Package 577/2041HostnameOS / ArchINSTALLBUILDCHECKBUILD BIN
ensemblVEP 1.34.0  (landing page)
Bioconductor Package Maintainer
Snapshot Date: 2021-09-21 04:50:12 -0400 (Tue, 21 Sep 2021)
git_url: https://git.bioconductor.org/packages/ensemblVEP
git_branch: RELEASE_3_13
git_last_commit: 71a49c5
git_last_commit_date: 2021-05-19 11:54:59 -0400 (Wed, 19 May 2021)
nebbiolo1Linux (Ubuntu 20.04.2 LTS) / x86_64  OK    OK    OK  UNNEEDED, same version is already published
tokay2Windows Server 2012 R2 Standard / x64... NOT SUPPORTED ...
machv2macOS 10.14.6 Mojave / x86_64  OK    OK    OK    OK  UNNEEDED, same version is already published

Summary

Package: ensemblVEP
Version: 1.34.0
Command: /Library/Frameworks/R.framework/Versions/Current/Resources/bin/R CMD build --keep-empty-dirs --no-resave-data ensemblVEP
StartedAt: 2021-09-21 11:57:47 -0400 (Tue, 21 Sep 2021)
EndedAt: 2021-09-21 12:01:52 -0400 (Tue, 21 Sep 2021)
EllapsedTime: 245.1 seconds
RetCode: 0
Status:   OK  
PackageFile: ensemblVEP_1.34.0.tar.gz
PackageFileSize: 336 KiB

Command output

##############################################################################
##############################################################################
###
### Running command:
###
###   /Library/Frameworks/R.framework/Versions/Current/Resources/bin/R CMD build --keep-empty-dirs --no-resave-data ensemblVEP
###
##############################################################################
##############################################################################


* checking for file ‘ensemblVEP/DESCRIPTION’ ... OK
* preparing ‘ensemblVEP’:
* checking DESCRIPTION meta-information ... OK
* installing the package to build vignettes
* creating vignettes ... OK
* checking for LF line-endings in source and make files and shell scripts
* checking for empty or unneeded directories
* building ‘ensemblVEP_1.34.0.tar.gz’