Back to Multiple platform build/check report for BioC 3.13
ABCD[E]FGHIJKLMNOPQRSTUVWXYZ

This page was generated on 2021-09-22 15:05:14 -0400 (Wed, 22 Sep 2021).

INSTALL results for enrichTF on tokay2

To the developers/maintainers of the enrichTF package:
- Please allow up to 24 hours (and sometimes 48 hours) for your latest push to git@git.bioconductor.org:packages/enrichTF.git to
reflect on this report. See How and When does the builder pull? When will my changes propagate? here for more information.
- Make sure to use the following settings in order to reproduce any error or warning you see on this page.

raw results

Package 575/2041HostnameOS / ArchINSTALLBUILDCHECKBUILD BIN
enrichTF 1.8.0  (landing page)
Zheng Wei
Snapshot Date: 2021-09-21 04:50:12 -0400 (Tue, 21 Sep 2021)
git_url: https://git.bioconductor.org/packages/enrichTF
git_branch: RELEASE_3_13
git_last_commit: 956c94b
git_last_commit_date: 2021-05-19 12:43:30 -0400 (Wed, 19 May 2021)
nebbiolo1Linux (Ubuntu 20.04.2 LTS) / x86_64  OK    OK    OK  UNNEEDED, same version is already published
tokay2Windows Server 2012 R2 Standard / x64  OK    OK    OK    OK  UNNEEDED, same version is already published
machv2macOS 10.14.6 Mojave / x86_64  OK    OK    OK    OK  UNNEEDED, same version is already published

Summary

Package: enrichTF
Version: 1.8.0
Command: C:\cygwin\bin\curl.exe -O http://155.52.207.165/BBS/3.13/bioc/src/contrib/enrichTF_1.8.0.tar.gz && rm -rf enrichTF.buildbin-libdir && mkdir enrichTF.buildbin-libdir && C:\Users\biocbuild\bbs-3.13-bioc\R\bin\R.exe CMD INSTALL --merge-multiarch --build --library=enrichTF.buildbin-libdir enrichTF_1.8.0.tar.gz && C:\Users\biocbuild\bbs-3.13-bioc\R\bin\R.exe CMD INSTALL enrichTF_1.8.0.zip && rm enrichTF_1.8.0.tar.gz enrichTF_1.8.0.zip
StartedAt: 2021-09-21 10:53:32 -0400 (Tue, 21 Sep 2021)
EndedAt: 2021-09-21 10:55:05 -0400 (Tue, 21 Sep 2021)
EllapsedTime: 93.1 seconds
RetCode: 0
Status:   OK  

Command output

##############################################################################
##############################################################################
###
### Running command:
###
###   C:\cygwin\bin\curl.exe -O http://155.52.207.165/BBS/3.13/bioc/src/contrib/enrichTF_1.8.0.tar.gz && rm -rf enrichTF.buildbin-libdir && mkdir enrichTF.buildbin-libdir && C:\Users\biocbuild\bbs-3.13-bioc\R\bin\R.exe CMD INSTALL --merge-multiarch --build --library=enrichTF.buildbin-libdir enrichTF_1.8.0.tar.gz && C:\Users\biocbuild\bbs-3.13-bioc\R\bin\R.exe CMD INSTALL enrichTF_1.8.0.zip && rm enrichTF_1.8.0.tar.gz enrichTF_1.8.0.zip
###
##############################################################################
##############################################################################


  % Total    % Received % Xferd  Average Speed   Time    Time     Time  Current
                                 Dload  Upload   Total   Spent    Left  Speed

  0     0    0     0    0     0      0      0 --:--:-- --:--:-- --:--:--     0
100 1005k  100 1005k    0     0  2057k      0 --:--:-- --:--:-- --:--:-- 2059k

install for i386

* installing *source* package 'enrichTF' ...
** using staged installation
** R
** inst
** byte-compile and prepare package for lazy loading
** help
*** installing help indices
  converting help for package 'enrichTF'
    finding HTML links ... done
    EnrichStep-class                        html  
    GenBackground                           html  
REDIRECT:topic	 Previous alias or file overwritten by alias: C:/Users/biocbuild/bbs-3.13-bioc/meat/enrichTF.buildbin-libdir/00LOCK-enrichTF/00new/enrichTF/help/genBackground.html
    finding level-2 HTML links ... done

    GeneOntology                            html  
REDIRECT:topic	 Previous alias or file overwritten by alias: C:/Users/biocbuild/bbs-3.13-bioc/meat/enrichTF.buildbin-libdir/00LOCK-enrichTF/00new/enrichTF/help/geneOntology.html
    MotifsInRegions                         html  
REDIRECT:topic	 Previous alias or file overwritten by alias: C:/Users/biocbuild/bbs-3.13-bioc/meat/enrichTF.buildbin-libdir/00LOCK-enrichTF/00new/enrichTF/help/motifsInRegions.html
    Pipelines                               html  
    RegionConnectTargetGene                 html  
REDIRECT:topic	 Previous alias or file overwritten by alias: C:/Users/biocbuild/bbs-3.13-bioc/meat/enrichTF.buildbin-libdir/00LOCK-enrichTF/00new/enrichTF/help/regionConnectTargetGene.html
    SingleSampleReport                      html  
    TFsEnrichInRegions                      html  
REDIRECT:topic	 Previous alias or file overwritten by alias: C:/Users/biocbuild/bbs-3.13-bioc/meat/enrichTF.buildbin-libdir/00LOCK-enrichTF/00new/enrichTF/help/tfsEnrichInRegions.html
    TissueOpennessConserve                  html  
REDIRECT:topic	 Previous alias or file overwritten by alias: C:/Users/biocbuild/bbs-3.13-bioc/meat/enrichTF.buildbin-libdir/00LOCK-enrichTF/00new/enrichTF/help/tissueOpennessConserve.html
    TissueOpennessSpecificity               html  
REDIRECT:topic	 Previous alias or file overwritten by alias: C:/Users/biocbuild/bbs-3.13-bioc/meat/enrichTF.buildbin-libdir/00LOCK-enrichTF/00new/enrichTF/help/tissueOpennessSpecificity.html
    UnzipAndMergeBed                        html  
REDIRECT:topic	 Previous alias or file overwritten by alias: C:/Users/biocbuild/bbs-3.13-bioc/meat/enrichTF.buildbin-libdir/00LOCK-enrichTF/00new/enrichTF/help/unzipAndMergeBed.html
** building package indices
** installing vignettes
** testing if installed package can be loaded from temporary location
Warning in options(stringsAsFactors = TRUE) :
  'options(stringsAsFactors = TRUE)' is deprecated and will be disabled
** testing if installed package can be loaded from final location
Warning in options(stringsAsFactors = TRUE) :
  'options(stringsAsFactors = TRUE)' is deprecated and will be disabled
** testing if installed package keeps a record of temporary installation path

install for x64

* installing *source* package 'enrichTF' ...
** testing if installed package can be loaded
Warning in options(stringsAsFactors = TRUE) :
  'options(stringsAsFactors = TRUE)' is deprecated and will be disabled
* MD5 sums
packaged installation of 'enrichTF' as enrichTF_1.8.0.zip
* DONE (enrichTF)
* installing to library 'C:/Users/biocbuild/bbs-3.13-bioc/R/library'
package 'enrichTF' successfully unpacked and MD5 sums checked