Back to Multiple platform build/check report for BioC 3.13
ABCD[E]FGHIJKLMNOPQRSTUVWXYZ

This page was generated on 2021-09-24 15:06:39 -0400 (Fri, 24 Sep 2021).

INSTALL results for enrichTF on machv2

To the developers/maintainers of the enrichTF package:
- Please allow up to 24 hours (and sometimes 48 hours) for your latest push to git@git.bioconductor.org:packages/enrichTF.git to
reflect on this report. See How and When does the builder pull? When will my changes propagate? here for more information.
- Make sure to use the following settings in order to reproduce any error or warning you see on this page.

raw results

Package 575/2041HostnameOS / ArchINSTALLBUILDCHECKBUILD BIN
enrichTF 1.8.0  (landing page)
Zheng Wei
Snapshot Date: 2021-09-23 04:50:12 -0400 (Thu, 23 Sep 2021)
git_url: https://git.bioconductor.org/packages/enrichTF
git_branch: RELEASE_3_13
git_last_commit: 956c94b
git_last_commit_date: 2021-05-19 12:43:30 -0400 (Wed, 19 May 2021)
nebbiolo1Linux (Ubuntu 20.04.2 LTS) / x86_64  OK    OK    OK  UNNEEDED, same version is already published
tokay2Windows Server 2012 R2 Standard / x64  OK    OK    OK    OK  UNNEEDED, same version is already published
machv2macOS 10.14.6 Mojave / x86_64  OK    OK    OK    OK  UNNEEDED, same version is already published

Summary

Package: enrichTF
Version: 1.8.0
Command: /Library/Frameworks/R.framework/Versions/Current/Resources/bin/R CMD INSTALL enrichTF
StartedAt: 2021-09-23 10:18:04 -0400 (Thu, 23 Sep 2021)
EndedAt: 2021-09-23 10:19:13 -0400 (Thu, 23 Sep 2021)
EllapsedTime: 69.2 seconds
RetCode: 0
Status:   OK  

Command output

##############################################################################
##############################################################################
###
### Running command:
###
###   /Library/Frameworks/R.framework/Versions/Current/Resources/bin/R CMD INSTALL enrichTF
###
##############################################################################
##############################################################################


* installing to library ‘/Library/Frameworks/R.framework/Versions/4.1/Resources/library’
* installing *source* package ‘enrichTF’ ...
** using staged installation
** R
** inst
** byte-compile and prepare package for lazy loading
** help
*** installing help indices
** building package indices
** installing vignettes
** testing if installed package can be loaded from temporary location
Warning in options(stringsAsFactors = TRUE) :
  'options(stringsAsFactors = TRUE)' is deprecated and will be disabled
** testing if installed package can be loaded from final location
Warning in options(stringsAsFactors = TRUE) :
  'options(stringsAsFactors = TRUE)' is deprecated and will be disabled
** testing if installed package keeps a record of temporary installation path
* DONE (enrichTF)