Back to Multiple platform build/check report for BioC 3.13
ABCD[E]FGHIJKLMNOPQRSTUVWXYZ

This page was generated on 2021-09-24 15:06:39 -0400 (Fri, 24 Sep 2021).

CHECK results for enrichTF on machv2

To the developers/maintainers of the enrichTF package:
- Please allow up to 24 hours (and sometimes 48 hours) for your latest push to git@git.bioconductor.org:packages/enrichTF.git to
reflect on this report. See How and When does the builder pull? When will my changes propagate? here for more information.
- Make sure to use the following settings in order to reproduce any error or warning you see on this page.

raw results

Package 575/2041HostnameOS / ArchINSTALLBUILDCHECKBUILD BIN
enrichTF 1.8.0  (landing page)
Zheng Wei
Snapshot Date: 2021-09-23 04:50:12 -0400 (Thu, 23 Sep 2021)
git_url: https://git.bioconductor.org/packages/enrichTF
git_branch: RELEASE_3_13
git_last_commit: 956c94b
git_last_commit_date: 2021-05-19 12:43:30 -0400 (Wed, 19 May 2021)
nebbiolo1Linux (Ubuntu 20.04.2 LTS) / x86_64  OK    OK    OK  UNNEEDED, same version is already published
tokay2Windows Server 2012 R2 Standard / x64  OK    OK    OK    OK  UNNEEDED, same version is already published
machv2macOS 10.14.6 Mojave / x86_64  OK    OK    OK    OK  UNNEEDED, same version is already published

Summary

Package: enrichTF
Version: 1.8.0
Command: /Library/Frameworks/R.framework/Versions/Current/Resources/bin/R CMD check --install=check:enrichTF.install-out.txt --library=/Library/Frameworks/R.framework/Versions/Current/Resources/library --no-vignettes --timings enrichTF_1.8.0.tar.gz
StartedAt: 2021-09-23 18:34:04 -0400 (Thu, 23 Sep 2021)
EndedAt: 2021-09-23 18:41:57 -0400 (Thu, 23 Sep 2021)
EllapsedTime: 473.8 seconds
RetCode: 0
Status:   OK  
CheckDir: enrichTF.Rcheck
Warnings: 0

Command output

##############################################################################
##############################################################################
###
### Running command:
###
###   /Library/Frameworks/R.framework/Versions/Current/Resources/bin/R CMD check --install=check:enrichTF.install-out.txt --library=/Library/Frameworks/R.framework/Versions/Current/Resources/library --no-vignettes --timings enrichTF_1.8.0.tar.gz
###
##############################################################################
##############################################################################


* using log directory ‘/Users/biocbuild/bbs-3.13-bioc/meat/enrichTF.Rcheck’
* using R version 4.1.1 (2021-08-10)
* using platform: x86_64-apple-darwin17.0 (64-bit)
* using session charset: UTF-8
* using option ‘--no-vignettes’
* checking for file ‘enrichTF/DESCRIPTION’ ... OK
* checking extension type ... Package
* this is package ‘enrichTF’ version ‘1.8.0’
* package encoding: UTF-8
* checking package namespace information ... OK
* checking package dependencies ... OK
* checking if this is a source package ... OK
* checking if there is a namespace ... OK
* checking for hidden files and directories ... NOTE
Found the following hidden files and directories:
  .git_fetch_output.txt
  .git_merge_output.txt
These were most likely included in error. See section ‘Package
structure’ in the ‘Writing R Extensions’ manual.
* checking for portable file names ... OK
* checking for sufficient/correct file permissions ... OK
* checking whether package ‘enrichTF’ can be installed ... OK
* checking installed package size ... OK
* checking package directory ... OK
* checking ‘build’ directory ... OK
* checking DESCRIPTION meta-information ... OK
* checking top-level files ... OK
* checking for left-over files ... OK
* checking index information ... OK
* checking package subdirectories ... OK
* checking R files for non-ASCII characters ... OK
* checking R files for syntax errors ... OK
* checking whether the package can be loaded ... OK
* checking whether the package can be loaded with stated dependencies ... OK
* checking whether the package can be unloaded cleanly ... OK
* checking whether the namespace can be loaded with stated dependencies ... NOTE
Warning in options(stringsAsFactors = TRUE) :
  'options(stringsAsFactors = TRUE)' is deprecated and will be disabled

A namespace must be able to be loaded with just the base namespace
loaded: otherwise if the namespace gets loaded by a saved object, the
session will be unable to start.

Probably some imports need to be declared in the NAMESPACE file.
* checking whether the namespace can be unloaded cleanly ... OK
* checking dependencies in R code ... OK
* checking S3 generic/method consistency ... OK
* checking replacement functions ... OK
* checking foreign function calls ... OK
* checking R code for possible problems ... NOTE
processing,TissueOpennessConserve: no visible binding for global
  variable ‘X2’
Undefined global functions or variables:
  X2
* checking Rd files ... OK
* checking Rd metadata ... OK
* checking Rd cross-references ... OK
* checking for missing documentation entries ... OK
* checking for code/documentation mismatches ... OK
* checking Rd \usage sections ... OK
* checking Rd contents ... OK
* checking for unstated dependencies in examples ... OK
* checking files in ‘vignettes’ ... OK
* checking examples ... OK
Examples with CPU (user + system) or elapsed time > 5s
                            user system elapsed
TissueOpennessSpecificity 27.167  0.137  27.330
GeneOntology              20.059  1.459  21.547
GenBackground              5.493  0.615   6.926
Pipelines                  2.486  0.221  29.157
* checking for unstated dependencies in ‘tests’ ... OK
* checking tests ...
  Running ‘testthat.R’
 OK
* checking for unstated dependencies in vignettes ... OK
* checking package vignettes in ‘inst/doc’ ... OK
* checking running R code from vignettes ... SKIPPED
* checking re-building of vignette outputs ... SKIPPED
* checking PDF version of manual ... OK
* DONE

Status: 3 NOTEs
See
  ‘/Users/biocbuild/bbs-3.13-bioc/meat/enrichTF.Rcheck/00check.log’
for details.



Installation output

enrichTF.Rcheck/00install.out

##############################################################################
##############################################################################
###
### Running command:
###
###   /Library/Frameworks/R.framework/Versions/Current/Resources/bin/R CMD INSTALL enrichTF
###
##############################################################################
##############################################################################


* installing to library ‘/Library/Frameworks/R.framework/Versions/4.1/Resources/library’
* installing *source* package ‘enrichTF’ ...
** using staged installation
** R
** inst
** byte-compile and prepare package for lazy loading
** help
*** installing help indices
** building package indices
** installing vignettes
** testing if installed package can be loaded from temporary location
Warning in options(stringsAsFactors = TRUE) :
  'options(stringsAsFactors = TRUE)' is deprecated and will be disabled
** testing if installed package can be loaded from final location
Warning in options(stringsAsFactors = TRUE) :
  'options(stringsAsFactors = TRUE)' is deprecated and will be disabled
** testing if installed package keeps a record of temporary installation path
* DONE (enrichTF)

Tests output

enrichTF.Rcheck/tests/testthat.Rout


R version 4.1.1 (2021-08-10) -- "Kick Things"
Copyright (C) 2021 The R Foundation for Statistical Computing
Platform: x86_64-apple-darwin17.0 (64-bit)

R is free software and comes with ABSOLUTELY NO WARRANTY.
You are welcome to redistribute it under certain conditions.
Type 'license()' or 'licence()' for distribution details.

R is a collaborative project with many contributors.
Type 'contributors()' for more information and
'citation()' on how to cite R or R packages in publications.

Type 'demo()' for some demos, 'help()' for on-line help, or
'help.start()' for an HTML browser interface to help.
Type 'q()' to quit R.

> library(testthat)
> library(enrichTF)
Loading required package: pipeFrame

Warning message:
In options(stringsAsFactors = TRUE) :
  'options(stringsAsFactors = TRUE)' is deprecated and will be disabled
> 
> test_check("enrichTF")
[1] "2021-09-23 18:41:45 EDT"
[1] "2021-09-23 18:41:45 EDT"
[1] "2021-09-23 18:41:45 EDT"
[1] "2021-09-23 18:41:45 EDT"
[1] "2021-09-23 18:41:45 EDT"
[1] "2021-09-23 18:41:45 EDT"
[1] "2021-09-23 18:41:47 EDT"
[1] "2021-09-23 18:41:47 EDT"
[1] "2021-09-23 18:41:47 EDT"
[1] "2021-09-23 18:41:47 EDT"
[1] "2021-09-23 18:41:47 EDT"
[1] "2021-09-23 18:41:47 EDT"
[1] "2021-09-23 18:41:49 EDT"
[1] "2021-09-23 18:41:49 EDT"
[1] "2021-09-23 18:41:49 EDT"
[1] "2021-09-23 18:41:49 EDT"
[1] "2021-09-23 18:41:49 EDT"
[1] "2021-09-23 18:41:49 EDT"
[ FAIL 0 | WARN 0 | SKIP 0 | PASS 9 ]
> 
> proc.time()
   user  system elapsed 
 25.490   2.029  27.649 

Example timings

enrichTF.Rcheck/enrichTF-Ex.timings

nameusersystemelapsed
GenBackground5.4930.6156.926
GeneOntology20.059 1.45921.547
MotifsInRegions3.0130.7972.963
Pipelines 2.486 0.22129.157
RegionConnectTargetGene0.7170.0590.777
TFsEnrichInRegions0.6320.0710.704
TissueOpennessConserve0.1600.0110.171
TissueOpennessSpecificity27.167 0.13727.330
UnzipAndMergeBed0.1130.0120.125