Back to Multiple platform build/check report for BioC 3.13
ABCD[E]FGHIJKLMNOPQRSTUVWXYZ

This page was generated on 2021-09-13 15:06:55 -0400 (Mon, 13 Sep 2021).

BUILD BIN results for eisaR on machv2

To the developers/maintainers of the eisaR package:
- Please allow up to 24 hours (and sometimes 48 hours) for your latest push to git@git.bioconductor.org:packages/eisaR.git to
reflect on this report. See How and When does the builder pull? When will my changes propagate? here for more information.
- Make sure to use the following settings in order to reproduce any error or warning you see on this page.

raw results

Package 563/2041HostnameOS / ArchINSTALLBUILDCHECKBUILD BIN
eisaR 1.4.0  (landing page)
Michael Stadler
Snapshot Date: 2021-09-12 04:50:10 -0400 (Sun, 12 Sep 2021)
git_url: https://git.bioconductor.org/packages/eisaR
git_branch: RELEASE_3_13
git_last_commit: 907e2ad
git_last_commit_date: 2021-05-19 12:50:21 -0400 (Wed, 19 May 2021)
nebbiolo1Linux (Ubuntu 20.04.2 LTS) / x86_64  OK    OK    OK  UNNEEDED, same version is already published
tokay2Windows Server 2012 R2 Standard / x64  OK    OK    OK    OK  UNNEEDED, same version is already published
machv2macOS 10.14.6 Mojave / x86_64  OK    OK    OK    OK  UNNEEDED, same version is already published

Summary

Package: eisaR
Version: 1.4.0
Command: rm -rf eisaR.buildbin-libdir && mkdir eisaR.buildbin-libdir && /Users/biocbuild/BBS/utils/build-universal.sh eisaR_1.4.0.tar.gz /Library/Frameworks/R.framework/Versions/Current/Resources/bin/R eisaR.buildbin-libdir
StartedAt: 2021-09-13 02:18:23 -0400 (Mon, 13 Sep 2021)
EndedAt: 2021-09-13 02:19:31 -0400 (Mon, 13 Sep 2021)
EllapsedTime: 68.0 seconds
RetCode: 0
Status:   OK  
PackageFile: eisaR_1.4.0.tgz
PackageFileSize: 1.66 MiB

Command output

##############################################################################
##############################################################################
###
### Running command:
###
###   rm -rf eisaR.buildbin-libdir && mkdir eisaR.buildbin-libdir && /Users/biocbuild/BBS/utils/build-universal.sh eisaR_1.4.0.tar.gz /Library/Frameworks/R.framework/Versions/Current/Resources/bin/R eisaR.buildbin-libdir
###
##############################################################################
##############################################################################


>>>>>>> 
>>>>>>> INSTALLATION WITH 'R CMD INSTALL --preclean --no-multiarch --library=eisaR.buildbin-libdir eisaR_1.4.0.tar.gz'
>>>>>>> 

* installing *source* package ‘eisaR’ ...
** using staged installation
** R
** inst
** byte-compile and prepare package for lazy loading
** help
*** installing help indices
** building package indices
** installing vignettes
** testing if installed package can be loaded from temporary location
** testing if installed package can be loaded from final location
** testing if installed package keeps a record of temporary installation path
* DONE (eisaR)