Back to Multiple platform build/check report for BioC 3.13
ABCD[E]FGHIJKLMNOPQRSTUVWXYZ

This page was generated on 2021-08-02 15:04:21 -0400 (Mon, 02 Aug 2021).

All results for package eisa

To the developers/maintainers of the eisa package:
- Please allow up to 24 hours (and sometimes 48 hours) for your latest push to git@git.bioconductor.org:packages/eisa.git to
reflect on this report. See How and When does the builder pull? When will my changes propagate? here for more information.
- Make sure to use the following settings in order to reproduce any error or warning you see on this page.

raw results

Package 562/2041HostnameOS / ArchINSTALLBUILDCHECKBUILD BIN
eisa 1.44.0  (landing page)
Gabor Csardi
Snapshot Date: 2021-08-01 04:50:10 -0400 (Sun, 01 Aug 2021)
URL: https://git.bioconductor.org/packages/eisa
Branch: RELEASE_3_13
Last Commit: 1bb635e
Last Changed Date: 2021-05-19 11:44:27 -0400 (Wed, 19 May 2021)
nebbiolo1Linux (Ubuntu 20.04.2 LTS) / x86_64  OK    OK    ERROR  
tokay2Windows Server 2012 R2 Standard / x64  OK    OK    ERROR    OK  
machv2macOS 10.14.6 Mojave / x86_64  OK    OK    ERROR    OK  

Results for Bioconductor software packages that depend directly on package eisa

QUICK STATSOS / ArchINSTALLBUILDCHECKBUILD BIN
nebbiolo1Linux (Ubuntu 20.04.2 LTS) / x86_64
010
010
0000
tokay2Windows Server 2012 R2 Standard / x64
010
010
0000
000
machv2macOS 10.14.6 Mojave / x86_64
010
010
0000
000
Package 1/1HostnameOS / ArchINSTALLBUILDCHECKBUILD BIN
ExpressionView 1.44.0  (landing page)
Gabor Csardi
Last Commit: 29190eb
Last Changed Date: 2021-05-19 11:45:10 -0400
nebbiolo1Linux (Ubuntu 20.04.2 LTS) / x86_64  ERROR    ERROR  skipped
tokay2Windows Server 2012 R2 Standard / x64  ERROR    ERROR  skippedskipped
machv2macOS 10.14.6 Mojave / x86_64  ERROR    ERROR  skippedskipped