Back to Multiple platform build/check report for BioC 3.13
ABCD[E]FGHIJKLMNOPQRSTUVWXYZ

This page was generated on 2021-09-13 15:06:24 -0400 (Mon, 13 Sep 2021).

INSTALL results for easyRNASeq on tokay2

To the developers/maintainers of the easyRNASeq package:
- Please allow up to 24 hours (and sometimes 48 hours) for your latest push to git@git.bioconductor.org:packages/easyRNASeq.git to
reflect on this report. See How and When does the builder pull? When will my changes propagate? here for more information.
- Make sure to use the following settings in order to reproduce any error or warning you see on this page.

raw results

Package 546/2041HostnameOS / ArchINSTALLBUILDCHECKBUILD BIN
easyRNASeq 2.28.0  (landing page)
Nicolas Delhomme
Snapshot Date: 2021-09-12 04:50:10 -0400 (Sun, 12 Sep 2021)
git_url: https://git.bioconductor.org/packages/easyRNASeq
git_branch: RELEASE_3_13
git_last_commit: 6d18522
git_last_commit_date: 2021-05-19 11:51:10 -0400 (Wed, 19 May 2021)
nebbiolo1Linux (Ubuntu 20.04.2 LTS) / x86_64  OK    OK    OK  UNNEEDED, same version is already published
tokay2Windows Server 2012 R2 Standard / x64  OK    OK    OK    OK  UNNEEDED, same version is already published
machv2macOS 10.14.6 Mojave / x86_64  OK    OK    OK    OK  UNNEEDED, same version is already published

Summary

Package: easyRNASeq
Version: 2.28.0
Command: C:\cygwin\bin\curl.exe -O http://155.52.207.165/BBS/3.13/bioc/src/contrib/easyRNASeq_2.28.0.tar.gz && rm -rf easyRNASeq.buildbin-libdir && mkdir easyRNASeq.buildbin-libdir && C:\Users\biocbuild\bbs-3.13-bioc\R\bin\R.exe CMD INSTALL --merge-multiarch --build --library=easyRNASeq.buildbin-libdir easyRNASeq_2.28.0.tar.gz && C:\Users\biocbuild\bbs-3.13-bioc\R\bin\R.exe CMD INSTALL easyRNASeq_2.28.0.zip && rm easyRNASeq_2.28.0.tar.gz easyRNASeq_2.28.0.zip
StartedAt: 2021-09-12 08:32:25 -0400 (Sun, 12 Sep 2021)
EndedAt: 2021-09-12 08:35:58 -0400 (Sun, 12 Sep 2021)
EllapsedTime: 213.4 seconds
RetCode: 0
Status:   OK  

Command output

##############################################################################
##############################################################################
###
### Running command:
###
###   C:\cygwin\bin\curl.exe -O http://155.52.207.165/BBS/3.13/bioc/src/contrib/easyRNASeq_2.28.0.tar.gz && rm -rf easyRNASeq.buildbin-libdir && mkdir easyRNASeq.buildbin-libdir && C:\Users\biocbuild\bbs-3.13-bioc\R\bin\R.exe CMD INSTALL --merge-multiarch --build --library=easyRNASeq.buildbin-libdir easyRNASeq_2.28.0.tar.gz && C:\Users\biocbuild\bbs-3.13-bioc\R\bin\R.exe CMD INSTALL easyRNASeq_2.28.0.zip && rm easyRNASeq_2.28.0.tar.gz easyRNASeq_2.28.0.zip
###
##############################################################################
##############################################################################


  % Total    % Received % Xferd  Average Speed   Time    Time     Time  Current
                                 Dload  Upload   Total   Spent    Left  Speed

  0     0    0     0    0     0      0      0 --:--:-- --:--:-- --:--:--     0
100  119k  100  119k    0     0   626k      0 --:--:-- --:--:-- --:--:--  629k

install for i386

* installing *source* package 'easyRNASeq' ...
** using staged installation
** R
** data
** inst
** byte-compile and prepare package for lazy loading
Creating a generic function for 'basename' from package 'base' in package 'easyRNASeq'
Creating a generic function for 'file.exists' from package 'base' in package 'easyRNASeq'
** help
*** installing help indices
  converting help for package 'easyRNASeq'
    finding HTML links ... done
    BiocFileCache-methods                   html  
    finding level-2 HTML links ... done

    GenomicRanges-methods                   html  
    IRanges-methods                         html  
    Rsamtools-methods                       html  
    ShortRead-methods                       html  
    basename-methods                        html  
    easyRNASeq-AnnotParam-accessors         html  
    easyRNASeq-AnnotParam-class             html  
    easyRNASeq-AnnotParam                   html  
    easyRNASeq-BamFileList                  html  
    easyRNASeq-BamParam-accessors           html  
    easyRNASeq-BamParam-class               html  
    easyRNASeq-BamParam                     html  
    easyRNASeq-RnaSeqParam-accessors        html  
REDIRECT:topic	 Previous alias or file overwritten by alias: C:/Users/biocbuild/bbs-3.13-bioc/meat/easyRNASeq.buildbin-libdir/00LOCK-easyRNASeq/00new/easyRNASeq/help/bamParam.html
REDIRECT:topic	 Previous alias or file overwritten by alias: C:/Users/biocbuild/bbs-3.13-bioc/meat/easyRNASeq.buildbin-libdir/00LOCK-easyRNASeq/00new/easyRNASeq/help/annotParam.html
    easyRNASeq-RnaSeqParam-class            html  
    easyRNASeq-RnaSeqParam                  html  
    easyRNASeq-accessors                    html  
    easyRNASeq-annotation-internal-methods
                                            html  
    easyRNASeq-annotation-methods           html  
    easyRNASeq-class                        html  
    easyRNASeq-correction-methods           html  
    easyRNASeq-coverage-methods             html  
    easyRNASeq-datasets                     html  
    easyRNASeq-defunct-annotation-methods   html  
    easyRNASeq-defunct                      html  
    easyRNASeq-easyRNASeq                   html  
REDIRECT:topic	 Previous alias or file overwritten by alias: C:/Users/biocbuild/bbs-3.13-bioc/meat/easyRNASeq.buildbin-libdir/00LOCK-easyRNASeq/00new/easyRNASeq/help/easyRNASeq-defunct.html
    easyRNASeq-global-variables             html  
    easyRNASeq-internal-AnnotParam-methods
                                            html  
    easyRNASeq-internal-methods             html  
    easyRNASeq-island-methods               html  
    easyRNASeq-package                      html  
    easyRNASeq-simpleRNASeq                 html  
    easyRNASeq-summarization-internal-methods
                                            html  
    easyRNASeq-summarization-methods        html  
    easyRNASeq-synthetic-transcripts        html  
    edgeR-methods                           html  
    file.exists-methods                     html  
    genomeIntervals-methods                 html  
    parallel-methods                        html  
    print-methods                           html  
    show-methods                            html  
** building package indices
** installing vignettes
** testing if installed package can be loaded from temporary location
** testing if installed package can be loaded from final location
** testing if installed package keeps a record of temporary installation path

install for x64

* installing *source* package 'easyRNASeq' ...
** testing if installed package can be loaded
* MD5 sums
packaged installation of 'easyRNASeq' as easyRNASeq_2.28.0.zip
* DONE (easyRNASeq)
* installing to library 'C:/Users/biocbuild/bbs-3.13-bioc/R/library'
package 'easyRNASeq' successfully unpacked and MD5 sums checked