Back to Multiple platform build/check report for BioC 3.13
ABC[D]EFGHIJKLMNOPQRSTUVWXYZ

This page was generated on 2021-09-20 15:05:40 -0400 (Mon, 20 Sep 2021).

BUILD BIN results for drugTargetInteractions on machv2

To the developers/maintainers of the drugTargetInteractions package:
- Please allow up to 24 hours (and sometimes 48 hours) for your latest push to git@git.bioconductor.org:packages/drugTargetInteractions.git to
reflect on this report. See How and When does the builder pull? When will my changes propagate? here for more information.
- Make sure to use the following settings in order to reproduce any error or warning you see on this page.

raw results

Package 535/2041HostnameOS / ArchINSTALLBUILDCHECKBUILD BIN
drugTargetInteractions 1.0.2  (landing page)
Thomas Girke
Snapshot Date: 2021-09-19 04:50:10 -0400 (Sun, 19 Sep 2021)
git_url: https://git.bioconductor.org/packages/drugTargetInteractions
git_branch: RELEASE_3_13
git_last_commit: dd1665a
git_last_commit_date: 2021-08-26 14:37:10 -0400 (Thu, 26 Aug 2021)
nebbiolo1Linux (Ubuntu 20.04.2 LTS) / x86_64  OK    OK    OK  UNNEEDED, same version is already published
tokay2Windows Server 2012 R2 Standard / x64  OK    OK    OK    OK  NO, package depends on 'UniProt.ws' which is not available
machv2macOS 10.14.6 Mojave / x86_64  OK    OK    OK    OK  UNNEEDED, same version is already published

Summary

Package: drugTargetInteractions
Version: 1.0.2
Command: rm -rf drugTargetInteractions.buildbin-libdir && mkdir drugTargetInteractions.buildbin-libdir && /Users/biocbuild/BBS/utils/build-universal.sh drugTargetInteractions_1.0.2.tar.gz /Library/Frameworks/R.framework/Versions/Current/Resources/bin/R drugTargetInteractions.buildbin-libdir
StartedAt: 2021-09-20 02:14:11 -0400 (Mon, 20 Sep 2021)
EndedAt: 2021-09-20 02:15:10 -0400 (Mon, 20 Sep 2021)
EllapsedTime: 59.0 seconds
RetCode: 0
Status:   OK  
PackageFile: drugTargetInteractions_1.0.2.tgz
PackageFileSize: 990.4 KiB

Command output

##############################################################################
##############################################################################
###
### Running command:
###
###   rm -rf drugTargetInteractions.buildbin-libdir && mkdir drugTargetInteractions.buildbin-libdir && /Users/biocbuild/BBS/utils/build-universal.sh drugTargetInteractions_1.0.2.tar.gz /Library/Frameworks/R.framework/Versions/Current/Resources/bin/R drugTargetInteractions.buildbin-libdir
###
##############################################################################
##############################################################################


>>>>>>> 
>>>>>>> INSTALLATION WITH 'R CMD INSTALL --preclean --no-multiarch --library=drugTargetInteractions.buildbin-libdir drugTargetInteractions_1.0.2.tar.gz'
>>>>>>> 

* installing *source* package ‘drugTargetInteractions’ ...
** using staged installation
** R
** inst
** byte-compile and prepare package for lazy loading
** help
*** installing help indices
** building package indices
** installing vignettes
** testing if installed package can be loaded from temporary location
** testing if installed package can be loaded from final location
** testing if installed package keeps a record of temporary installation path
* DONE (drugTargetInteractions)