Back to Multiple platform build/check report for BioC 3.13
ABC[D]EFGHIJKLMNOPQRSTUVWXYZ

This page was generated on 2021-09-13 15:05:58 -0400 (Mon, 13 Sep 2021).

CHECK results for doseR on nebbiolo1

To the developers/maintainers of the doseR package:
- Please allow up to 24 hours (and sometimes 48 hours) for your latest push to git@git.bioconductor.org:packages/doseR.git to
reflect on this report. See How and When does the builder pull? When will my changes propagate? here for more information.
- Make sure to use the following settings in order to reproduce any error or warning you see on this page.

raw results

Package 529/2041HostnameOS / ArchINSTALLBUILDCHECKBUILD BIN
doseR 1.8.0  (landing page)
ake.vastermark
Snapshot Date: 2021-09-12 04:50:10 -0400 (Sun, 12 Sep 2021)
git_url: https://git.bioconductor.org/packages/doseR
git_branch: RELEASE_3_13
git_last_commit: ddab3b7
git_last_commit_date: 2021-05-19 12:41:19 -0400 (Wed, 19 May 2021)
nebbiolo1Linux (Ubuntu 20.04.2 LTS) / x86_64  OK    OK    OK  UNNEEDED, same version is already published
tokay2Windows Server 2012 R2 Standard / x64  OK    OK    OK    OK  UNNEEDED, same version is already published
machv2macOS 10.14.6 Mojave / x86_64  OK    OK    OK    OK  UNNEEDED, same version is already published

Summary

Package: doseR
Version: 1.8.0
Command: /home/biocbuild/bbs-3.13-bioc/R/bin/R CMD check --install=check:doseR.install-out.txt --library=/home/biocbuild/bbs-3.13-bioc/R/library --no-vignettes --timings doseR_1.8.0.tar.gz
StartedAt: 2021-09-12 09:38:12 -0400 (Sun, 12 Sep 2021)
EndedAt: 2021-09-12 09:40:30 -0400 (Sun, 12 Sep 2021)
EllapsedTime: 137.5 seconds
RetCode: 0
Status:   OK  
CheckDir: doseR.Rcheck
Warnings: 0

Command output

##############################################################################
##############################################################################
###
### Running command:
###
###   /home/biocbuild/bbs-3.13-bioc/R/bin/R CMD check --install=check:doseR.install-out.txt --library=/home/biocbuild/bbs-3.13-bioc/R/library --no-vignettes --timings doseR_1.8.0.tar.gz
###
##############################################################################
##############################################################################


* using log directory ‘/home/biocbuild/bbs-3.13-bioc/meat/doseR.Rcheck’
* using R version 4.1.1 (2021-08-10)
* using platform: x86_64-pc-linux-gnu (64-bit)
* using session charset: UTF-8
* using option ‘--no-vignettes’
* checking for file ‘doseR/DESCRIPTION’ ... OK
* checking extension type ... Package
* this is package ‘doseR’ version ‘1.8.0’
* package encoding: UTF-8
* checking package namespace information ... OK
* checking package dependencies ... OK
* checking if this is a source package ... OK
* checking if there is a namespace ... OK
* checking for hidden files and directories ... OK
* checking for portable file names ... OK
* checking for sufficient/correct file permissions ... OK
* checking whether package ‘doseR’ can be installed ... OK
* checking installed package size ... OK
* checking package directory ... OK
* checking ‘build’ directory ... OK
* checking DESCRIPTION meta-information ... OK
* checking top-level files ... OK
* checking for left-over files ... OK
* checking index information ... OK
* checking package subdirectories ... OK
* checking R files for non-ASCII characters ... OK
* checking R files for syntax errors ... OK
* checking whether the package can be loaded ... OK
* checking whether the package can be loaded with stated dependencies ... OK
* checking whether the package can be unloaded cleanly ... OK
* checking whether the namespace can be loaded with stated dependencies ... OK
* checking whether the namespace can be unloaded cleanly ... OK
* checking dependencies in R code ... OK
* checking S3 generic/method consistency ... OK
* checking replacement functions ... OK
* checking foreign function calls ... OK
* checking R code for possible problems ... OK
* checking Rd files ... OK
* checking Rd metadata ... OK
* checking Rd cross-references ... OK
* checking for missing documentation entries ... OK
* checking for code/documentation mismatches ... OK
* checking Rd \usage sections ... OK
* checking Rd contents ... OK
* checking for unstated dependencies in examples ... OK
* checking contents of ‘data’ directory ... OK
* checking data for non-ASCII characters ... OK
* checking data for ASCII and uncompressed saves ... OK
* checking files in ‘vignettes’ ... OK
* checking examples ... OK
* checking for unstated dependencies in ‘tests’ ... OK
* checking tests ...
  Running ‘1.R’
 OK
* checking for unstated dependencies in vignettes ... OK
* checking package vignettes in ‘inst/doc’ ... OK
* checking running R code from vignettes ... SKIPPED
* checking re-building of vignette outputs ... SKIPPED
* checking PDF version of manual ... OK
* DONE

Status: OK


Installation output

doseR.Rcheck/00install.out

##############################################################################
##############################################################################
###
### Running command:
###
###   /home/biocbuild/bbs-3.13-bioc/R/bin/R CMD INSTALL doseR
###
##############################################################################
##############################################################################


* installing to library ‘/home/biocbuild/bbs-3.13-bioc/R/library’
* installing *source* package ‘doseR’ ...
** using staged installation
** R
** data
** inst
** byte-compile and prepare package for lazy loading
** help
*** installing help indices
** building package indices
** installing vignettes
** testing if installed package can be loaded from temporary location
** testing if installed package can be loaded from final location
** testing if installed package keeps a record of temporary installation path
* DONE (doseR)

Tests output

doseR.Rcheck/tests/1.Rout


R version 4.1.1 (2021-08-10) -- "Kick Things"
Copyright (C) 2021 The R Foundation for Statistical Computing
Platform: x86_64-pc-linux-gnu (64-bit)

R is free software and comes with ABSOLUTELY NO WARRANTY.
You are welcome to redistribute it under certain conditions.
Type 'license()' or 'licence()' for distribution details.

R is a collaborative project with many contributors.
Type 'contributors()' for more information and
'citation()' on how to cite R or R packages in publications.

Type 'demo()' for some demos, 'help()' for on-line help, or
'help.start()' for an HTML browser interface to help.
Type 'q()' to quit R.

> 
> library(doseR)
> 
> data(hmel.se)
> f_se <- quantFilter(se, lo.bound = 0.4, hi.bound = 0.5)
Filtering removed 12660 (92.96%) of 13619 total loci.
> dm <- se.DM(f_se)
> temp <- glSeq(dm, "-1 + replicate")
> 
> RUnit::checkEqualsNumeric(round(temp@optinfo$val[4], 1), round(6.008, 1))
[1] TRUE
> RUnit::checkEqualsNumeric(round(temp@optinfo$val[5], 1), round(5.840, 1))
[1] TRUE
> 
> proc.time()
   user  system elapsed 
  7.761   0.430   8.176 

Example timings

doseR.Rcheck/doseR-Ex.timings

nameusersystemelapsed
dafs3.4280.0483.476
dafsFilter2.0420.0072.050
generateStats0.0870.0040.091
getLibsizes30.0710.0000.071
glSeq2.1570.0402.197
iqrxFilter0.0730.0000.073
make_RPKM0.0730.0030.077
plotExpr0.1090.0010.109
plotMA.se0.2120.0030.216
plotRatioBoxes0.2720.0000.272
plotRatioDensity0.1060.0000.106
quantFilter0.0570.0000.057
se.DM0.2130.0010.213
simpleFilter0.2480.0000.248
test_diffs0.1160.0000.116