Back to Multiple platform build/check report for BioC 3.13
ABC[D]EFGHIJKLMNOPQRSTUVWXYZ

This page was generated on 2021-09-22 15:04:50 -0400 (Wed, 22 Sep 2021).

INSTALL results for dmrseq on nebbiolo1

To the developers/maintainers of the dmrseq package:
- Please allow up to 24 hours (and sometimes 48 hours) for your latest push to git@git.bioconductor.org:packages/dmrseq.git to
reflect on this report. See How and When does the builder pull? When will my changes propagate? here for more information.
- Make sure to use the following settings in order to reproduce any error or warning you see on this page.

raw results

Package 520/2041HostnameOS / ArchINSTALLBUILDCHECKBUILD BIN
dmrseq 1.12.0  (landing page)
Keegan Korthauer
Snapshot Date: 2021-09-21 04:50:12 -0400 (Tue, 21 Sep 2021)
git_url: https://git.bioconductor.org/packages/dmrseq
git_branch: RELEASE_3_13
git_last_commit: e8485f3
git_last_commit_date: 2021-05-19 12:33:43 -0400 (Wed, 19 May 2021)
nebbiolo1Linux (Ubuntu 20.04.2 LTS) / x86_64  OK    OK    WARNINGS  UNNEEDED, same version is already published
tokay2Windows Server 2012 R2 Standard / x64  OK    OK    WARNINGS    OK  UNNEEDED, same version is already published
machv2macOS 10.14.6 Mojave / x86_64  OK    OK    WARNINGS    OK  UNNEEDED, same version is already published

Summary

Package: dmrseq
Version: 1.12.0
Command: /home/biocbuild/bbs-3.13-bioc/R/bin/R CMD INSTALL dmrseq
StartedAt: 2021-09-21 06:36:08 -0400 (Tue, 21 Sep 2021)
EndedAt: 2021-09-21 06:36:56 -0400 (Tue, 21 Sep 2021)
EllapsedTime: 48.0 seconds
RetCode: 0
Status:   OK  

Command output

##############################################################################
##############################################################################
###
### Running command:
###
###   /home/biocbuild/bbs-3.13-bioc/R/bin/R CMD INSTALL dmrseq
###
##############################################################################
##############################################################################


* installing to library ‘/home/biocbuild/bbs-3.13-bioc/R/library’
* installing *source* package ‘dmrseq’ ...
** using staged installation
** R
** data
*** moving datasets to lazyload DB
** inst
** byte-compile and prepare package for lazy loading
Warning: replacing previous import ‘AnnotationHub::hubUrl’ by ‘rtracklayer::hubUrl’ when loading ‘annotatr’
** help
*** installing help indices
** building package indices
** installing vignettes
** testing if installed package can be loaded from temporary location
Warning: replacing previous import ‘AnnotationHub::hubUrl’ by ‘rtracklayer::hubUrl’ when loading ‘annotatr’
** testing if installed package can be loaded from final location
Warning: replacing previous import ‘AnnotationHub::hubUrl’ by ‘rtracklayer::hubUrl’ when loading ‘annotatr’
** testing if installed package keeps a record of temporary installation path
* DONE (dmrseq)