Back to Multiple platform build/check report for BioC 3.13
ABC[D]EFGHIJKLMNOPQRSTUVWXYZ

This page was generated on 2021-09-22 15:05:13 -0400 (Wed, 22 Sep 2021).

BUILD BIN results for dittoSeq on tokay2

To the developers/maintainers of the dittoSeq package:
- Please allow up to 24 hours (and sometimes 48 hours) for your latest push to git@git.bioconductor.org:packages/dittoSeq.git to
reflect on this report. See How and When does the builder pull? When will my changes propagate? here for more information.
- Make sure to use the following settings in order to reproduce any error or warning you see on this page.

raw results

Package 511/2041HostnameOS / ArchINSTALLBUILDCHECKBUILD BIN
dittoSeq 1.4.2  (landing page)
Daniel Bunis
Snapshot Date: 2021-09-21 04:50:12 -0400 (Tue, 21 Sep 2021)
git_url: https://git.bioconductor.org/packages/dittoSeq
git_branch: RELEASE_3_13
git_last_commit: ddf92b8
git_last_commit_date: 2021-09-07 14:26:15 -0400 (Tue, 07 Sep 2021)
nebbiolo1Linux (Ubuntu 20.04.2 LTS) / x86_64  OK    OK    OK  UNNEEDED, same version is already published
tokay2Windows Server 2012 R2 Standard / x64  OK    OK    OK    OK  UNNEEDED, same version is already published
machv2macOS 10.14.6 Mojave / x86_64  OK    OK    OK    OK  UNNEEDED, same version is already published

Summary

Package: dittoSeq
Version: 1.4.2
Command: rm -rf dittoSeq.buildbin-libdir && mkdir dittoSeq.buildbin-libdir && C:\Users\biocbuild\bbs-3.13-bioc\R\bin\R.exe CMD INSTALL --merge-multiarch --build --library=dittoSeq.buildbin-libdir dittoSeq_1.4.2.tar.gz
StartedAt: 2021-09-22 08:41:54 -0400 (Wed, 22 Sep 2021)
EndedAt: 2021-09-22 08:43:00 -0400 (Wed, 22 Sep 2021)
EllapsedTime: 66.3 seconds
RetCode: 0
Status:   OK  
PackageFile: dittoSeq_1.4.2.zip
PackageFileSize: 2.121 MiB

Command output

##############################################################################
##############################################################################
###
### Running command:
###
###   rm -rf dittoSeq.buildbin-libdir && mkdir dittoSeq.buildbin-libdir && C:\Users\biocbuild\bbs-3.13-bioc\R\bin\R.exe CMD INSTALL --merge-multiarch --build --library=dittoSeq.buildbin-libdir dittoSeq_1.4.2.tar.gz
###
##############################################################################
##############################################################################



install for i386

* installing *source* package 'dittoSeq' ...
** using staged installation
** R
** data
*** moving datasets to lazyload DB
** inst
** byte-compile and prepare package for lazy loading
** help
*** installing help indices
  converting help for package 'dittoSeq'
    finding HTML links ... done
    Darken                                  html  
    Lighten                                 html  
    Simulate                                html  
    addDimReduction                         html  
    finding level-2 HTML links ... done

    addPrcomp                               html  
    demux.SNP.summary                       html  
    demux.calls.summary                     html  
    demuxlet.example                        html  
    dittoBarPlot                            html  
    dittoColors                             html  
    dittoDimPlot                            html  
    dittoDotPlot                            html  
    dittoFreqPlot                           html  
    dittoHeatmap                            html  
    dittoHex                                html  
    dittoPlot                               html  
    dittoPlotVarsAcrossGroups               html  
    dittoScatterPlot                        html  
    dittoSeq                                html  
    gene                                    html  
    getGenes                                html  
    getMetas                                html  
    getReductions                           html  
    importDemux                             html  
    importDittoBulk                         html  
    isBulk                                  html  
    isGene                                  html  
    isMeta                                  html  
    meta                                    html  
    metaLevels                              html  
    multi_dittoDimPlot                      html  
    multi_dittoDimPlotVaryCells             html  
    multi_dittoPlot                         html  
    setBulk                                 html  
** building package indices
** installing vignettes
** testing if installed package can be loaded from temporary location
** testing if installed package can be loaded from final location
** testing if installed package keeps a record of temporary installation path

install for x64

* installing *source* package 'dittoSeq' ...
** testing if installed package can be loaded
* MD5 sums
packaged installation of 'dittoSeq' as dittoSeq_1.4.2.zip
* DONE (dittoSeq)