Back to Multiple platform build/check report for BioC 3.13
ABC[D]EFGHIJKLMNOPQRSTUVWXYZ

This page was generated on 2021-09-20 15:05:40 -0400 (Mon, 20 Sep 2021).

INSTALL results for dittoSeq on machv2

To the developers/maintainers of the dittoSeq package:
- Please allow up to 24 hours (and sometimes 48 hours) for your latest push to git@git.bioconductor.org:packages/dittoSeq.git to
reflect on this report. See How and When does the builder pull? When will my changes propagate? here for more information.
- Make sure to use the following settings in order to reproduce any error or warning you see on this page.

raw results

Package 511/2041HostnameOS / ArchINSTALLBUILDCHECKBUILD BIN
dittoSeq 1.4.2  (landing page)
Daniel Bunis
Snapshot Date: 2021-09-19 04:50:10 -0400 (Sun, 19 Sep 2021)
git_url: https://git.bioconductor.org/packages/dittoSeq
git_branch: RELEASE_3_13
git_last_commit: ddf92b8
git_last_commit_date: 2021-09-07 14:26:15 -0400 (Tue, 07 Sep 2021)
nebbiolo1Linux (Ubuntu 20.04.2 LTS) / x86_64  OK    OK    OK  UNNEEDED, same version is already published
tokay2Windows Server 2012 R2 Standard / x64  OK    OK    OK    OK  UNNEEDED, same version is already published
machv2macOS 10.14.6 Mojave / x86_64  OK    OK    OK    OK  UNNEEDED, same version is already published

Summary

Package: dittoSeq
Version: 1.4.2
Command: /Library/Frameworks/R.framework/Versions/Current/Resources/bin/R CMD INSTALL dittoSeq
StartedAt: 2021-09-19 09:11:15 -0400 (Sun, 19 Sep 2021)
EndedAt: 2021-09-19 09:12:02 -0400 (Sun, 19 Sep 2021)
EllapsedTime: 47.4 seconds
RetCode: 0
Status:   OK  

Command output

##############################################################################
##############################################################################
###
### Running command:
###
###   /Library/Frameworks/R.framework/Versions/Current/Resources/bin/R CMD INSTALL dittoSeq
###
##############################################################################
##############################################################################


* installing to library ‘/Library/Frameworks/R.framework/Versions/4.1/Resources/library’
* installing *source* package ‘dittoSeq’ ...
** using staged installation
** R
** data
*** moving datasets to lazyload DB
** inst
** byte-compile and prepare package for lazy loading
** help
*** installing help indices
** building package indices
** installing vignettes
** testing if installed package can be loaded from temporary location
** testing if installed package can be loaded from final location
** testing if installed package keeps a record of temporary installation path
* DONE (dittoSeq)