Back to Multiple platform build/check report for BioC 3.13
ABC[D]EFGHIJKLMNOPQRSTUVWXYZ

This page was generated on 2021-09-13 15:06:55 -0400 (Mon, 13 Sep 2021).

BUILD results for dittoSeq on machv2

To the developers/maintainers of the dittoSeq package:
- Please allow up to 24 hours (and sometimes 48 hours) for your latest push to git@git.bioconductor.org:packages/dittoSeq.git to
reflect on this report. See How and When does the builder pull? When will my changes propagate? here for more information.
- Make sure to use the following settings in order to reproduce any error or warning you see on this page.

raw results

Package 511/2041HostnameOS / ArchINSTALLBUILDCHECKBUILD BIN
dittoSeq 1.4.2  (landing page)
Daniel Bunis
Snapshot Date: 2021-09-12 04:50:10 -0400 (Sun, 12 Sep 2021)
git_url: https://git.bioconductor.org/packages/dittoSeq
git_branch: RELEASE_3_13
git_last_commit: ddf92b8
git_last_commit_date: 2021-09-07 14:26:15 -0400 (Tue, 07 Sep 2021)
nebbiolo1Linux (Ubuntu 20.04.2 LTS) / x86_64  OK    OK    OK  UNNEEDED, same version is already published
tokay2Windows Server 2012 R2 Standard / x64  OK    OK    OK    OK  UNNEEDED, same version is already published
machv2macOS 10.14.6 Mojave / x86_64  OK    OK    OK    OK  UNNEEDED, same version is already published

Summary

Package: dittoSeq
Version: 1.4.2
Command: /Library/Frameworks/R.framework/Versions/Current/Resources/bin/R CMD build --keep-empty-dirs --no-resave-data dittoSeq
StartedAt: 2021-09-12 11:41:46 -0400 (Sun, 12 Sep 2021)
EndedAt: 2021-09-12 11:44:48 -0400 (Sun, 12 Sep 2021)
EllapsedTime: 181.6 seconds
RetCode: 0
Status:   OK  
PackageFile: dittoSeq_1.4.2.tar.gz
PackageFileSize: 2.47 MiB

Command output

##############################################################################
##############################################################################
###
### Running command:
###
###   /Library/Frameworks/R.framework/Versions/Current/Resources/bin/R CMD build --keep-empty-dirs --no-resave-data dittoSeq
###
##############################################################################
##############################################################################


* checking for file ‘dittoSeq/DESCRIPTION’ ... OK
* preparing ‘dittoSeq’:
* checking DESCRIPTION meta-information ... OK
* installing the package to build vignettes
* creating vignettes ... OK
* checking for LF line-endings in source and make files and shell scripts
* checking for empty or unneeded directories
* building ‘dittoSeq_1.4.2.tar.gz’