Back to Multiple platform build/check report for BioC 3.13
ABC[D]EFGHIJKLMNOPQRSTUVWXYZ

This page was generated on 2021-09-17 15:06:03 -0400 (Fri, 17 Sep 2021).

BUILD BIN results for diffloop on tokay2

To the developers/maintainers of the diffloop package:
- Please allow up to 24 hours (and sometimes 48 hours) for your latest push to git@git.bioconductor.org:packages/diffloop.git to
reflect on this report. See How and When does the builder pull? When will my changes propagate? here for more information.
- Make sure to use the following settings in order to reproduce any error or warning you see on this page.

raw results

Package 501/2041HostnameOS / ArchINSTALLBUILDCHECKBUILD BIN
diffloop 1.20.0  (landing page)
Caleb Lareau
Snapshot Date: 2021-09-16 04:50:11 -0400 (Thu, 16 Sep 2021)
git_url: https://git.bioconductor.org/packages/diffloop
git_branch: RELEASE_3_13
git_last_commit: 900a5e1
git_last_commit_date: 2021-05-19 12:20:17 -0400 (Wed, 19 May 2021)
nebbiolo1Linux (Ubuntu 20.04.2 LTS) / x86_64  OK    OK    OK  UNNEEDED, same version is already published
tokay2Windows Server 2012 R2 Standard / x64  OK    OK    WARNINGS    OK  UNNEEDED, same version is already published
machv2macOS 10.14.6 Mojave / x86_64  OK    OK    OK    OK  UNNEEDED, same version is already published

Summary

Package: diffloop
Version: 1.20.0
Command: rm -rf diffloop.buildbin-libdir && mkdir diffloop.buildbin-libdir && C:\Users\biocbuild\bbs-3.13-bioc\R\bin\R.exe CMD INSTALL --merge-multiarch --build --library=diffloop.buildbin-libdir diffloop_1.20.0.tar.gz
StartedAt: 2021-09-17 09:07:47 -0400 (Fri, 17 Sep 2021)
EndedAt: 2021-09-17 09:08:55 -0400 (Fri, 17 Sep 2021)
EllapsedTime: 67.5 seconds
RetCode: 0
Status:   OK  
PackageFile: diffloop_1.20.0.zip
PackageFileSize: 1.616 MiB

Command output

##############################################################################
##############################################################################
###
### Running command:
###
###   rm -rf diffloop.buildbin-libdir && mkdir diffloop.buildbin-libdir && C:\Users\biocbuild\bbs-3.13-bioc\R\bin\R.exe CMD INSTALL --merge-multiarch --build --library=diffloop.buildbin-libdir diffloop_1.20.0.tar.gz
###
##############################################################################
##############################################################################



install for i386

* installing *source* package 'diffloop' ...
** using staged installation
** R
** inst
** byte-compile and prepare package for lazy loading
Warning: replacing previous import 'GenomicRanges::windows' by 'grDevices::windows' when loading 'diffloop'
** help
*** installing help indices
  converting help for package 'diffloop'
    finding HTML links ... done
    addchr                                  html  
    annotateAnchors                         html  
    annotateAnchors.bed                     html  
    annotateAnchors.bigwig                  html  
    annotateLoops                           html  
    annotateLoops.dge                       html  
    bedToGRanges                            html  
    calcLDSizeFactors                       html  
    callCCDs                                html  
    computeBoundaryScores                   html  
    diffloop                                html  
    dim-loops-method                        html  
    featureTest                             html  
    filterLoops                             html  
    filterSpanningLoops                     html  
    geneinfo                                html  
    getHumanGenes                           html  
    getHumanTSS                             html  
    getMouseGenes                           html  
    getMouseTSS                             html  
    head-loops-method                       html  
    human.genes                             html  
    interchromosomal                        html  
    intrachromosomal                        html  
    keepCTCFloops                           html  
    keepEPloops                             html  
    loopAssoc                               html  
    loopDistancePlot                        html  
    loopGenes                               html  
    loopMetrics                             html  
    loopPlot                                html  
    loopWidth                               html  
    loops-class                             html  
    loops.small                             html  
    loopsMake                               html  
    loopsMake.mango                         html  
    loopsSubset                             html  
    mangoCorrection                         html  
    manyLoopPlots                           html  
    mergeAnchors                            html  
    numAnchors                              html  
    numLoops                                html  
    padGRanges                              html  
    pcaPlot                                 html  
    plotTopLoops                            html  
    quickAssoc                              html  
    quickAssocVoom                          html  
    removeRegion                            html  
    removeSelfLoops                         html  
    rmchr                                   html  
    sampleNames-loops-method                html  
    slidingWindowTest                       html  
    splitSamples                            html  
    sub-loops-numeric-numeric-missing-method
                                            html  
    subsetLoops                             html  
    subsetRegion                            html  
    subsetRegionAB                          html  
    summary-loops-method                    html  
    tail-loops-method                       html  
    topLoops                                html  
    union-loops-loops-method                html  
    updateLDGroups                          html  
** building package indices
** installing vignettes
** testing if installed package can be loaded from temporary location
Warning: replacing previous import 'GenomicRanges::windows' by 'grDevices::windows' when loading 'diffloop'
** testing if installed package can be loaded from final location
Warning: replacing previous import 'GenomicRanges::windows' by 'grDevices::windows' when loading 'diffloop'
** testing if installed package keeps a record of temporary installation path

install for x64

* installing *source* package 'diffloop' ...
** testing if installed package can be loaded
Warning: replacing previous import 'GenomicRanges::windows' by 'grDevices::windows' when loading 'diffloop'
* MD5 sums
packaged installation of 'diffloop' as diffloop_1.20.0.zip
* DONE (diffloop)