Back to Multiple platform build/check report for BioC 3.13
ABC[D]EFGHIJKLMNOPQRSTUVWXYZ

This page was generated on 2021-09-22 15:04:49 -0400 (Wed, 22 Sep 2021).

CHECK results for diffloop on nebbiolo1

To the developers/maintainers of the diffloop package:
- Please allow up to 24 hours (and sometimes 48 hours) for your latest push to git@git.bioconductor.org:packages/diffloop.git to
reflect on this report. See How and When does the builder pull? When will my changes propagate? here for more information.
- Make sure to use the following settings in order to reproduce any error or warning you see on this page.

raw results

Package 501/2041HostnameOS / ArchINSTALLBUILDCHECKBUILD BIN
diffloop 1.20.0  (landing page)
Caleb Lareau
Snapshot Date: 2021-09-21 04:50:12 -0400 (Tue, 21 Sep 2021)
git_url: https://git.bioconductor.org/packages/diffloop
git_branch: RELEASE_3_13
git_last_commit: 900a5e1
git_last_commit_date: 2021-05-19 12:20:17 -0400 (Wed, 19 May 2021)
nebbiolo1Linux (Ubuntu 20.04.2 LTS) / x86_64  OK    OK    OK  UNNEEDED, same version is already published
tokay2Windows Server 2012 R2 Standard / x64  OK    OK    WARNINGS    OK  UNNEEDED, same version is already published
machv2macOS 10.14.6 Mojave / x86_64  OK    OK    OK    OK  UNNEEDED, same version is already published

Summary

Package: diffloop
Version: 1.20.0
Command: /home/biocbuild/bbs-3.13-bioc/R/bin/R CMD check --install=check:diffloop.install-out.txt --library=/home/biocbuild/bbs-3.13-bioc/R/library --no-vignettes --timings diffloop_1.20.0.tar.gz
StartedAt: 2021-09-21 09:39:04 -0400 (Tue, 21 Sep 2021)
EndedAt: 2021-09-21 09:43:03 -0400 (Tue, 21 Sep 2021)
EllapsedTime: 238.6 seconds
RetCode: 0
Status:   OK  
CheckDir: diffloop.Rcheck
Warnings: 0

Command output

##############################################################################
##############################################################################
###
### Running command:
###
###   /home/biocbuild/bbs-3.13-bioc/R/bin/R CMD check --install=check:diffloop.install-out.txt --library=/home/biocbuild/bbs-3.13-bioc/R/library --no-vignettes --timings diffloop_1.20.0.tar.gz
###
##############################################################################
##############################################################################


* using log directory ‘/home/biocbuild/bbs-3.13-bioc/meat/diffloop.Rcheck’
* using R version 4.1.1 (2021-08-10)
* using platform: x86_64-pc-linux-gnu (64-bit)
* using session charset: UTF-8
* using option ‘--no-vignettes’
* checking for file ‘diffloop/DESCRIPTION’ ... OK
* checking extension type ... Package
* this is package ‘diffloop’ version ‘1.20.0’
* checking package namespace information ... OK
* checking package dependencies ... OK
* checking if this is a source package ... OK
* checking if there is a namespace ... OK
* checking for hidden files and directories ... NOTE
Found the following hidden files and directories:
  .travis.yml
These were most likely included in error. See section ‘Package
structure’ in the ‘Writing R Extensions’ manual.
* checking for portable file names ... OK
* checking for sufficient/correct file permissions ... OK
* checking whether package ‘diffloop’ can be installed ... OK
* checking installed package size ... OK
* checking package directory ... OK
* checking ‘build’ directory ... OK
* checking DESCRIPTION meta-information ... OK
* checking top-level files ... OK
* checking for left-over files ... OK
* checking index information ... OK
* checking package subdirectories ... OK
* checking R files for non-ASCII characters ... OK
* checking R files for syntax errors ... OK
* checking whether the package can be loaded ... OK
* checking whether the package can be loaded with stated dependencies ... OK
* checking whether the package can be unloaded cleanly ... OK
* checking whether the namespace can be loaded with stated dependencies ... OK
* checking whether the namespace can be unloaded cleanly ... OK
* checking dependencies in R code ... OK
* checking S3 generic/method consistency ... OK
* checking replacement functions ... OK
* checking foreign function calls ... OK
* checking R code for possible problems ... OK
* checking Rd files ... OK
* checking Rd metadata ... OK
* checking Rd cross-references ... OK
* checking for missing documentation entries ... OK
* checking for code/documentation mismatches ... OK
* checking Rd \usage sections ... OK
* checking Rd contents ... OK
* checking for unstated dependencies in examples ... OK
* checking files in ‘vignettes’ ... OK
* checking examples ... OK
* checking for unstated dependencies in ‘tests’ ... OK
* checking tests ...
  Running ‘testthat.R’
 OK
* checking for unstated dependencies in vignettes ... OK
* checking package vignettes in ‘inst/doc’ ... OK
* checking running R code from vignettes ... SKIPPED
* checking re-building of vignette outputs ... SKIPPED
* checking PDF version of manual ... OK
* DONE

Status: 1 NOTE
See
  ‘/home/biocbuild/bbs-3.13-bioc/meat/diffloop.Rcheck/00check.log’
for details.



Installation output

diffloop.Rcheck/00install.out

##############################################################################
##############################################################################
###
### Running command:
###
###   /home/biocbuild/bbs-3.13-bioc/R/bin/R CMD INSTALL diffloop
###
##############################################################################
##############################################################################


* installing to library ‘/home/biocbuild/bbs-3.13-bioc/R/library’
* installing *source* package ‘diffloop’ ...
** using staged installation
** R
** inst
** byte-compile and prepare package for lazy loading
** help
*** installing help indices
** building package indices
** installing vignettes
** testing if installed package can be loaded from temporary location
** testing if installed package can be loaded from final location
** testing if installed package keeps a record of temporary installation path
* DONE (diffloop)

Tests output

diffloop.Rcheck/tests/testthat.Rout


R version 4.1.1 (2021-08-10) -- "Kick Things"
Copyright (C) 2021 The R Foundation for Statistical Computing
Platform: x86_64-pc-linux-gnu (64-bit)

R is free software and comes with ABSOLUTELY NO WARRANTY.
You are welcome to redistribute it under certain conditions.
Type 'license()' or 'licence()' for distribution details.

R is a collaborative project with many contributors.
Type 'contributors()' for more information and
'citation()' on how to cite R or R packages in publications.

Type 'demo()' for some demos, 'help()' for on-line help, or
'help.start()' for an HTML browser interface to help.
Type 'q()' to quit R.

> library(testthat)
> library(diffloop)
> 
> test_check("diffloop")
[ FAIL 0 | WARN 0 | SKIP 0 | PASS 4 ]
> 
> proc.time()
   user  system elapsed 
 10.757   0.392  11.135 

Example timings

diffloop.Rcheck/diffloop-Ex.timings

nameusersystemelapsed
addchr0.1900.0160.206
annotateAnchors0.1020.0240.128
annotateAnchors.bed0.0990.0000.099
annotateAnchors.bigwig0.0470.0000.047
annotateLoops0.5640.0170.587
annotateLoops.dge0.4410.0000.440
bedToGRanges0.0540.0080.062
calcLDSizeFactors0.0010.0000.001
callCCDs0.0010.0000.001
computeBoundaryScores0.0000.0010.001
featureTest0.0000.0010.001
filterLoops0.0960.0000.097
filterSpanningLoops0.0180.0000.018
getHumanGenes0.0530.0040.057
getHumanTSS0.1810.0120.193
getMouseGenes0.1380.0000.141
getMouseTSS0.1690.0000.168
interchromosomal0.0230.0000.023
intrachromosomal0.0200.0000.021
keepCTCFloops1.0740.0081.081
keepEPloops0.3070.0040.310
loopAssoc0.0020.0000.001
loopDistancePlot0.0210.0000.021
loopGenes0.1030.0040.107
loopMetrics0.0020.0000.003
loopPlot0.5060.0600.567
loopWidth0.0200.0120.033
loopsMake0.0010.0000.001
loopsMake.mango0.0000.0000.001
loopsSubset0.2480.0280.276
mangoCorrection0.1260.0120.138
manyLoopPlots0.0620.0000.062
mergeAnchors0.1260.0000.127
numAnchors0.0110.0000.011
numLoops0.0050.0000.005
padGRanges0.1490.0000.149
pcaPlot0.0060.0040.010
plotTopLoops0.8770.0080.885
quickAssoc0.0370.0000.037
quickAssocVoom0.0570.0000.057
removeRegion0.1480.0000.148
removeSelfLoops0.0080.0000.008
rmchr0.1370.0040.141
sampleNames-loops-method0.0020.0000.002
slidingWindowTest0.0000.0000.001
splitSamples0.0750.0030.079
subsetLoops0.0240.0000.024
subsetRegion0.4120.0160.427
subsetRegionAB0.2430.0060.248
summary-loops-method0.0740.0000.074
topLoops0.0430.0000.043
union-loops-loops-method0.2110.0000.211
updateLDGroups0.0020.0000.001