Back to Multiple platform build/check report for BioC 3.13
ABC[D]EFGHIJKLMNOPQRSTUVWXYZ

This page was generated on 2021-09-20 15:05:40 -0400 (Mon, 20 Sep 2021).

CHECK results for diffloop on machv2

To the developers/maintainers of the diffloop package:
- Please allow up to 24 hours (and sometimes 48 hours) for your latest push to git@git.bioconductor.org:packages/diffloop.git to
reflect on this report. See How and When does the builder pull? When will my changes propagate? here for more information.
- Make sure to use the following settings in order to reproduce any error or warning you see on this page.

raw results

Package 501/2041HostnameOS / ArchINSTALLBUILDCHECKBUILD BIN
diffloop 1.20.0  (landing page)
Caleb Lareau
Snapshot Date: 2021-09-19 04:50:10 -0400 (Sun, 19 Sep 2021)
git_url: https://git.bioconductor.org/packages/diffloop
git_branch: RELEASE_3_13
git_last_commit: 900a5e1
git_last_commit_date: 2021-05-19 12:20:17 -0400 (Wed, 19 May 2021)
nebbiolo1Linux (Ubuntu 20.04.2 LTS) / x86_64  OK    OK    OK  UNNEEDED, same version is already published
tokay2Windows Server 2012 R2 Standard / x64  OK    OK    WARNINGS    OK  UNNEEDED, same version is already published
machv2macOS 10.14.6 Mojave / x86_64  OK    OK    OK    OK  UNNEEDED, same version is already published

Summary

Package: diffloop
Version: 1.20.0
Command: /Library/Frameworks/R.framework/Versions/Current/Resources/bin/R CMD check --install=check:diffloop.install-out.txt --library=/Library/Frameworks/R.framework/Versions/Current/Resources/library --no-vignettes --timings diffloop_1.20.0.tar.gz
StartedAt: 2021-09-19 18:21:05 -0400 (Sun, 19 Sep 2021)
EndedAt: 2021-09-19 18:26:27 -0400 (Sun, 19 Sep 2021)
EllapsedTime: 322.3 seconds
RetCode: 0
Status:   OK  
CheckDir: diffloop.Rcheck
Warnings: 0

Command output

##############################################################################
##############################################################################
###
### Running command:
###
###   /Library/Frameworks/R.framework/Versions/Current/Resources/bin/R CMD check --install=check:diffloop.install-out.txt --library=/Library/Frameworks/R.framework/Versions/Current/Resources/library --no-vignettes --timings diffloop_1.20.0.tar.gz
###
##############################################################################
##############################################################################


* using log directory ‘/Users/biocbuild/bbs-3.13-bioc/meat/diffloop.Rcheck’
* using R version 4.1.1 (2021-08-10)
* using platform: x86_64-apple-darwin17.0 (64-bit)
* using session charset: UTF-8
* using option ‘--no-vignettes’
* checking for file ‘diffloop/DESCRIPTION’ ... OK
* checking extension type ... Package
* this is package ‘diffloop’ version ‘1.20.0’
* checking package namespace information ... OK
* checking package dependencies ... OK
* checking if this is a source package ... OK
* checking if there is a namespace ... OK
* checking for hidden files and directories ... NOTE
Found the following hidden files and directories:
  .git_fetch_output.txt
  .git_merge_output.txt
  .travis.yml
These were most likely included in error. See section ‘Package
structure’ in the ‘Writing R Extensions’ manual.
* checking for portable file names ... OK
* checking for sufficient/correct file permissions ... OK
* checking whether package ‘diffloop’ can be installed ... OK
* checking installed package size ... OK
* checking package directory ... OK
* checking ‘build’ directory ... OK
* checking DESCRIPTION meta-information ... OK
* checking top-level files ... OK
* checking for left-over files ... OK
* checking index information ... OK
* checking package subdirectories ... OK
* checking R files for non-ASCII characters ... OK
* checking R files for syntax errors ... OK
* checking whether the package can be loaded ... OK
* checking whether the package can be loaded with stated dependencies ... OK
* checking whether the package can be unloaded cleanly ... OK
* checking whether the namespace can be loaded with stated dependencies ... OK
* checking whether the namespace can be unloaded cleanly ... OK
* checking dependencies in R code ... OK
* checking S3 generic/method consistency ... OK
* checking replacement functions ... OK
* checking foreign function calls ... OK
* checking R code for possible problems ... OK
* checking Rd files ... OK
* checking Rd metadata ... OK
* checking Rd cross-references ... OK
* checking for missing documentation entries ... OK
* checking for code/documentation mismatches ... OK
* checking Rd \usage sections ... OK
* checking Rd contents ... OK
* checking for unstated dependencies in examples ... OK
* checking files in ‘vignettes’ ... OK
* checking examples ... OK
* checking for unstated dependencies in ‘tests’ ... OK
* checking tests ...
  Running ‘testthat.R’
 OK
* checking for unstated dependencies in vignettes ... OK
* checking package vignettes in ‘inst/doc’ ... OK
* checking running R code from vignettes ... SKIPPED
* checking re-building of vignette outputs ... SKIPPED
* checking PDF version of manual ... OK
* DONE

Status: 1 NOTE
See
  ‘/Users/biocbuild/bbs-3.13-bioc/meat/diffloop.Rcheck/00check.log’
for details.



Installation output

diffloop.Rcheck/00install.out

##############################################################################
##############################################################################
###
### Running command:
###
###   /Library/Frameworks/R.framework/Versions/Current/Resources/bin/R CMD INSTALL diffloop
###
##############################################################################
##############################################################################


* installing to library ‘/Library/Frameworks/R.framework/Versions/4.1/Resources/library’
* installing *source* package ‘diffloop’ ...
** using staged installation
** R
** inst
** byte-compile and prepare package for lazy loading
** help
*** installing help indices
** building package indices
** installing vignettes
** testing if installed package can be loaded from temporary location
** testing if installed package can be loaded from final location
** testing if installed package keeps a record of temporary installation path
* DONE (diffloop)

Tests output

diffloop.Rcheck/tests/testthat.Rout


R version 4.1.1 (2021-08-10) -- "Kick Things"
Copyright (C) 2021 The R Foundation for Statistical Computing
Platform: x86_64-apple-darwin17.0 (64-bit)

R is free software and comes with ABSOLUTELY NO WARRANTY.
You are welcome to redistribute it under certain conditions.
Type 'license()' or 'licence()' for distribution details.

R is a collaborative project with many contributors.
Type 'contributors()' for more information and
'citation()' on how to cite R or R packages in publications.

Type 'demo()' for some demos, 'help()' for on-line help, or
'help.start()' for an HTML browser interface to help.
Type 'q()' to quit R.

> library(testthat)
> library(diffloop)
> 
> test_check("diffloop")
[ FAIL 0 | WARN 0 | SKIP 0 | PASS 4 ]
> 
> proc.time()
   user  system elapsed 
 15.270   0.654  15.910 

Example timings

diffloop.Rcheck/diffloop-Ex.timings

nameusersystemelapsed
addchr0.3130.0260.338
annotateAnchors0.2170.0200.239
annotateAnchors.bed0.1510.0040.156
annotateAnchors.bigwig0.0730.0010.074
annotateLoops0.7300.0110.743
annotateLoops.dge0.5040.0060.510
bedToGRanges0.0890.0010.090
calcLDSizeFactors0.0020.0010.003
callCCDs0.0010.0010.003
computeBoundaryScores0.0020.0010.002
featureTest0.0010.0010.001
filterLoops0.1230.0010.125
filterSpanningLoops0.0360.0010.036
getHumanGenes0.1030.0050.108
getHumanTSS0.2180.0030.221
getMouseGenes0.1750.0020.177
getMouseTSS0.3300.0080.339
interchromosomal0.0340.0010.035
intrachromosomal0.0280.0010.028
keepCTCFloops0.1480.0030.150
keepEPloops0.4620.0090.472
loopAssoc0.0020.0000.003
loopDistancePlot0.0620.0030.065
loopGenes0.1860.0010.188
loopMetrics0.0020.0000.003
loopPlot0.8670.0400.907
loopWidth0.0300.0040.035
loopsMake0.0010.0010.002
loopsMake.mango0.0000.0000.001
loopsSubset0.4500.0430.493
mangoCorrection0.1400.0150.154
manyLoopPlots0.1290.0050.134
mergeAnchors0.2280.0030.232
numAnchors0.0150.0010.015
numLoops0.0050.0000.005
padGRanges0.1650.0050.171
pcaPlot0.0170.0010.018
plotTopLoops1.2910.0181.311
quickAssoc0.0580.0010.059
quickAssocVoom0.0410.0010.041
removeRegion0.1910.0050.198
removeSelfLoops0.0130.0000.013
rmchr0.2210.0080.228
sampleNames-loops-method0.0020.0000.002
slidingWindowTest0.0010.0000.002
splitSamples0.1730.0010.174
subsetLoops0.0520.0010.054
subsetRegion0.5480.0110.559
subsetRegionAB1.0950.0291.125
summary-loops-method0.1120.0010.113
topLoops0.0600.0010.061
union-loops-loops-method0.3300.0010.331
updateLDGroups0.0010.0010.001