Back to Multiple platform build/check report for BioC 3.13
ABC[D]EFGHIJKLMNOPQRSTUVWXYZ

This page was generated on 2021-09-22 15:05:13 -0400 (Wed, 22 Sep 2021).

BUILD results for diffcyt on tokay2

To the developers/maintainers of the diffcyt package:
- Please allow up to 24 hours (and sometimes 48 hours) for your latest push to git@git.bioconductor.org:packages/diffcyt.git to
reflect on this report. See How and When does the builder pull? When will my changes propagate? here for more information.
- Make sure to use the following settings in order to reproduce any error or warning you see on this page.

raw results

Package 497/2041HostnameOS / ArchINSTALLBUILDCHECKBUILD BIN
diffcyt 1.12.0  (landing page)
Lukas M. Weber
Snapshot Date: 2021-09-21 04:50:12 -0400 (Tue, 21 Sep 2021)
git_url: https://git.bioconductor.org/packages/diffcyt
git_branch: RELEASE_3_13
git_last_commit: 7e8f4d3
git_last_commit_date: 2021-05-19 12:34:44 -0400 (Wed, 19 May 2021)
nebbiolo1Linux (Ubuntu 20.04.2 LTS) / x86_64  OK    OK    OK  UNNEEDED, same version is already published
tokay2Windows Server 2012 R2 Standard / x64  OK    OK    OK    OK  UNNEEDED, same version is already published
machv2macOS 10.14.6 Mojave / x86_64  OK    OK    OK    OK  UNNEEDED, same version is already published

Summary

Package: diffcyt
Version: 1.12.0
Command: chmod a+r diffcyt -R && C:\Users\biocbuild\bbs-3.13-bioc\R\bin\R.exe CMD build --keep-empty-dirs --no-resave-data diffcyt
StartedAt: 2021-09-21 13:16:29 -0400 (Tue, 21 Sep 2021)
EndedAt: 2021-09-21 13:18:49 -0400 (Tue, 21 Sep 2021)
EllapsedTime: 140.5 seconds
RetCode: 0
Status:   OK  
PackageFile: diffcyt_1.12.0.tar.gz
PackageFileSize: 656.2 KiB

Command output

##############################################################################
##############################################################################
###
### Running command:
###
###   chmod a+r diffcyt -R && C:\Users\biocbuild\bbs-3.13-bioc\R\bin\R.exe CMD build --keep-empty-dirs --no-resave-data diffcyt
###
##############################################################################
##############################################################################


* checking for file 'diffcyt/DESCRIPTION' ... OK
* preparing 'diffcyt':
* checking DESCRIPTION meta-information ... OK
* installing the package to build vignettes
* creating vignettes ... OK
* checking for LF line-endings in source and make files and shell scripts
* checking for empty or unneeded directories
* building 'diffcyt_1.12.0.tar.gz'