Index of /checkResults/release/bioc-LATEST/diffHic/raw-results

[ICO]NameLast modifiedSizeDescription

[DIR]Parent Directory  -  
[   ]info.dcf14-Oct-2021 04:05 289  
[DIR]machv2/14-Oct-2021 04:05 -  
[DIR]nebbiolo1/14-Oct-2021 04:04 -  
[DIR]tokay2/14-Oct-2021 04:05 -