Back to Multiple platform build/check report for BioC 3.13
ABC[D]EFGHIJKLMNOPQRSTUVWXYZ

This page was generated on 2021-09-22 15:04:49 -0400 (Wed, 22 Sep 2021).

BUILD results for diffHic on nebbiolo1

To the developers/maintainers of the diffHic package:
- Please allow up to 24 hours (and sometimes 48 hours) for your latest push to git@git.bioconductor.org:packages/diffHic.git to
reflect on this report. See How and When does the builder pull? When will my changes propagate? here for more information.
- Make sure to use the following settings in order to reproduce any error or warning you see on this page.

raw results

Package 499/2041HostnameOS / ArchINSTALLBUILDCHECKBUILD BIN
diffHic 1.24.1  (landing page)
Aaron Lun
Snapshot Date: 2021-09-21 04:50:12 -0400 (Tue, 21 Sep 2021)
git_url: https://git.bioconductor.org/packages/diffHic
git_branch: RELEASE_3_13
git_last_commit: a505f6d
git_last_commit_date: 2021-07-15 04:46:22 -0400 (Thu, 15 Jul 2021)
nebbiolo1Linux (Ubuntu 20.04.2 LTS) / x86_64  OK    OK    OK  UNNEEDED, same version is already published
tokay2Windows Server 2012 R2 Standard / x64  OK    OK    OK    OK  UNNEEDED, same version is already published
machv2macOS 10.14.6 Mojave / x86_64  OK    OK    OK    OK  UNNEEDED, same version is already published

Summary

Package: diffHic
Version: 1.24.1
Command: /home/biocbuild/bbs-3.13-bioc/R/bin/R CMD build --keep-empty-dirs --no-resave-data diffHic
StartedAt: 2021-09-21 07:07:45 -0400 (Tue, 21 Sep 2021)
EndedAt: 2021-09-21 07:09:44 -0400 (Tue, 21 Sep 2021)
EllapsedTime: 119.8 seconds
RetCode: 0
Status:   OK  
PackageFile: diffHic_1.24.1.tar.gz
PackageFileSize: 1.461 MiB

Command output

##############################################################################
##############################################################################
###
### Running command:
###
###   /home/biocbuild/bbs-3.13-bioc/R/bin/R CMD build --keep-empty-dirs --no-resave-data diffHic
###
##############################################################################
##############################################################################


* checking for file ‘diffHic/DESCRIPTION’ ... OK
* preparing ‘diffHic’:
* checking DESCRIPTION meta-information ... OK
* cleaning src
* installing the package to build vignettes
* creating vignettes ... OK
* cleaning src
* checking for LF line-endings in source and make files and shell scripts
* checking for empty or unneeded directories
* building ‘diffHic_1.24.1.tar.gz’