Back to Multiple platform build/check report for BioC 3.14
ABC[D]EFGHIJKLMNOPQRSTUVWXYZ

This page was generated on 2021-10-26 14:08:33 -0400 (Tue, 26 Oct 2021).

BUILD results for diffHic on machv2

To the developers/maintainers of the diffHic package:
- Please allow up to 24 hours (and sometimes 48 hours) for your latest push to git@git.bioconductor.org:packages/diffHic.git to
reflect on this report. See How and When does the builder pull? When will my changes propagate? here for more information.
- Make sure to use the following settings in order to reproduce any error or warning you see on this page.

raw results

Package 507/2083HostnameOS / ArchINSTALLBUILDCHECKBUILD BIN
diffHic 1.25.1  (landing page)
Aaron Lun
Snapshot Date: 2021-10-25 14:50:11 -0400 (Mon, 25 Oct 2021)
git_url: https://git.bioconductor.org/packages/diffHic
git_branch: master
git_last_commit: 8d7f009
git_last_commit_date: 2021-07-15 04:46:22 -0400 (Thu, 15 Jul 2021)
nebbiolo2Linux (Ubuntu 20.04.2 LTS) / x86_64  OK    OK    OK  UNNEEDED, same version is already published
riesling1Windows Server 2019 Standard / x64  OK    OK    OK    OK  UNNEEDED, same version is already published
merida1macOS 10.14.6 Mojave / x86_64  OK    OK    OK    OK  UNNEEDED, same version is already published
machv2macOS 10.14.6 Mojave / x86_64  OK    OK    OK    OK  

Summary

Package: diffHic
Version: 1.25.1
Command: /Library/Frameworks/R.framework/Resources/bin/R CMD build --keep-empty-dirs --no-resave-data diffHic
StartedAt: 2021-10-25 19:43:55 -0400 (Mon, 25 Oct 2021)
EndedAt: 2021-10-25 19:46:39 -0400 (Mon, 25 Oct 2021)
EllapsedTime: 164.2 seconds
RetCode: 0
Status:   OK  
PackageFile: diffHic_1.25.1.tar.gz
PackageFileSize: 1.461 MiB

Command output

##############################################################################
##############################################################################
###
### Running command:
###
###   /Library/Frameworks/R.framework/Resources/bin/R CMD build --keep-empty-dirs --no-resave-data diffHic
###
##############################################################################
##############################################################################


* checking for file ‘diffHic/DESCRIPTION’ ... OK
* preparing ‘diffHic’:
* checking DESCRIPTION meta-information ... OK
* cleaning src
* installing the package to build vignettes
* creating vignettes ... OK
* cleaning src
* checking for LF line-endings in source and make files and shell scripts
* checking for empty or unneeded directories
* building ‘diffHic_1.25.1.tar.gz’