Back to Multiple platform build/check report for BioC 3.13
ABC[D]EFGHIJKLMNOPQRSTUVWXYZ

All results for package diffHic

This page was generated on 2021-06-11 14:05:13 -0400 (Fri, 11 Jun 2021).

Package 499/2041HostnameOS / ArchINSTALLBUILDCHECKBUILD BIN
diffHic 1.24.0  (landing page)
Aaron Lun
Snapshot Date: 2021-06-10 06:50:12 -0400 (Thu, 10 Jun 2021)
URL: https://git.bioconductor.org/packages/diffHic
Branch: RELEASE_3_13
Last Commit: 2af8e05
Last Changed Date: 2021-05-19 12:13:21 -0400 (Wed, 19 May 2021)
nebbiolo1Linux (Ubuntu 20.04.2 LTS) / x86_64  OK    OK    OK  UNNEEDED, same version is already published
tokay2Windows Server 2012 R2 Standard / x64  OK    OK    OK    OK  UNNEEDED, same version is already published
machv2macOS 10.14.6 Mojave / x86_64  OK    OK    OK    OK  UNNEEDED, same version is already published