Back to Multiple platform build/check report for BioC 3.13
ABC[D]EFGHIJKLMNOPQRSTUVWXYZ

This page was generated on 2021-09-20 15:05:10 -0400 (Mon, 20 Sep 2021).

BUILD BIN results for derfinderPlot on tokay2

To the developers/maintainers of the derfinderPlot package:
- Please allow up to 24 hours (and sometimes 48 hours) for your latest push to git@git.bioconductor.org:packages/derfinderPlot.git to
reflect on this report. See How and When does the builder pull? When will my changes propagate? here for more information.
- Make sure to use the following settings in order to reproduce any error or warning you see on this page.

raw results

Package 483/2041HostnameOS / ArchINSTALLBUILDCHECKBUILD BIN
derfinderPlot 1.26.0  (landing page)
Leonardo Collado-Torres
Snapshot Date: 2021-09-19 04:50:10 -0400 (Sun, 19 Sep 2021)
git_url: https://git.bioconductor.org/packages/derfinderPlot
git_branch: RELEASE_3_13
git_last_commit: 41d3249
git_last_commit_date: 2021-05-19 12:08:11 -0400 (Wed, 19 May 2021)
nebbiolo1Linux (Ubuntu 20.04.2 LTS) / x86_64  OK    OK    OK  UNNEEDED, same version is already published
tokay2Windows Server 2012 R2 Standard / x64  OK    OK    OK    OK  UNNEEDED, same version is already published
machv2macOS 10.14.6 Mojave / x86_64  OK    OK    OK    OK  UNNEEDED, same version is already published

Summary

Package: derfinderPlot
Version: 1.26.0
Command: rm -rf derfinderPlot.buildbin-libdir && mkdir derfinderPlot.buildbin-libdir && C:\Users\biocbuild\bbs-3.13-bioc\R\bin\R.exe CMD INSTALL --merge-multiarch --build --library=derfinderPlot.buildbin-libdir derfinderPlot_1.26.0.tar.gz
StartedAt: 2021-09-20 08:23:22 -0400 (Mon, 20 Sep 2021)
EndedAt: 2021-09-20 08:24:57 -0400 (Mon, 20 Sep 2021)
EllapsedTime: 96.0 seconds
RetCode: 0
Status:   OK  
PackageFile: derfinderPlot_1.26.0.zip
PackageFileSize: 840 KiB

Command output

##############################################################################
##############################################################################
###
### Running command:
###
###   rm -rf derfinderPlot.buildbin-libdir && mkdir derfinderPlot.buildbin-libdir && C:\Users\biocbuild\bbs-3.13-bioc\R\bin\R.exe CMD INSTALL --merge-multiarch --build --library=derfinderPlot.buildbin-libdir derfinderPlot_1.26.0.tar.gz
###
##############################################################################
##############################################################################



install for i386

* installing *source* package 'derfinderPlot' ...
** using staged installation
** R
** inst
** byte-compile and prepare package for lazy loading
** help
*** installing help indices
  converting help for package 'derfinderPlot'
    finding HTML links ... done
    derfinderPlot-package                   html  
    plotCluster                             html  
    plotOverview                            html  
    plotRegionCoverage                      html  
    vennRegions                             html  
** building package indices
** installing vignettes
** testing if installed package can be loaded from temporary location
** testing if installed package can be loaded from final location
** testing if installed package keeps a record of temporary installation path

install for x64

* installing *source* package 'derfinderPlot' ...
** testing if installed package can be loaded
* MD5 sums
packaged installation of 'derfinderPlot' as derfinderPlot_1.26.0.zip
* DONE (derfinderPlot)