Back to Multiple platform build/check report for BioC 3.13
ABC[D]EFGHIJKLMNOPQRSTUVWXYZ

This page was generated on 2021-10-13 15:05:49 -0400 (Wed, 13 Oct 2021).

BUILD results for derfinderPlot on machv2

To the developers/maintainers of the derfinderPlot package:
- Please allow up to 24 hours (and sometimes 48 hours) for your latest push to git@git.bioconductor.org:packages/derfinderPlot.git to
reflect on this report. See How and When does the builder pull? When will my changes propagate? here for more information.
- Make sure to use the following settings in order to reproduce any error or warning you see on this page.

raw results

Package 483/2041HostnameOS / ArchINSTALLBUILDCHECKBUILD BIN
derfinderPlot 1.26.0  (landing page)
Leonardo Collado-Torres
Snapshot Date: 2021-10-12 04:50:13 -0400 (Tue, 12 Oct 2021)
git_url: https://git.bioconductor.org/packages/derfinderPlot
git_branch: RELEASE_3_13
git_last_commit: 41d3249
git_last_commit_date: 2021-05-19 12:08:11 -0400 (Wed, 19 May 2021)
nebbiolo1Linux (Ubuntu 20.04.2 LTS) / x86_64  OK    OK    OK  UNNEEDED, same version is already published
tokay2Windows Server 2012 R2 Standard / x64  OK    OK    OK    OK  UNNEEDED, same version is already published
machv2macOS 10.14.6 Mojave / x86_64  OK    OK    OK    OK  UNNEEDED, same version is already published

Summary

Package: derfinderPlot
Version: 1.26.0
Command: /Library/Frameworks/R.framework/Versions/Current/Resources/bin/R CMD build --keep-empty-dirs --no-resave-data derfinderPlot
StartedAt: 2021-10-12 11:42:03 -0400 (Tue, 12 Oct 2021)
EndedAt: 2021-10-12 11:45:21 -0400 (Tue, 12 Oct 2021)
EllapsedTime: 197.9 seconds
RetCode: 0
Status:   OK  
PackageFile: derfinderPlot_1.26.0.tar.gz
PackageFileSize: 2.134 MiB

Command output

##############################################################################
##############################################################################
###
### Running command:
###
###   /Library/Frameworks/R.framework/Versions/Current/Resources/bin/R CMD build --keep-empty-dirs --no-resave-data derfinderPlot
###
##############################################################################
##############################################################################


* checking for file ‘derfinderPlot/DESCRIPTION’ ... OK
* preparing ‘derfinderPlot’:
* checking DESCRIPTION meta-information ... OK
* installing the package to build vignettes
* creating vignettes ... OK
* checking for LF line-endings in source and make files and shell scripts
* checking for empty or unneeded directories
Omitted ‘LazyData’ from DESCRIPTION
* building ‘derfinderPlot_1.26.0.tar.gz’