Back to Multiple platform build/check report for BioC 3.13
ABC[D]EFGHIJKLMNOPQRSTUVWXYZ

This page was generated on 2021-09-20 15:05:10 -0400 (Mon, 20 Sep 2021).

BUILD results for derfinder on tokay2

To the developers/maintainers of the derfinder package:
- Please allow up to 24 hours (and sometimes 48 hours) for your latest push to git@git.bioconductor.org:packages/derfinder.git to
reflect on this report. See How and When does the builder pull? When will my changes propagate? here for more information.
- Make sure to use the following settings in order to reproduce any error or warning you see on this page.

raw results

Package 481/2041HostnameOS / ArchINSTALLBUILDCHECKBUILD BIN
derfinder 1.26.0  (landing page)
Leonardo Collado-Torres
Snapshot Date: 2021-09-19 04:50:10 -0400 (Sun, 19 Sep 2021)
git_url: https://git.bioconductor.org/packages/derfinder
git_branch: RELEASE_3_13
git_last_commit: 7fc343a
git_last_commit_date: 2021-05-19 12:08:08 -0400 (Wed, 19 May 2021)
nebbiolo1Linux (Ubuntu 20.04.2 LTS) / x86_64  OK    OK    OK  UNNEEDED, same version is already published
tokay2Windows Server 2012 R2 Standard / x64  OK    OK    OK    OK  UNNEEDED, same version is already published
machv2macOS 10.14.6 Mojave / x86_64  OK    OK    OK    OK  UNNEEDED, same version is already published

Summary

Package: derfinder
Version: 1.26.0
Command: chmod a+r derfinder -R && C:\Users\biocbuild\bbs-3.13-bioc\R\bin\R.exe CMD build --keep-empty-dirs --no-resave-data derfinder
StartedAt: 2021-09-19 12:47:59 -0400 (Sun, 19 Sep 2021)
EndedAt: 2021-09-19 12:54:55 -0400 (Sun, 19 Sep 2021)
EllapsedTime: 416.1 seconds
RetCode: 0
Status:   OK  
PackageFile: derfinder_1.26.0.tar.gz
PackageFileSize: 1.033 MiB

Command output

##############################################################################
##############################################################################
###
### Running command:
###
###   chmod a+r derfinder -R && C:\Users\biocbuild\bbs-3.13-bioc\R\bin\R.exe CMD build --keep-empty-dirs --no-resave-data derfinder
###
##############################################################################
##############################################################################


* checking for file 'derfinder/DESCRIPTION' ... OK
* preparing 'derfinder':
* checking DESCRIPTION meta-information ... OK
* installing the package to build vignettes
* creating vignettes ... OK
* checking for LF line-endings in source and make files and shell scripts
* checking for empty or unneeded directories
* building 'derfinder_1.26.0.tar.gz'