Back to Multiple platform build/check report for BioC 3.13
ABC[D]EFGHIJKLMNOPQRSTUVWXYZ

This page was generated on 2021-09-20 15:05:10 -0400 (Mon, 20 Sep 2021).

BUILD BIN results for derfinder on tokay2

To the developers/maintainers of the derfinder package:
- Please allow up to 24 hours (and sometimes 48 hours) for your latest push to git@git.bioconductor.org:packages/derfinder.git to
reflect on this report. See How and When does the builder pull? When will my changes propagate? here for more information.
- Make sure to use the following settings in order to reproduce any error or warning you see on this page.

raw results

Package 481/2041HostnameOS / ArchINSTALLBUILDCHECKBUILD BIN
derfinder 1.26.0  (landing page)
Leonardo Collado-Torres
Snapshot Date: 2021-09-19 04:50:10 -0400 (Sun, 19 Sep 2021)
git_url: https://git.bioconductor.org/packages/derfinder
git_branch: RELEASE_3_13
git_last_commit: 7fc343a
git_last_commit_date: 2021-05-19 12:08:08 -0400 (Wed, 19 May 2021)
nebbiolo1Linux (Ubuntu 20.04.2 LTS) / x86_64  OK    OK    OK  UNNEEDED, same version is already published
tokay2Windows Server 2012 R2 Standard / x64  OK    OK    OK    OK  UNNEEDED, same version is already published
machv2macOS 10.14.6 Mojave / x86_64  OK    OK    OK    OK  UNNEEDED, same version is already published

Summary

Package: derfinder
Version: 1.26.0
Command: rm -rf derfinder.buildbin-libdir && mkdir derfinder.buildbin-libdir && C:\Users\biocbuild\bbs-3.13-bioc\R\bin\R.exe CMD INSTALL --merge-multiarch --build --library=derfinder.buildbin-libdir derfinder_1.26.0.tar.gz
StartedAt: 2021-09-20 08:23:05 -0400 (Mon, 20 Sep 2021)
EndedAt: 2021-09-20 08:24:41 -0400 (Mon, 20 Sep 2021)
EllapsedTime: 96.6 seconds
RetCode: 0
Status:   OK  
PackageFile: derfinder_1.26.0.zip
PackageFileSize: 1.364 MiB

Command output

##############################################################################
##############################################################################
###
### Running command:
###
###   rm -rf derfinder.buildbin-libdir && mkdir derfinder.buildbin-libdir && C:\Users\biocbuild\bbs-3.13-bioc\R\bin\R.exe CMD INSTALL --merge-multiarch --build --library=derfinder.buildbin-libdir derfinder_1.26.0.tar.gz
###
##############################################################################
##############################################################################



install for i386

* installing *source* package 'derfinder' ...
** using staged installation
** R
** data
*** moving datasets to lazyload DB
** inst
** byte-compile and prepare package for lazy loading
** help
*** installing help indices
  converting help for package 'derfinder'
    finding HTML links ... done
    analyzeChr                              html  
    annotateRegions                         html  
    calculatePvalues                        html  
    calculateStats                          html  
    coerceGR                                html  
    collapseFullCoverage                    html  
    coverageToExon                          html  
    createBw                                html  
    createBwSample                          html  
    define_cluster                          html  
    derfinder-deprecated                    html  
    derfinder-package                       html  
    extendedMapSeqlevels                    html  
    filterData                              html  
    findRegions                             html  
    fullCoverage                            html  
    genomeData                              html  
    genomeDataRaw                           html  
    genomeFstats                            html  
    genomeInfo                              html  
    genomeRegions                           html  
    genomicState                            html  
    getRegionCoverage                       html  
    getTotalMapped                          html  
    loadCoverage                            html  
    makeGenomicState                        html  
    makeModels                              html  
    mergeResults                            html  
    preprocessCoverage                      html  
    railMatrix                              html  
    rawFiles                                html  
    regionMatrix                            html  
    sampleDepth                             html  
** building package indices
** installing vignettes
** testing if installed package can be loaded from temporary location
** testing if installed package can be loaded from final location
** testing if installed package keeps a record of temporary installation path

install for x64

* installing *source* package 'derfinder' ...
** testing if installed package can be loaded
* MD5 sums
packaged installation of 'derfinder' as derfinder_1.26.0.zip
* DONE (derfinder)