Back to Multiple platform build/check report for BioC 3.13
ABC[D]EFGHIJKLMNOPQRSTUVWXYZ

This page was generated on 2021-09-22 15:05:12 -0400 (Wed, 22 Sep 2021).

BUILD results for decompTumor2Sig on tokay2

To the developers/maintainers of the decompTumor2Sig package:
- Please allow up to 24 hours (and sometimes 48 hours) for your latest push to git@git.bioconductor.org:packages/decompTumor2Sig.git to
reflect on this report. See How and When does the builder pull? When will my changes propagate? here for more information.
- Make sure to use the following settings in order to reproduce any error or warning you see on this page.

raw results

Package 457/2041HostnameOS / ArchINSTALLBUILDCHECKBUILD BIN
decompTumor2Sig 2.8.0  (landing page)
Rosario M. Piro
Snapshot Date: 2021-09-21 04:50:12 -0400 (Tue, 21 Sep 2021)
git_url: https://git.bioconductor.org/packages/decompTumor2Sig
git_branch: RELEASE_3_13
git_last_commit: 974c2b7
git_last_commit_date: 2021-05-19 12:39:46 -0400 (Wed, 19 May 2021)
nebbiolo1Linux (Ubuntu 20.04.2 LTS) / x86_64  OK    OK    OK  UNNEEDED, same version is already published
tokay2Windows Server 2012 R2 Standard / x64  OK    OK    OK    OK  UNNEEDED, same version is already published
machv2macOS 10.14.6 Mojave / x86_64  OK    OK    OK    OK  UNNEEDED, same version is already published

Summary

Package: decompTumor2Sig
Version: 2.8.0
Command: chmod a+r decompTumor2Sig -R && C:\Users\biocbuild\bbs-3.13-bioc\R\bin\R.exe CMD build --keep-empty-dirs --no-resave-data decompTumor2Sig
StartedAt: 2021-09-21 13:06:15 -0400 (Tue, 21 Sep 2021)
EndedAt: 2021-09-21 13:12:15 -0400 (Tue, 21 Sep 2021)
EllapsedTime: 360.6 seconds
RetCode: 0
Status:   OK  
PackageFile: decompTumor2Sig_2.8.0.tar.gz
PackageFileSize: 2.366 MiB

Command output

##############################################################################
##############################################################################
###
### Running command:
###
###   chmod a+r decompTumor2Sig -R && C:\Users\biocbuild\bbs-3.13-bioc\R\bin\R.exe CMD build --keep-empty-dirs --no-resave-data decompTumor2Sig
###
##############################################################################
##############################################################################


* checking for file 'decompTumor2Sig/DESCRIPTION' ... OK
* preparing 'decompTumor2Sig':
* checking DESCRIPTION meta-information ... OK
* installing the package to build vignettes
* creating vignettes ... OK
* checking for LF line-endings in source and make files and shell scripts
* checking for empty or unneeded directories
* building 'decompTumor2Sig_2.8.0.tar.gz'