Back to Multiple platform build/check report for BioC 3.13
ABC[D]EFGHIJKLMNOPQRSTUVWXYZ

This page was generated on 2021-09-13 15:06:54 -0400 (Mon, 13 Sep 2021).

BUILD BIN results for decompTumor2Sig on machv2

To the developers/maintainers of the decompTumor2Sig package:
- Please allow up to 24 hours (and sometimes 48 hours) for your latest push to git@git.bioconductor.org:packages/decompTumor2Sig.git to
reflect on this report. See How and When does the builder pull? When will my changes propagate? here for more information.
- Make sure to use the following settings in order to reproduce any error or warning you see on this page.

raw results

Package 457/2041HostnameOS / ArchINSTALLBUILDCHECKBUILD BIN
decompTumor2Sig 2.8.0  (landing page)
Rosario M. Piro
Snapshot Date: 2021-09-12 04:50:10 -0400 (Sun, 12 Sep 2021)
git_url: https://git.bioconductor.org/packages/decompTumor2Sig
git_branch: RELEASE_3_13
git_last_commit: 974c2b7
git_last_commit_date: 2021-05-19 12:39:46 -0400 (Wed, 19 May 2021)
nebbiolo1Linux (Ubuntu 20.04.2 LTS) / x86_64  OK    OK    OK  UNNEEDED, same version is already published
tokay2Windows Server 2012 R2 Standard / x64  OK    OK    OK    OK  UNNEEDED, same version is already published
machv2macOS 10.14.6 Mojave / x86_64  OK    OK    OK    OK  UNNEEDED, same version is already published

Summary

Package: decompTumor2Sig
Version: 2.8.0
Command: rm -rf decompTumor2Sig.buildbin-libdir && mkdir decompTumor2Sig.buildbin-libdir && /Users/biocbuild/BBS/utils/build-universal.sh decompTumor2Sig_2.8.0.tar.gz /Library/Frameworks/R.framework/Versions/Current/Resources/bin/R decompTumor2Sig.buildbin-libdir
StartedAt: 2021-09-13 02:09:19 -0400 (Mon, 13 Sep 2021)
EndedAt: 2021-09-13 02:10:26 -0400 (Mon, 13 Sep 2021)
EllapsedTime: 67.2 seconds
RetCode: 0
Status:   OK  
PackageFile: decompTumor2Sig_2.8.0.tgz
PackageFileSize: 2.607 MiB

Command output

##############################################################################
##############################################################################
###
### Running command:
###
###   rm -rf decompTumor2Sig.buildbin-libdir && mkdir decompTumor2Sig.buildbin-libdir && /Users/biocbuild/BBS/utils/build-universal.sh decompTumor2Sig_2.8.0.tar.gz /Library/Frameworks/R.framework/Versions/Current/Resources/bin/R decompTumor2Sig.buildbin-libdir
###
##############################################################################
##############################################################################


>>>>>>> 
>>>>>>> INSTALLATION WITH 'R CMD INSTALL --preclean --no-multiarch --library=decompTumor2Sig.buildbin-libdir decompTumor2Sig_2.8.0.tar.gz'
>>>>>>> 

* installing *source* package ‘decompTumor2Sig’ ...
** using staged installation
** R
** inst
** byte-compile and prepare package for lazy loading
** help
*** installing help indices
** building package indices
** installing vignettes
** testing if installed package can be loaded from temporary location
** testing if installed package can be loaded from final location
** testing if installed package keeps a record of temporary installation path
* DONE (decompTumor2Sig)