Index of /checkResults/release/bioc-LATEST/debrowser/raw-results

[ICO]NameLast modifiedSizeDescription

[DIR]Parent Directory  -  
[   ]info.dcf27-Oct-2021 03:08 280  
[DIR]machv2/27-Oct-2021 03:08 -  
[DIR]merida1/27-Oct-2021 03:07 -  
[DIR]nebbiolo2/27-Oct-2021 03:06 -  
[DIR]riesling1/27-Oct-2021 03:06 -