Back to Multiple platform build/check report for BioC 3.13
ABC[D]EFGHIJKLMNOPQRSTUVWXYZ

This page was generated on 2021-09-20 15:04:47 -0400 (Mon, 20 Sep 2021).

BUILD results for debrowser on nebbiolo1

To the developers/maintainers of the debrowser package:
- Please allow up to 24 hours (and sometimes 48 hours) for your latest push to git@git.bioconductor.org:packages/debrowser.git to
reflect on this report. See How and When does the builder pull? When will my changes propagate? here for more information.
- Make sure to use the following settings in order to reproduce any error or warning you see on this page.

raw results

Package 453/2041HostnameOS / ArchINSTALLBUILDCHECKBUILD BIN
debrowser 1.20.1  (landing page)
Alper Kucukural
Snapshot Date: 2021-09-19 04:50:10 -0400 (Sun, 19 Sep 2021)
git_url: https://git.bioconductor.org/packages/debrowser
git_branch: RELEASE_3_13
git_last_commit: 3379462
git_last_commit_date: 2021-08-11 22:11:22 -0400 (Wed, 11 Aug 2021)
nebbiolo1Linux (Ubuntu 20.04.2 LTS) / x86_64  OK    OK    OK  UNNEEDED, same version is already published
tokay2Windows Server 2012 R2 Standard / x64  OK    OK    OK    OK  UNNEEDED, same version is already published
machv2macOS 10.14.6 Mojave / x86_64  OK    OK    OK    OK  UNNEEDED, same version is already published

Summary

Package: debrowser
Version: 1.20.1
Command: /home/biocbuild/bbs-3.13-bioc/R/bin/R CMD build --keep-empty-dirs --no-resave-data debrowser
StartedAt: 2021-09-19 07:03:49 -0400 (Sun, 19 Sep 2021)
EndedAt: 2021-09-19 07:05:07 -0400 (Sun, 19 Sep 2021)
EllapsedTime: 78.2 seconds
RetCode: 0
Status:   OK  
PackageFile: debrowser_1.20.1.tar.gz
PackageFileSize: 18.22 MiB

Command output

##############################################################################
##############################################################################
###
### Running command:
###
###   /home/biocbuild/bbs-3.13-bioc/R/bin/R CMD build --keep-empty-dirs --no-resave-data debrowser
###
##############################################################################
##############################################################################


* checking for file ‘debrowser/DESCRIPTION’ ... OK
* preparing ‘debrowser’:
* checking DESCRIPTION meta-information ... OK
* installing the package to build vignettes
* creating vignettes ... OK
* checking for LF line-endings in source and make files and shell scripts
* checking for empty or unneeded directories
Omitted ‘LazyData’ from DESCRIPTION
* building ‘debrowser_1.20.1.tar.gz’