Back to Multiple platform build/check report for BioC 3.13
ABC[D]EFGHIJKLMNOPQRSTUVWXYZ

This page was generated on 2021-08-02 15:05:09 -0400 (Mon, 02 Aug 2021).

INSTALL results for dce on tokay2

To the developers/maintainers of the dce package:
- Please allow up to 24 hours (and sometimes 48 hours) for your latest push to git@git.bioconductor.org:packages/dce.git to
reflect on this report. See How and When does the builder pull? When will my changes propagate? here for more information.
- Make sure to use the following settings in order to reproduce any error or warning you see on this page.

raw results

Package 447/2041HostnameOS / ArchINSTALLBUILDCHECKBUILD BIN
dce 1.0.0  (landing page)
Kim Philipp Jablonski
Snapshot Date: 2021-08-01 04:50:10 -0400 (Sun, 01 Aug 2021)
URL: https://git.bioconductor.org/packages/dce
Branch: RELEASE_3_13
Last Commit: a66589d
Last Changed Date: 2021-05-19 13:00:18 -0400 (Wed, 19 May 2021)
nebbiolo1Linux (Ubuntu 20.04.2 LTS) / x86_64  OK    OK    OK  UNNEEDED, same version is already published
tokay2Windows Server 2012 R2 Standard / x64  OK    OK    OK    OK  UNNEEDED, same version is already published
machv2macOS 10.14.6 Mojave / x86_64  OK    OK    OK    OK  UNNEEDED, same version is already published

Summary

Package: dce
Version: 1.0.0
Command: C:\cygwin\bin\curl.exe -O http://155.52.207.165/BBS/3.13/bioc/src/contrib/dce_1.0.0.tar.gz && rm -rf dce.buildbin-libdir && mkdir dce.buildbin-libdir && C:\Users\biocbuild\bbs-3.13-bioc\R\bin\R.exe CMD INSTALL --merge-multiarch --build --library=dce.buildbin-libdir dce_1.0.0.tar.gz && C:\Users\biocbuild\bbs-3.13-bioc\R\bin\R.exe CMD INSTALL dce_1.0.0.zip && rm dce_1.0.0.tar.gz dce_1.0.0.zip
StartedAt: 2021-08-01 11:27:22 -0400 (Sun, 01 Aug 2021)
EndedAt: 2021-08-01 11:28:22 -0400 (Sun, 01 Aug 2021)
EllapsedTime: 59.7 seconds
RetCode: 0
Status:   OK  

Command output

##############################################################################
##############################################################################
###
### Running command:
###
###   C:\cygwin\bin\curl.exe -O http://155.52.207.165/BBS/3.13/bioc/src/contrib/dce_1.0.0.tar.gz && rm -rf dce.buildbin-libdir && mkdir dce.buildbin-libdir && C:\Users\biocbuild\bbs-3.13-bioc\R\bin\R.exe CMD INSTALL --merge-multiarch --build --library=dce.buildbin-libdir dce_1.0.0.tar.gz && C:\Users\biocbuild\bbs-3.13-bioc\R\bin\R.exe CMD INSTALL dce_1.0.0.zip && rm dce_1.0.0.tar.gz dce_1.0.0.zip
###
##############################################################################
##############################################################################


  % Total    % Received % Xferd  Average Speed   Time    Time     Time  Current
                                 Dload  Upload   Total   Spent    Left  Speed

  0     0    0     0    0     0      0      0 --:--:-- --:--:-- --:--:--     0
100  415k  100  415k    0     0  1198k      0 --:--:-- --:--:-- --:--:-- 1201k

install for i386

* installing *source* package 'dce' ...
** using staged installation
** R
** data
*** moving datasets to lazyload DB
** inst
** byte-compile and prepare package for lazy loading
** help
*** installing help indices
  converting help for package 'dce'
    finding HTML links ... done
    as.data.frame.dce                       html  
    as_adjmat                               html  
    create_random_DAG                       html  
    dce-methods                             html  
    dce_nb                                  html  
    df_pathway_statistics                   html  
    estimate_latent_count                   html  
    g2dag                                   html  
    get_pathway_info                        html  
    get_pathways                            html  
    get_prediction_counts                   html  
    graph2df                                html  
    graph_union                             html  
    pcor                                    html  
    permutation_test                        html  
    plot.dce                                html  
    plot_network                            html  
    propagate_gene_edges                    html  
    resample_edge_weights                   html  
    rlm_dce                                 html  
    simulate_data-methods                   html  
    summary.rlm_dce                         html  
    topologically_ordering                  html  
    trueEffects                             html  
** building package indices
** installing vignettes
** testing if installed package can be loaded from temporary location
** testing if installed package can be loaded from final location
** testing if installed package keeps a record of temporary installation path

install for x64

* installing *source* package 'dce' ...
** testing if installed package can be loaded
* MD5 sums
packaged installation of 'dce' as dce_1.0.0.zip
* DONE (dce)
* installing to library 'C:/Users/biocbuild/bbs-3.13-bioc/R/library'
package 'dce' successfully unpacked and MD5 sums checked