Index of /checkResults/release/bioc-LATEST/dce/raw-results

[ICO]NameLast modifiedSizeDescription

[DIR]Parent Directory  -  
[   ]info.dcf24-Jul-2024 22:02 283  
[DIR]kjohnson1/24-Jul-2024 22:07 -  
[DIR]kjohnson3/12-Jun-2024 03:43 -  
[DIR]kunpeng2/10-May-2024 00:40 -  
[DIR]lconway/12-Jun-2024 03:42 -  
[DIR]merida1/24-Jul-2024 22:05 -  
[DIR]nebbiolo1/24-Jul-2024 22:03 -  
[DIR]palomino3/29-Jun-2024 06:41 -  
[DIR]palomino7/24-Jul-2024 22:04 -