Back to Multiple platform build/check report for BioC 3.13
ABC[D]EFGHIJKLMNOPQRSTUVWXYZ

This page was generated on 2021-09-22 15:05:12 -0400 (Wed, 22 Sep 2021).

INSTALL results for dasper on tokay2

To the developers/maintainers of the dasper package:
- Please allow up to 24 hours (and sometimes 48 hours) for your latest push to git@git.bioconductor.org:packages/dasper.git to
reflect on this report. See How and When does the builder pull? When will my changes propagate? here for more information.
- Make sure to use the following settings in order to reproduce any error or warning you see on this page.

raw results

Package 444/2041HostnameOS / ArchINSTALLBUILDCHECKBUILD BIN
dasper 1.2.0  (landing page)
David Zhang
Snapshot Date: 2021-09-21 04:50:12 -0400 (Tue, 21 Sep 2021)
git_url: https://git.bioconductor.org/packages/dasper
git_branch: RELEASE_3_13
git_last_commit: 9bf018b
git_last_commit_date: 2021-05-19 12:57:36 -0400 (Wed, 19 May 2021)
nebbiolo1Linux (Ubuntu 20.04.2 LTS) / x86_64  OK    OK    ERROR  
tokay2Windows Server 2012 R2 Standard / x64  OK    OK    OK    OK  UNNEEDED, same version is already published
machv2macOS 10.14.6 Mojave / x86_64  OK    OK    OK    OK  UNNEEDED, same version is already published

Summary

Package: dasper
Version: 1.2.0
Command: C:\Users\biocbuild\bbs-3.13-bioc\R\bin\R.exe --arch x64 CMD INSTALL --no-multiarch dasper
StartedAt: 2021-09-21 10:36:44 -0400 (Tue, 21 Sep 2021)
EndedAt: 2021-09-21 10:37:36 -0400 (Tue, 21 Sep 2021)
EllapsedTime: 51.5 seconds
RetCode: 0
Status:   OK  

Command output

##############################################################################
##############################################################################
###
### Running command:
###
###   C:\Users\biocbuild\bbs-3.13-bioc\R\bin\R.exe --arch x64 CMD INSTALL --no-multiarch dasper
###
##############################################################################
##############################################################################


* installing to library 'C:/Users/biocbuild/bbs-3.13-bioc/R/library'
* installing *source* package 'dasper' ...
** using non-staged installation via StagedInstall field
** R
** data
*** moving datasets to lazyload DB
** inst
** byte-compile and prepare package for lazy loading
** help
*** installing help indices
  converting help for package 'dasper'
    finding HTML links ... done
    coverage_process                        html  
    dasper                                  html  
    junction_load                           html  
    junction_process                        html  
    junctions_example                       html  
    finding level-2 HTML links ... done

    outlier_process                         html  
    plot_sashimi                            html  
** building package indices
** installing vignettes
** testing if installed package can be loaded
* DONE (dasper)
Making 'packages.html' ... done