Back to Multiple platform build/check report for BioC 3.13
AB[C]DEFGHIJKLMNOPQRSTUVWXYZ

This page was generated on 2021-09-22 15:05:12 -0400 (Wed, 22 Sep 2021).

INSTALL results for cytomapper on tokay2

To the developers/maintainers of the cytomapper package:
- Please allow up to 24 hours (and sometimes 48 hours) for your latest push to git@git.bioconductor.org:packages/cytomapper.git to
reflect on this report. See How and When does the builder pull? When will my changes propagate? here for more information.
- Make sure to use the following settings in order to reproduce any error or warning you see on this page.

raw results

Package 434/2041HostnameOS / ArchINSTALLBUILDCHECKBUILD BIN
cytomapper 1.4.1  (landing page)
Nils Eling
Snapshot Date: 2021-09-21 04:50:12 -0400 (Tue, 21 Sep 2021)
git_url: https://git.bioconductor.org/packages/cytomapper
git_branch: RELEASE_3_13
git_last_commit: edd9a70
git_last_commit_date: 2021-05-21 05:14:02 -0400 (Fri, 21 May 2021)
nebbiolo1Linux (Ubuntu 20.04.2 LTS) / x86_64  OK    OK    OK  UNNEEDED, same version is already published
tokay2Windows Server 2012 R2 Standard / x64  OK    OK    OK    OK  UNNEEDED, same version is already published
machv2macOS 10.14.6 Mojave / x86_64  OK    OK    OK    OK  UNNEEDED, same version is already published

Summary

Package: cytomapper
Version: 1.4.1
Command: C:\cygwin\bin\curl.exe -O http://155.52.207.165/BBS/3.13/bioc/src/contrib/cytomapper_1.4.1.tar.gz && rm -rf cytomapper.buildbin-libdir && mkdir cytomapper.buildbin-libdir && C:\Users\biocbuild\bbs-3.13-bioc\R\bin\R.exe CMD INSTALL --merge-multiarch --build --library=cytomapper.buildbin-libdir cytomapper_1.4.1.tar.gz && C:\Users\biocbuild\bbs-3.13-bioc\R\bin\R.exe CMD INSTALL cytomapper_1.4.1.zip && rm cytomapper_1.4.1.tar.gz cytomapper_1.4.1.zip
StartedAt: 2021-09-21 09:30:13 -0400 (Tue, 21 Sep 2021)
EndedAt: 2021-09-21 09:31:51 -0400 (Tue, 21 Sep 2021)
EllapsedTime: 97.8 seconds
RetCode: 0
Status:   OK  

Command output

##############################################################################
##############################################################################
###
### Running command:
###
###   C:\cygwin\bin\curl.exe -O http://155.52.207.165/BBS/3.13/bioc/src/contrib/cytomapper_1.4.1.tar.gz && rm -rf cytomapper.buildbin-libdir && mkdir cytomapper.buildbin-libdir && C:\Users\biocbuild\bbs-3.13-bioc\R\bin\R.exe CMD INSTALL --merge-multiarch --build --library=cytomapper.buildbin-libdir cytomapper_1.4.1.tar.gz && C:\Users\biocbuild\bbs-3.13-bioc\R\bin\R.exe CMD INSTALL cytomapper_1.4.1.zip && rm cytomapper_1.4.1.tar.gz cytomapper_1.4.1.zip
###
##############################################################################
##############################################################################


  % Total    % Received % Xferd  Average Speed   Time    Time     Time  Current
                                 Dload  Upload   Total   Spent    Left  Speed

  0     0    0     0    0     0      0      0 --:--:-- --:--:-- --:--:--     0
  1 17.8M    1  210k    0     0   918k      0  0:00:19 --:--:--  0:00:19  917k
 13 17.8M   13 2407k    0     0  1957k      0  0:00:09  0:00:01  0:00:08 1957k
 29 17.8M   29 5456k    0     0  2416k      0  0:00:07  0:00:02  0:00:05 2416k
 51 17.8M   51 9456k    0     0  2927k      0  0:00:06  0:00:03  0:00:03 2926k
 74 17.8M   74 13.2M    0     0  3190k      0  0:00:05  0:00:04  0:00:01 3190k
100 17.8M  100 17.8M    0     0  3603k      0  0:00:05  0:00:05 --:--:-- 3731k

install for i386

* installing *source* package 'cytomapper' ...
** using staged installation
** R
** data
** inst
** byte-compile and prepare package for lazy loading
** help
*** installing help indices
  converting help for package 'cytomapper'
    finding HTML links ... done
    CytoImageList-manipulation              html  
    finding level-2 HTML links ... done

    CytoImageList-naming                    html  
    CytoImageList-subsetting                html  
    CytoImageList                           html  
    cytomapperShiny                         html  
    loadImages                              html  
    measureObjects                          html  
    pancreasImages                          html  
    pancreasMasks                           html  
    pancreasSCE                             html  
    plotCells                               html  
    plotPixels                              html  
    plotting-param                          html  
** building package indices
** installing vignettes
** testing if installed package can be loaded from temporary location
** testing if installed package can be loaded from final location
** testing if installed package keeps a record of temporary installation path

install for x64

* installing *source* package 'cytomapper' ...
** testing if installed package can be loaded
* MD5 sums
packaged installation of 'cytomapper' as cytomapper_1.4.1.zip
* DONE (cytomapper)
* installing to library 'C:/Users/biocbuild/bbs-3.13-bioc/R/library'
package 'cytomapper' successfully unpacked and MD5 sums checked