Back to Multiple platform build/check report for BioC 3.13
AB[C]DEFGHIJKLMNOPQRSTUVWXYZ

This page was generated on 2021-09-20 15:05:10 -0400 (Mon, 20 Sep 2021).

BUILD BIN results for cytomapper on tokay2

To the developers/maintainers of the cytomapper package:
- Please allow up to 24 hours (and sometimes 48 hours) for your latest push to git@git.bioconductor.org:packages/cytomapper.git to
reflect on this report. See How and When does the builder pull? When will my changes propagate? here for more information.
- Make sure to use the following settings in order to reproduce any error or warning you see on this page.

raw results

Package 434/2041HostnameOS / ArchINSTALLBUILDCHECKBUILD BIN
cytomapper 1.4.1  (landing page)
Nils Eling
Snapshot Date: 2021-09-19 04:50:10 -0400 (Sun, 19 Sep 2021)
git_url: https://git.bioconductor.org/packages/cytomapper
git_branch: RELEASE_3_13
git_last_commit: edd9a70
git_last_commit_date: 2021-05-21 05:14:02 -0400 (Fri, 21 May 2021)
nebbiolo1Linux (Ubuntu 20.04.2 LTS) / x86_64  OK    OK    OK  UNNEEDED, same version is already published
tokay2Windows Server 2012 R2 Standard / x64  OK    OK    OK    OK  UNNEEDED, same version is already published
machv2macOS 10.14.6 Mojave / x86_64  OK    OK    OK    OK  UNNEEDED, same version is already published

Summary

Package: cytomapper
Version: 1.4.1
Command: rm -rf cytomapper.buildbin-libdir && mkdir cytomapper.buildbin-libdir && C:\Users\biocbuild\bbs-3.13-bioc\R\bin\R.exe CMD INSTALL --merge-multiarch --build --library=cytomapper.buildbin-libdir cytomapper_1.4.1.tar.gz
StartedAt: 2021-09-20 08:16:34 -0400 (Mon, 20 Sep 2021)
EndedAt: 2021-09-20 08:17:43 -0400 (Mon, 20 Sep 2021)
EllapsedTime: 68.8 seconds
RetCode: 0
Status:   OK  
PackageFile: cytomapper_1.4.1.zip
PackageFileSize: 4.756 MiB

Command output

##############################################################################
##############################################################################
###
### Running command:
###
###   rm -rf cytomapper.buildbin-libdir && mkdir cytomapper.buildbin-libdir && C:\Users\biocbuild\bbs-3.13-bioc\R\bin\R.exe CMD INSTALL --merge-multiarch --build --library=cytomapper.buildbin-libdir cytomapper_1.4.1.tar.gz
###
##############################################################################
##############################################################################



install for i386

* installing *source* package 'cytomapper' ...
** using staged installation
** R
** data
** inst
** byte-compile and prepare package for lazy loading
** help
*** installing help indices
  converting help for package 'cytomapper'
    finding HTML links ... done
    CytoImageList-manipulation              html  
    finding level-2 HTML links ... done

    CytoImageList-naming                    html  
    CytoImageList-subsetting                html  
    CytoImageList                           html  
    cytomapperShiny                         html  
    loadImages                              html  
    measureObjects                          html  
    pancreasImages                          html  
    pancreasMasks                           html  
    pancreasSCE                             html  
    plotCells                               html  
    plotPixels                              html  
    plotting-param                          html  
** building package indices
** installing vignettes
** testing if installed package can be loaded from temporary location
** testing if installed package can be loaded from final location
** testing if installed package keeps a record of temporary installation path

install for x64

* installing *source* package 'cytomapper' ...
** testing if installed package can be loaded
* MD5 sums
packaged installation of 'cytomapper' as cytomapper_1.4.1.zip
* DONE (cytomapper)