Back to Multiple platform build/check report for BioC 3.13
AB[C]DEFGHIJKLMNOPQRSTUVWXYZ

This page was generated on 2021-07-23 15:06:00 -0400 (Fri, 23 Jul 2021).

CHECK results for cydar on tokay2

To the developers/maintainers of the cydar package:
- Please allow up to 24 hours (and sometimes 48 hours) for your latest push to git@git.bioconductor.org:packages/cydar.git to
reflect on this report. See How and When does the builder pull? When will my changes propagate? here for more information.
- Make sure to use the following settings in order to reproduce any error or warning you see on this page.

raw results

Package 429/2041HostnameOS / ArchINSTALLBUILDCHECKBUILD BIN
cydar 1.16.0  (landing page)
Aaron Lun
Snapshot Date: 2021-07-22 04:50:13 -0400 (Thu, 22 Jul 2021)
URL: https://git.bioconductor.org/packages/cydar
Branch: RELEASE_3_13
Last Commit: 38926f1
Last Changed Date: 2021-05-19 12:26:41 -0400 (Wed, 19 May 2021)
nebbiolo1Linux (Ubuntu 20.04.2 LTS) / x86_64  OK    OK    OK  UNNEEDED, same version is already published
tokay2Windows Server 2012 R2 Standard / x64  OK    OK    OK    OK  UNNEEDED, same version is already published
machv2macOS 10.14.6 Mojave / x86_64  OK    OK    OK    OK  UNNEEDED, same version is already published

Summary

Package: cydar
Version: 1.16.0
Command: C:\Users\biocbuild\bbs-3.13-bioc\R\bin\R.exe CMD check --force-multiarch --install=check:cydar.install-out.txt --library=C:\Users\biocbuild\bbs-3.13-bioc\R\library --no-vignettes --timings cydar_1.16.0.tar.gz
StartedAt: 2021-07-22 22:02:58 -0400 (Thu, 22 Jul 2021)
EndedAt: 2021-07-22 22:09:51 -0400 (Thu, 22 Jul 2021)
EllapsedTime: 412.8 seconds
RetCode: 0
Status:   OK  
CheckDir: cydar.Rcheck
Warnings: 0

Command output

##############################################################################
##############################################################################
###
### Running command:
###
###   C:\Users\biocbuild\bbs-3.13-bioc\R\bin\R.exe CMD check --force-multiarch --install=check:cydar.install-out.txt --library=C:\Users\biocbuild\bbs-3.13-bioc\R\library --no-vignettes --timings cydar_1.16.0.tar.gz
###
##############################################################################
##############################################################################


* using log directory 'C:/Users/biocbuild/bbs-3.13-bioc/meat/cydar.Rcheck'
* using R version 4.1.0 (2021-05-18)
* using platform: x86_64-w64-mingw32 (64-bit)
* using session charset: ISO8859-1
* using option '--no-vignettes'
* checking for file 'cydar/DESCRIPTION' ... OK
* this is package 'cydar' version '1.16.0'
* checking package namespace information ... OK
* checking package dependencies ... OK
* checking if this is a source package ... OK
* checking if there is a namespace ... OK
* checking for hidden files and directories ... OK
* checking for portable file names ... OK
* checking whether package 'cydar' can be installed ... OK
* checking installed package size ... OK
* checking package directory ... OK
* checking 'build' directory ... OK
* checking DESCRIPTION meta-information ... OK
* checking top-level files ... OK
* checking for left-over files ... OK
* checking index information ... OK
* checking package subdirectories ... OK
* checking R files for non-ASCII characters ... OK
* checking R files for syntax errors ... OK
* loading checks for arch 'i386'
** checking whether the package can be loaded ... OK
** checking whether the package can be loaded with stated dependencies ... OK
** checking whether the package can be unloaded cleanly ... OK
** checking whether the namespace can be loaded with stated dependencies ... OK
** checking whether the namespace can be unloaded cleanly ... OK
* loading checks for arch 'x64'
** checking whether the package can be loaded ... OK
** checking whether the package can be loaded with stated dependencies ... OK
** checking whether the package can be unloaded cleanly ... OK
** checking whether the namespace can be loaded with stated dependencies ... OK
** checking whether the namespace can be unloaded cleanly ... OK
* checking dependencies in R code ... OK
* checking S3 generic/method consistency ... OK
* checking replacement functions ... OK
* checking foreign function calls ... OK
* checking R code for possible problems ... OK
* checking Rd files ... OK
* checking Rd metadata ... OK
* checking Rd cross-references ... OK
* checking for missing documentation entries ... OK
* checking for code/documentation mismatches ... OK
* checking Rd \usage sections ... OK
* checking Rd contents ... OK
* checking for unstated dependencies in examples ... OK
* checking line endings in C/C++/Fortran sources/headers ... OK
* checking compiled code ... NOTE
Note: information on .o files for i386 is not available
Note: information on .o files for x64 is not available
File 'C:/Users/biocbuild/bbs-3.13-bioc/R/library/cydar/libs/i386/cydar.dll':
  Found 'abort', possibly from 'abort' (C), 'runtime' (Fortran)
  Found 'exit', possibly from 'exit' (C), 'stop' (Fortran)
  Found 'printf', possibly from 'printf' (C)
File 'C:/Users/biocbuild/bbs-3.13-bioc/R/library/cydar/libs/x64/cydar.dll':
  Found 'abort', possibly from 'abort' (C), 'runtime' (Fortran)
  Found 'exit', possibly from 'exit' (C), 'stop' (Fortran)
  Found 'printf', possibly from 'printf' (C)

Compiled code should not call entry points which might terminate R nor
write to stdout/stderr instead of to the console, nor use Fortran I/O
nor system RNGs. The detected symbols are linked into the code but
might come from libraries and not actually be called.

See 'Writing portable packages' in the 'Writing R Extensions' manual.
* checking files in 'vignettes' ... OK
* checking examples ...
** running examples for arch 'i386' ... OK
** running examples for arch 'x64' ... OK
* checking for unstated dependencies in 'tests' ... OK
* checking tests ...
** running tests for arch 'i386' ...
  Running 'testthat.R'
 OK
** running tests for arch 'x64' ...
  Running 'testthat.R'
 OK
* checking for unstated dependencies in vignettes ... OK
* checking package vignettes in 'inst/doc' ... OK
* checking running R code from vignettes ... SKIPPED
* checking re-building of vignette outputs ... SKIPPED
* checking PDF version of manual ... OK
* DONE

Status: 1 NOTE
See
  'C:/Users/biocbuild/bbs-3.13-bioc/meat/cydar.Rcheck/00check.log'
for details.



Installation output

cydar.Rcheck/00install.out

##############################################################################
##############################################################################
###
### Running command:
###
###   C:\cygwin\bin\curl.exe -O http://155.52.207.165/BBS/3.13/bioc/src/contrib/cydar_1.16.0.tar.gz && rm -rf cydar.buildbin-libdir && mkdir cydar.buildbin-libdir && C:\Users\biocbuild\bbs-3.13-bioc\R\bin\R.exe CMD INSTALL --merge-multiarch --build --library=cydar.buildbin-libdir cydar_1.16.0.tar.gz && C:\Users\biocbuild\bbs-3.13-bioc\R\bin\R.exe CMD INSTALL cydar_1.16.0.zip && rm cydar_1.16.0.tar.gz cydar_1.16.0.zip
###
##############################################################################
##############################################################################


  % Total    % Received % Xferd  Average Speed   Time    Time     Time  Current
                                 Dload  Upload   Total   Spent    Left  Speed

  0     0    0     0    0     0      0      0 --:--:-- --:--:-- --:--:--     0
100 63162  100 63162    0     0   609k      0 --:--:-- --:--:-- --:--:--  616k

install for i386

* installing *source* package 'cydar' ...
** using staged installation
** libs
"C:/rtools40/mingw32/bin/"g++  -std=gnu++11 -I"C:/Users/BIOCBU~1/BBS-3~1.13-/R/include" -DNDEBUG  -I'C:/Users/biocbuild/bbs-3.13-bioc/R/library/Rcpp/include'   -I"C:/extsoft/include"     -O2 -Wall  -mfpmath=sse -msse2 -mstackrealign  -c RcppExports.cpp -o RcppExports.o
"C:/rtools40/mingw32/bin/"g++  -std=gnu++11 -I"C:/Users/BIOCBU~1/BBS-3~1.13-/R/include" -DNDEBUG  -I'C:/Users/biocbuild/bbs-3.13-bioc/R/library/Rcpp/include'   -I"C:/extsoft/include"     -O2 -Wall  -mfpmath=sse -msse2 -mstackrealign  -c compute_density.cpp -o compute_density.o
compute_density.cpp: In function 'Rcpp::NumericVector compute_density(Rcpp::List, double)':
compute_density.cpp:7:23: warning: comparison of integer expressions of different signedness: 'size_t' {aka 'unsigned int'} and 'R_xlen_t' {aka 'int'} [-Wsign-compare]
     for (size_t i=0; i<distances.size(); ++i) {
                      ~^~~~~~~~~~~~~~~~~
"C:/rtools40/mingw32/bin/"g++  -std=gnu++11 -I"C:/Users/BIOCBU~1/BBS-3~1.13-/R/include" -DNDEBUG  -I'C:/Users/biocbuild/bbs-3.13-bioc/R/library/Rcpp/include'   -I"C:/extsoft/include"     -O2 -Wall  -mfpmath=sse -msse2 -mstackrealign  -c count_cells.cpp -o count_cells.o
"C:/rtools40/mingw32/bin/"g++  -std=gnu++11 -I"C:/Users/BIOCBU~1/BBS-3~1.13-/R/include" -DNDEBUG  -I'C:/Users/biocbuild/bbs-3.13-bioc/R/library/Rcpp/include'   -I"C:/extsoft/include"     -O2 -Wall  -mfpmath=sse -msse2 -mstackrealign  -c drop_redundant.cpp -o drop_redundant.o
"C:/rtools40/mingw32/bin/"g++  -std=gnu++11 -I"C:/Users/BIOCBU~1/BBS-3~1.13-/R/include" -DNDEBUG  -I'C:/Users/biocbuild/bbs-3.13-bioc/R/library/Rcpp/include'   -I"C:/extsoft/include"     -O2 -Wall  -mfpmath=sse -msse2 -mstackrealign  -c median_int_by_sample.cpp -o median_int_by_sample.o
median_int_by_sample.cpp: In function 'Rcpp::List median_int_by_sample(Rcpp::NumericMatrix, Rcpp::List, Rcpp::NumericVector, int)':
median_int_by_sample.cpp:22:25: warning: comparison of integer expressions of different signedness: 'R_xlen_t' {aka 'int'} and 'const size_t' {aka 'const unsigned int'} [-Wsign-compare]
     if (sample_id.size()!=ncells) {
         ~~~~~~~~~~~~~~~~^~~~~~~~
median_int_by_sample.cpp:42:39: warning: comparison of integer expressions of different signedness: 'int' and 'const size_t' {aka 'const unsigned int'} [-Wsign-compare]
             if (curdex <= 0 || curdex > ncells) {
                                ~~~~~~~^~~~~~~~
"C:/rtools40/mingw32/bin/"g++  -std=gnu++11 -I"C:/Users/BIOCBU~1/BBS-3~1.13-/R/include" -DNDEBUG  -I'C:/Users/biocbuild/bbs-3.13-bioc/R/library/Rcpp/include'   -I"C:/extsoft/include"     -O2 -Wall  -mfpmath=sse -msse2 -mstackrealign  -c weighted_median_int.cpp -o weighted_median_int.o
weighted_median_int.cpp: In function 'SEXPREC* weighted_median_int(Rcpp::NumericMatrix, Rcpp::List, Rcpp::NumericVector, Rcpp::NumericVector)':
weighted_median_int.cpp:16:25: warning: comparison of integer expressions of different signedness: 'R_xlen_t' {aka 'int'} and 'const size_t' {aka 'const unsigned int'} [-Wsign-compare]
     if (sample_id.size()!=ncells) {
         ~~~~~~~~~~~~~~~~^~~~~~~~
weighted_median_int.cpp:42:35: warning: comparison of integer expressions of different signedness: 'size_t' {aka 'unsigned int'} and 'R_xlen_t' {aka 'int'} [-Wsign-compare]
             for (size_t icx=0; icx<curass.size(); ++icx) {
                                ~~~^~~~~~~~~~~~~~
C:/rtools40/mingw32/bin/g++ -shared -s -static-libgcc -o cydar.dll tmp.def RcppExports.o compute_density.o count_cells.o drop_redundant.o median_int_by_sample.o weighted_median_int.o -LC:/extsoft/lib/i386 -LC:/extsoft/lib -LC:/Users/BIOCBU~1/BBS-3~1.13-/R/bin/i386 -lR
installing to C:/Users/biocbuild/bbs-3.13-bioc/meat/cydar.buildbin-libdir/00LOCK-cydar/00new/cydar/libs/i386
** R
** inst
** byte-compile and prepare package for lazy loading
** help
*** installing help indices
  converting help for package 'cydar'
    finding HTML links ... done
    CyData                                  html  
REDIRECT:topic	 [<-,CyData,ANY,ANY,CyData-method -> CyData.html [ FAIL ]
    finding level-2 HTML links ... done

    countCells                              html  
    createColorBar                          html  
    dnaGate                                 html  
    expandRadius                            html  
    findFirstSphere                         html  
    intensityRanges                         html  
    interpretSpheres                        html  
    labelSpheres                            html  
    medIntensities                          html  
    multiIntHist                            html  
    neighborDistances                       html  
    normalizeBatch                          html  
    outlierGate                             html  
    pickBestMarkers                         html  
    plotSphereIntensity                     html  
    plotSphereLogFC                         html  
    poolCells                               html  
    prepareCellData                         html  
    spatialFDR                              html  
** building package indices
** installing vignettes
** testing if installed package can be loaded from temporary location
** testing if installed package can be loaded from final location
** testing if installed package keeps a record of temporary installation path

install for x64

* installing *source* package 'cydar' ...
** libs
"C:/rtools40/mingw64/bin/"g++  -std=gnu++11 -I"C:/Users/BIOCBU~1/BBS-3~1.13-/R/include" -DNDEBUG  -I'C:/Users/biocbuild/bbs-3.13-bioc/R/library/Rcpp/include'   -I"C:/extsoft/include"     -O2 -Wall  -mfpmath=sse -msse2 -mstackrealign  -c RcppExports.cpp -o RcppExports.o
"C:/rtools40/mingw64/bin/"g++  -std=gnu++11 -I"C:/Users/BIOCBU~1/BBS-3~1.13-/R/include" -DNDEBUG  -I'C:/Users/biocbuild/bbs-3.13-bioc/R/library/Rcpp/include'   -I"C:/extsoft/include"     -O2 -Wall  -mfpmath=sse -msse2 -mstackrealign  -c compute_density.cpp -o compute_density.o
compute_density.cpp: In function 'Rcpp::NumericVector compute_density(Rcpp::List, double)':
compute_density.cpp:7:23: warning: comparison of integer expressions of different signedness: 'size_t' {aka 'long long unsigned int'} and 'R_xlen_t' {aka 'long long int'} [-Wsign-compare]
     for (size_t i=0; i<distances.size(); ++i) {
                      ~^~~~~~~~~~~~~~~~~
"C:/rtools40/mingw64/bin/"g++  -std=gnu++11 -I"C:/Users/BIOCBU~1/BBS-3~1.13-/R/include" -DNDEBUG  -I'C:/Users/biocbuild/bbs-3.13-bioc/R/library/Rcpp/include'   -I"C:/extsoft/include"     -O2 -Wall  -mfpmath=sse -msse2 -mstackrealign  -c count_cells.cpp -o count_cells.o
"C:/rtools40/mingw64/bin/"g++  -std=gnu++11 -I"C:/Users/BIOCBU~1/BBS-3~1.13-/R/include" -DNDEBUG  -I'C:/Users/biocbuild/bbs-3.13-bioc/R/library/Rcpp/include'   -I"C:/extsoft/include"     -O2 -Wall  -mfpmath=sse -msse2 -mstackrealign  -c drop_redundant.cpp -o drop_redundant.o
"C:/rtools40/mingw64/bin/"g++  -std=gnu++11 -I"C:/Users/BIOCBU~1/BBS-3~1.13-/R/include" -DNDEBUG  -I'C:/Users/biocbuild/bbs-3.13-bioc/R/library/Rcpp/include'   -I"C:/extsoft/include"     -O2 -Wall  -mfpmath=sse -msse2 -mstackrealign  -c median_int_by_sample.cpp -o median_int_by_sample.o
median_int_by_sample.cpp: In function 'Rcpp::List median_int_by_sample(Rcpp::NumericMatrix, Rcpp::List, Rcpp::NumericVector, int)':
median_int_by_sample.cpp:22:25: warning: comparison of integer expressions of different signedness: 'R_xlen_t' {aka 'long long int'} and 'const size_t' {aka 'const long long unsigned int'} [-Wsign-compare]
     if (sample_id.size()!=ncells) {
         ~~~~~~~~~~~~~~~~^~~~~~~~
median_int_by_sample.cpp:42:39: warning: comparison of integer expressions of different signedness: 'int' and 'const size_t' {aka 'const long long unsigned int'} [-Wsign-compare]
             if (curdex <= 0 || curdex > ncells) {
                                ~~~~~~~^~~~~~~~
"C:/rtools40/mingw64/bin/"g++  -std=gnu++11 -I"C:/Users/BIOCBU~1/BBS-3~1.13-/R/include" -DNDEBUG  -I'C:/Users/biocbuild/bbs-3.13-bioc/R/library/Rcpp/include'   -I"C:/extsoft/include"     -O2 -Wall  -mfpmath=sse -msse2 -mstackrealign  -c weighted_median_int.cpp -o weighted_median_int.o
weighted_median_int.cpp: In function 'SEXPREC* weighted_median_int(Rcpp::NumericMatrix, Rcpp::List, Rcpp::NumericVector, Rcpp::NumericVector)':
weighted_median_int.cpp:16:25: warning: comparison of integer expressions of different signedness: 'R_xlen_t' {aka 'long long int'} and 'const size_t' {aka 'const long long unsigned int'} [-Wsign-compare]
     if (sample_id.size()!=ncells) {
         ~~~~~~~~~~~~~~~~^~~~~~~~
weighted_median_int.cpp:42:35: warning: comparison of integer expressions of different signedness: 'size_t' {aka 'long long unsigned int'} and 'R_xlen_t' {aka 'long long int'} [-Wsign-compare]
             for (size_t icx=0; icx<curass.size(); ++icx) {
                                ~~~^~~~~~~~~~~~~~
C:/rtools40/mingw64/bin/g++ -shared -s -static-libgcc -o cydar.dll tmp.def RcppExports.o compute_density.o count_cells.o drop_redundant.o median_int_by_sample.o weighted_median_int.o -LC:/extsoft/lib/x64 -LC:/extsoft/lib -LC:/Users/BIOCBU~1/BBS-3~1.13-/R/bin/x64 -lR
installing to C:/Users/biocbuild/bbs-3.13-bioc/meat/cydar.buildbin-libdir/cydar/libs/x64
** testing if installed package can be loaded
* MD5 sums
packaged installation of 'cydar' as cydar_1.16.0.zip
* DONE (cydar)
* installing to library 'C:/Users/biocbuild/bbs-3.13-bioc/R/library'
package 'cydar' successfully unpacked and MD5 sums checked

Tests output

cydar.Rcheck/tests_i386/testthat.Rout


R version 4.1.0 (2021-05-18) -- "Camp Pontanezen"
Copyright (C) 2021 The R Foundation for Statistical Computing
Platform: i386-w64-mingw32/i386 (32-bit)

R is free software and comes with ABSOLUTELY NO WARRANTY.
You are welcome to redistribute it under certain conditions.
Type 'license()' or 'licence()' for distribution details.

R is a collaborative project with many contributors.
Type 'contributors()' for more information and
'citation()' on how to cite R or R packages in publications.

Type 'demo()' for some demos, 'help()' for on-line help, or
'help.start()' for an HTML browser interface to help.
Type 'q()' to quit R.

> library(testthat)
> library(cydar)
Loading required package: SingleCellExperiment
Loading required package: SummarizedExperiment
Loading required package: MatrixGenerics
Loading required package: matrixStats

Attaching package: 'MatrixGenerics'

The following objects are masked from 'package:matrixStats':

    colAlls, colAnyNAs, colAnys, colAvgsPerRowSet, colCollapse,
    colCounts, colCummaxs, colCummins, colCumprods, colCumsums,
    colDiffs, colIQRDiffs, colIQRs, colLogSumExps, colMadDiffs,
    colMads, colMaxs, colMeans2, colMedians, colMins, colOrderStats,
    colProds, colQuantiles, colRanges, colRanks, colSdDiffs, colSds,
    colSums2, colTabulates, colVarDiffs, colVars, colWeightedMads,
    colWeightedMeans, colWeightedMedians, colWeightedSds,
    colWeightedVars, rowAlls, rowAnyNAs, rowAnys, rowAvgsPerColSet,
    rowCollapse, rowCounts, rowCummaxs, rowCummins, rowCumprods,
    rowCumsums, rowDiffs, rowIQRDiffs, rowIQRs, rowLogSumExps,
    rowMadDiffs, rowMads, rowMaxs, rowMeans2, rowMedians, rowMins,
    rowOrderStats, rowProds, rowQuantiles, rowRanges, rowRanks,
    rowSdDiffs, rowSds, rowSums2, rowTabulates, rowVarDiffs, rowVars,
    rowWeightedMads, rowWeightedMeans, rowWeightedMedians,
    rowWeightedSds, rowWeightedVars

Loading required package: GenomicRanges
Loading required package: stats4
Loading required package: BiocGenerics
Loading required package: parallel

Attaching package: 'BiocGenerics'

The following objects are masked from 'package:parallel':

    clusterApply, clusterApplyLB, clusterCall, clusterEvalQ,
    clusterExport, clusterMap, parApply, parCapply, parLapply,
    parLapplyLB, parRapply, parSapply, parSapplyLB

The following objects are masked from 'package:stats':

    IQR, mad, sd, var, xtabs

The following objects are masked from 'package:base':

    Filter, Find, Map, Position, Reduce, anyDuplicated, append,
    as.data.frame, basename, cbind, colnames, dirname, do.call,
    duplicated, eval, evalq, get, grep, grepl, intersect, is.unsorted,
    lapply, mapply, match, mget, order, paste, pmax, pmax.int, pmin,
    pmin.int, rank, rbind, rownames, sapply, setdiff, sort, table,
    tapply, union, unique, unsplit, which.max, which.min

Loading required package: S4Vectors

Attaching package: 'S4Vectors'

The following objects are masked from 'package:base':

    I, expand.grid, unname

Loading required package: IRanges

Attaching package: 'IRanges'

The following object is masked from 'package:grDevices':

    windows

Loading required package: GenomeInfoDb
Loading required package: Biobase
Welcome to Bioconductor

    Vignettes contain introductory material; view with
    'browseVignettes()'. To cite Bioconductor, see
    'citation("Biobase")', and for packages 'citation("pkgname")'.


Attaching package: 'Biobase'

The following object is masked from 'package:MatrixGenerics':

    rowMedians

The following objects are masked from 'package:matrixStats':

    anyMissing, rowMedians

> test_check("cydar")

Estimating landmarks for channel X1 ...
Registering curves for parameter X1 ...

Estimating landmarks for channel X2 ...
Registering curves for parameter X2 ...

Estimating landmarks for channel X3 ...
Registering curves for parameter X3 ...

Estimating landmarks for channel X4 ...
Registering curves for parameter X4 ...

Estimating landmarks for channel X5 ...
Registering curves for parameter X5 ...

Estimating landmarks for channel X6 ...
Registering curves for parameter X6 ...

Estimating landmarks for channel X7 ...
Registering curves for parameter X7 ...

Estimating landmarks for channel X8 ...
Registering curves for parameter X8 ...

Estimating landmarks for channel X9 ...
Registering curves for parameter X9 ...

Estimating landmarks for channel X10 ...
Registering curves for parameter X10 ...

Estimating landmarks for channel X1 ...
Registering curves for parameter X1 ...

Estimating landmarks for channel X2 ...
Registering curves for parameter X2 ...

Estimating landmarks for channel X3 ...
Registering curves for parameter X3 ...

Estimating landmarks for channel X4 ...
Registering curves for parameter X4 ...

Estimating landmarks for channel X5 ...
Registering curves for parameter X5 ...

Estimating landmarks for channel X6 ...
Registering curves for parameter X6 ...

Estimating landmarks for channel X7 ...
Registering curves for parameter X7 ...

Estimating landmarks for channel X8 ...
Registering curves for parameter X8 ...

Estimating landmarks for channel X9 ...
Registering curves for parameter X9 ...

Estimating landmarks for channel X10 ...
Registering curves for parameter X10 ...
[ FAIL 0 | WARN 75 | SKIP 0 | PASS 271 ]
> 
> proc.time()
   user  system elapsed 
  45.10    1.90   71.26 

cydar.Rcheck/tests_x64/testthat.Rout


R version 4.1.0 (2021-05-18) -- "Camp Pontanezen"
Copyright (C) 2021 The R Foundation for Statistical Computing
Platform: x86_64-w64-mingw32/x64 (64-bit)

R is free software and comes with ABSOLUTELY NO WARRANTY.
You are welcome to redistribute it under certain conditions.
Type 'license()' or 'licence()' for distribution details.

R is a collaborative project with many contributors.
Type 'contributors()' for more information and
'citation()' on how to cite R or R packages in publications.

Type 'demo()' for some demos, 'help()' for on-line help, or
'help.start()' for an HTML browser interface to help.
Type 'q()' to quit R.

> library(testthat)
> library(cydar)
Loading required package: SingleCellExperiment
Loading required package: SummarizedExperiment
Loading required package: MatrixGenerics
Loading required package: matrixStats

Attaching package: 'MatrixGenerics'

The following objects are masked from 'package:matrixStats':

    colAlls, colAnyNAs, colAnys, colAvgsPerRowSet, colCollapse,
    colCounts, colCummaxs, colCummins, colCumprods, colCumsums,
    colDiffs, colIQRDiffs, colIQRs, colLogSumExps, colMadDiffs,
    colMads, colMaxs, colMeans2, colMedians, colMins, colOrderStats,
    colProds, colQuantiles, colRanges, colRanks, colSdDiffs, colSds,
    colSums2, colTabulates, colVarDiffs, colVars, colWeightedMads,
    colWeightedMeans, colWeightedMedians, colWeightedSds,
    colWeightedVars, rowAlls, rowAnyNAs, rowAnys, rowAvgsPerColSet,
    rowCollapse, rowCounts, rowCummaxs, rowCummins, rowCumprods,
    rowCumsums, rowDiffs, rowIQRDiffs, rowIQRs, rowLogSumExps,
    rowMadDiffs, rowMads, rowMaxs, rowMeans2, rowMedians, rowMins,
    rowOrderStats, rowProds, rowQuantiles, rowRanges, rowRanks,
    rowSdDiffs, rowSds, rowSums2, rowTabulates, rowVarDiffs, rowVars,
    rowWeightedMads, rowWeightedMeans, rowWeightedMedians,
    rowWeightedSds, rowWeightedVars

Loading required package: GenomicRanges
Loading required package: stats4
Loading required package: BiocGenerics
Loading required package: parallel

Attaching package: 'BiocGenerics'

The following objects are masked from 'package:parallel':

    clusterApply, clusterApplyLB, clusterCall, clusterEvalQ,
    clusterExport, clusterMap, parApply, parCapply, parLapply,
    parLapplyLB, parRapply, parSapply, parSapplyLB

The following objects are masked from 'package:stats':

    IQR, mad, sd, var, xtabs

The following objects are masked from 'package:base':

    Filter, Find, Map, Position, Reduce, anyDuplicated, append,
    as.data.frame, basename, cbind, colnames, dirname, do.call,
    duplicated, eval, evalq, get, grep, grepl, intersect, is.unsorted,
    lapply, mapply, match, mget, order, paste, pmax, pmax.int, pmin,
    pmin.int, rank, rbind, rownames, sapply, setdiff, sort, table,
    tapply, union, unique, unsplit, which.max, which.min

Loading required package: S4Vectors

Attaching package: 'S4Vectors'

The following objects are masked from 'package:base':

    I, expand.grid, unname

Loading required package: IRanges

Attaching package: 'IRanges'

The following object is masked from 'package:grDevices':

    windows

Loading required package: GenomeInfoDb
Loading required package: Biobase
Welcome to Bioconductor

    Vignettes contain introductory material; view with
    'browseVignettes()'. To cite Bioconductor, see
    'citation("Biobase")', and for packages 'citation("pkgname")'.


Attaching package: 'Biobase'

The following object is masked from 'package:MatrixGenerics':

    rowMedians

The following objects are masked from 'package:matrixStats':

    anyMissing, rowMedians

> test_check("cydar")

Estimating landmarks for channel X1 ...
Registering curves for parameter X1 ...

Estimating landmarks for channel X2 ...
Registering curves for parameter X2 ...

Estimating landmarks for channel X3 ...
Registering curves for parameter X3 ...

Estimating landmarks for channel X4 ...
Registering curves for parameter X4 ...

Estimating landmarks for channel X5 ...
Registering curves for parameter X5 ...

Estimating landmarks for channel X6 ...
Registering curves for parameter X6 ...

Estimating landmarks for channel X7 ...
Registering curves for parameter X7 ...

Estimating landmarks for channel X8 ...
Registering curves for parameter X8 ...

Estimating landmarks for channel X9 ...
Registering curves for parameter X9 ...

Estimating landmarks for channel X10 ...
Registering curves for parameter X10 ...

Estimating landmarks for channel X1 ...
Registering curves for parameter X1 ...

Estimating landmarks for channel X2 ...
Registering curves for parameter X2 ...

Estimating landmarks for channel X3 ...
Registering curves for parameter X3 ...

Estimating landmarks for channel X4 ...
Registering curves for parameter X4 ...

Estimating landmarks for channel X5 ...
Registering curves for parameter X5 ...

Estimating landmarks for channel X6 ...
Registering curves for parameter X6 ...

Estimating landmarks for channel X7 ...
Registering curves for parameter X7 ...

Estimating landmarks for channel X8 ...
Registering curves for parameter X8 ...

Estimating landmarks for channel X9 ...
Registering curves for parameter X9 ...

Estimating landmarks for channel X10 ...
Registering curves for parameter X10 ...
[ FAIL 0 | WARN 75 | SKIP 0 | PASS 271 ]
> 
> proc.time()
   user  system elapsed 
  47.76    1.25   76.70 

Example timings

cydar.Rcheck/examples_i386/cydar-Ex.timings

nameusersystemelapsed
CyData1.120.011.14
countCells1.540.021.55
createColorBar0.010.000.02
dnaGate0.530.090.62
expandRadius0.380.050.42
findFirstSphere0.090.000.10
intensityRanges1.170.011.23
interpretSpheres1.510.021.53
labelSpheres0.020.000.01
medIntensities0.880.010.89
multiIntHist0.030.000.04
neighborDistances0.590.000.59
normalizeBatch0.200.020.22
outlierGate0.970.051.01
pickBestMarkers0.460.000.46
plotSphereIntensity0.010.000.01
plotSphereLogFC0.020.000.02
poolCells0.450.010.47
prepareCellData0.360.000.36
spatialFDR0.560.000.56

cydar.Rcheck/examples_x64/cydar-Ex.timings

nameusersystemelapsed
CyData1.640.011.66
countCells0.980.000.99
createColorBar0.020.000.01
dnaGate0.360.040.39
expandRadius0.320.000.33
findFirstSphere0.100.000.09
intensityRanges1.110.001.50
interpretSpheres1.640.011.66
labelSpheres0.010.000.02
medIntensities0.720.000.71
multiIntHist0.030.000.04
neighborDistances0.50.00.5
normalizeBatch0.180.000.17
outlierGate0.540.000.54
pickBestMarkers0.550.020.56
plotSphereIntensity0.030.000.03
plotSphereLogFC0.030.000.04
poolCells1.090.031.12
prepareCellData0.380.000.38
spatialFDR0.060.000.06