Back to Multiple platform build/check report for BioC 3.13
AB[C]DEFGHIJKLMNOPQRSTUVWXYZ

This page was generated on 2021-09-17 15:06:02 -0400 (Fri, 17 Sep 2021).

INSTALL results for customProDB on tokay2

To the developers/maintainers of the customProDB package:
- Please allow up to 24 hours (and sometimes 48 hours) for your latest push to git@git.bioconductor.org:packages/customProDB.git to
reflect on this report. See How and When does the builder pull? When will my changes propagate? here for more information.
- Make sure to use the following settings in order to reproduce any error or warning you see on this page.

raw results

Package 426/2041HostnameOS / ArchINSTALLBUILDCHECKBUILD BIN
customProDB 1.32.0  (landing page)
Xiaojing Wang
Snapshot Date: 2021-09-16 04:50:11 -0400 (Thu, 16 Sep 2021)
git_url: https://git.bioconductor.org/packages/customProDB
git_branch: RELEASE_3_13
git_last_commit: 6c740d6
git_last_commit_date: 2021-05-19 11:59:12 -0400 (Wed, 19 May 2021)
nebbiolo1Linux (Ubuntu 20.04.2 LTS) / x86_64  OK    OK    OK  UNNEEDED, same version is already published
tokay2Windows Server 2012 R2 Standard / x64  OK    OK    OK    OK  UNNEEDED, same version is already published
machv2macOS 10.14.6 Mojave / x86_64  OK    OK    OK    OK  UNNEEDED, same version is already published

Summary

Package: customProDB
Version: 1.32.0
Command: C:\cygwin\bin\curl.exe -O http://155.52.207.165/BBS/3.13/bioc/src/contrib/customProDB_1.32.0.tar.gz && rm -rf customProDB.buildbin-libdir && mkdir customProDB.buildbin-libdir && C:\Users\biocbuild\bbs-3.13-bioc\R\bin\R.exe CMD INSTALL --merge-multiarch --build --library=customProDB.buildbin-libdir customProDB_1.32.0.tar.gz && C:\Users\biocbuild\bbs-3.13-bioc\R\bin\R.exe CMD INSTALL customProDB_1.32.0.zip && rm customProDB_1.32.0.tar.gz customProDB_1.32.0.zip
StartedAt: 2021-09-16 10:09:52 -0400 (Thu, 16 Sep 2021)
EndedAt: 2021-09-16 10:10:52 -0400 (Thu, 16 Sep 2021)
EllapsedTime: 59.8 seconds
RetCode: 0
Status:   OK  

Command output

##############################################################################
##############################################################################
###
### Running command:
###
###   C:\cygwin\bin\curl.exe -O http://155.52.207.165/BBS/3.13/bioc/src/contrib/customProDB_1.32.0.tar.gz && rm -rf customProDB.buildbin-libdir && mkdir customProDB.buildbin-libdir && C:\Users\biocbuild\bbs-3.13-bioc\R\bin\R.exe CMD INSTALL --merge-multiarch --build --library=customProDB.buildbin-libdir customProDB_1.32.0.tar.gz && C:\Users\biocbuild\bbs-3.13-bioc\R\bin\R.exe CMD INSTALL customProDB_1.32.0.zip && rm customProDB_1.32.0.tar.gz customProDB_1.32.0.zip
###
##############################################################################
##############################################################################


  % Total    % Received % Xferd  Average Speed   Time    Time     Time  Current
                                 Dload  Upload   Total   Spent    Left  Speed

  0     0    0     0    0     0      0      0 --:--:-- --:--:-- --:--:--     0
100  438k  100  438k    0     0  1166k      0 --:--:-- --:--:-- --:--:-- 1169k

install for i386

* installing *source* package 'customProDB' ...
** using staged installation
** R
** inst
** byte-compile and prepare package for lazy loading
** help
*** installing help indices
  converting help for package 'customProDB'
    finding HTML links ... done
    Bed2Range                               html  
    InputVcf                                html  
    JunctionType                            html  
    Multiple_VCF                            html  
    OutputNovelJun                          html  
    OutputVarprocodingseq                   html  
    OutputVarproseq                         html  
    OutputVarproseq_single                  html  
    Outputaberrant                          html  
    Outputproseq                            html  
    OutputsharedPro                         html  
    Positionincoding                        html  
    PrepareAnnotationEnsembl                html  
    PrepareAnnotationRefseq                 html  
    SharedJunc                              html  
    Varlocation                             html  
    aaVariation                             html  
    calculateRPKM                           html  
    easyRun                                 html  
    easyRun_mul                             html  
** building package indices
** installing vignettes
** testing if installed package can be loaded from temporary location
** testing if installed package can be loaded from final location
** testing if installed package keeps a record of temporary installation path

install for x64

* installing *source* package 'customProDB' ...
** testing if installed package can be loaded
* MD5 sums
packaged installation of 'customProDB' as customProDB_1.32.0.zip
* DONE (customProDB)
* installing to library 'C:/Users/biocbuild/bbs-3.13-bioc/R/library'
package 'customProDB' successfully unpacked and MD5 sums checked